Workbook

Sheet Planilla Nacional
B2: ANEXO A - PLANILLA COTIZACIÓN BIENES DE ORIGEN NACIONAL / NACIONALIZADOS
B5: Contratación Directa N°: | D5: 12/2022 | H5: DETALLE PROVEEDOR
B6: Clase de Contratación: | D6: =+'Completar SOFSE'!B6 -> Por Compulsa Abreviada | H6: Razón Social
B7: Expediente: | D7: EX-2022-01126001- -APN-GCO#SOFSE
B8: Objeto: | D8: "REPUESTO GM CABEZADE CILINDRO CON VALVULAS COMPLETA PARA MOTOR DISEL" | H8: C.U.I.T.
H9: Tel.:
H10: E-Mail:
B11: Adjudicación : | D11: =+'Completar SOFSE'!B11 -> Por renglón | H11: Moneda:
B13: Renglón | C13: Cantidad | D13: U/M | E13: Código | F13: Descripción | G13: Referencia de Fábrica | H13: Precio Unitario | I13: I.V.A. | J13: Subtotal I.V.A. $ | K13: Subtotal (Sin I.V.A.)
B15: =+'Completar SOFSE'!A21 -> 1 | C15: 141 | D15: =VLOOKUP(B15,'Completar SOFSE'!$A$19:$E$501,3,0) -> U/M | E15: 1000000840 | F15: REP. GM. CABEZA DE CILINCDRO CON VALVULA COMPLETA PARA MOTOR DIESEL | G15: 40121467 (EX9556060) | J15: =+(C15*H15)*I15 -> 0 | K15: =+C15*H15 -> 0
B16: =+'Completar SOFSE'!A28 -> 8 | C16: =VLOOKUP(B16,'Completar SOFSE'!$A$19:$E$501,2,0) -> 0 | D16: =VLOOKUP(B16,'Completar SOFSE'!$A$19:$E$501,3,0) -> 0 | E16: =VLOOKUP(B16,'Completar SOFSE'!$A$19:$E$501,4,0) -> 0 | F16: =VLOOKUP(B16,'Completar SOFSE'!$A$19:$E$501,5,0) -> 0 | G16: =VLOOKUP(B16,'Completar SOFSE'!$A$19:$F$501,6,0) -> 0 | J16: =+(C16*H16)*I16 -> 0 | K16: =+C16*H16 -> 0
B17: =+'Completar SOFSE'!A29 -> 9 | C17: =VLOOKUP(B17,'Completar SOFSE'!$A$19:$E$501,2,0) -> 0 | D17: =VLOOKUP(B17,'Completar SOFSE'!$A$19:$E$501,3,0) -> 0 | E17: =VLOOKUP(B17,'Completar SOFSE'!$A$19:$E$501,4,0) -> 0 | F17: =VLOOKUP(B17,'Completar SOFSE'!$A$19:$E$501,5,0) -> 0 | G17: =VLOOKUP(B17,'Completar SOFSE'!$A$19:$F$501,6,0) -> 0 | J17: =+(C17*H17)*I17 -> 0 | K17: =+C17*H17 -> 0
B18: =+'Completar SOFSE'!A30 -> 10 | C18: =VLOOKUP(B18,'Completar SOFSE'!$A$19:$E$501,2,0) -> 0 | D18: =VLOOKUP(B18,'Completar SOFSE'!$A$19:$E$501,3,0) -> 0 | E18: =VLOOKUP(B18,'Completar SOFSE'!$A$19:$E$501,4,0) -> 0 | F18: =VLOOKUP(B18,'Completar SOFSE'!$A$19:$E$501,5,0) -> 0 | G18: =VLOOKUP(B18,'Completar SOFSE'!$A$19:$F$501,6,0) -> 0 | J18: =+(C18*H18)*I18 -> 0 | K18: =+C18*H18 -> 0
B19: =+'Completar SOFSE'!A31 -> 11 | C19: =VLOOKUP(B19,'Completar SOFSE'!$A$19:$E$501,2,0) -> 0 | D19: =VLOOKUP(B19,'Completar SOFSE'!$A$19:$E$501,3,0) -> 0 | E19: =VLOOKUP(B19,'Completar SOFSE'!$A$19:$E$501,4,0) -> 0 | F19: =VLOOKUP(B19,'Completar SOFSE'!$A$19:$E$501,5,0) -> 0 | G19: =VLOOKUP(B19,'Completar SOFSE'!$A$19:$F$501,6,0) -> 0 | J19: =+(C19*H19)*I19 -> 0 | K19: =+C19*H19 -> 0
B20: =+'Completar SOFSE'!A32 -> 12 | C20: =VLOOKUP(B20,'Completar SOFSE'!$A$19:$E$501,2,0) -> 0 | D20: =VLOOKUP(B20,'Completar SOFSE'!$A$19:$E$501,3,0) -> 0 | E20: =VLOOKUP(B20,'Completar SOFSE'!$A$19:$E$501,4,0) -> 0 | F20: =VLOOKUP(B20,'Completar SOFSE'!$A$19:$E$501,5,0) -> 0 | G20: =VLOOKUP(B20,'Completar SOFSE'!$A$19:$F$501,6,0) -> 0 | J20: =+(C20*H20)*I20 -> 0 | K20: =+C20*H20 -> 0
B21: =+'Completar SOFSE'!A33 -> 13 | C21: =VLOOKUP(B21,'Completar SOFSE'!$A$19:$E$501,2,0) -> 0 | D21: =VLOOKUP(B21,'Completar SOFSE'!$A$19:$E$501,3,0) -> 0 | E21: =VLOOKUP(B21,'Completar SOFSE'!$A$19:$E$501,4,0) -> 0 | F21: =VLOOKUP(B21,'Completar SOFSE'!$A$19:$E$501,5,0) -> 0 | G21: =VLOOKUP(B21,'Completar SOFSE'!$A$19:$F$501,6,0) -> 0 | J21: =+(C21*H21)*I21 -> 0 | K21: =+C21*H21 -> 0
B22: =+'Completar SOFSE'!A34 -> 14 | C22: =VLOOKUP(B22,'Completar SOFSE'!$A$19:$E$501,2,0) -> 0 | D22: =VLOOKUP(B22,'Completar SOFSE'!$A$19:$E$501,3,0) -> 0 | E22: =VLOOKUP(B22,'Completar SOFSE'!$A$19:$E$501,4,0) -> 0 | F22: =VLOOKUP(B22,'Completar SOFSE'!$A$19:$E$501,5,0) -> 0 | G22: =VLOOKUP(B22,'Completar SOFSE'!$A$19:$F$501,6,0) -> 0 | J22: =+(C22*H22)*I22 -> 0 | K22: =+C22*H22 -> 0
B23: =+'Completar SOFSE'!A35 -> 15 | C23: =VLOOKUP(B23,'Completar SOFSE'!$A$19:$E$501,2,0) -> 0 | D23: =VLOOKUP(B23,'Completar SOFSE'!$A$19:$E$501,3,0) -> 0 | E23: =VLOOKUP(B23,'Completar SOFSE'!$A$19:$E$501,4,0) -> 0 | F23: =VLOOKUP(B23,'Completar SOFSE'!$A$19:$E$501,5,0) -> 0 | G23: =VLOOKUP(B23,'Completar SOFSE'!$A$19:$F$501,6,0) -> 0 | J23: =+(C23*H23)*I23 -> 0 | K23: =+C23*H23 -> 0
B24: =+'Completar SOFSE'!A36 -> 16 | C24: =VLOOKUP(B24,'Completar SOFSE'!$A$19:$E$501,2,0) -> 0 | D24: =VLOOKUP(B24,'Completar SOFSE'!$A$19:$E$501,3,0) -> 0 | E24: =VLOOKUP(B24,'Completar SOFSE'!$A$19:$E$501,4,0) -> 0 | F24: =VLOOKUP(B24,'Completar SOFSE'!$A$19:$E$501,5,0) -> 0 | G24: =VLOOKUP(B24,'Completar SOFSE'!$A$19:$F$501,6,0) -> 0 | J24: =+(C24*H24)*I24 -> 0 | K24: =+C24*H24 -> 0
B25: =+'Completar SOFSE'!A37 -> 17 | C25: =VLOOKUP(B25,'Completar SOFSE'!$A$19:$E$501,2,0) -> 0 | D25: =VLOOKUP(B25,'Completar SOFSE'!$A$19:$E$501,3,0) -> 0 | E25: =VLOOKUP(B25,'Completar SOFSE'!$A$19:$E$501,4,0) -> 0 | F25: =VLOOKUP(B25,'Completar SOFSE'!$A$19:$E$501,5,0) -> 0 | G25: =VLOOKUP(B25,'Completar SOFSE'!$A$19:$F$501,6,0) -> 0 | J25: =+(C25*H25)*I25 -> 0 | K25: =+C25*H25 -> 0
B26: =+'Completar SOFSE'!A38 -> 18 | C26: =VLOOKUP(B26,'Completar SOFSE'!$A$19:$E$501,2,0) -> 0 | D26: =VLOOKUP(B26,'Completar SOFSE'!$A$19:$E$501,3,0) -> 0 | E26: =VLOOKUP(B26,'Completar SOFSE'!$A$19:$E$501,4,0) -> 0 | F26: =VLOOKUP(B26,'Completar SOFSE'!$A$19:$E$501,5,0) -> 0 | G26: =VLOOKUP(B26,'Completar SOFSE'!$A$19:$F$501,6,0) -> 0 | J26: =+(C26*H26)*I26 -> 0 | K26: =+C26*H26 -> 0
B27: =+'Completar SOFSE'!A39 -> 19 | C27: =VLOOKUP(B27,'Completar SOFSE'!$A$19:$E$501,2,0) -> 0 | D27: =VLOOKUP(B27,'Completar SOFSE'!$A$19:$E$501,3,0) -> 0 | E27: =VLOOKUP(B27,'Completar SOFSE'!$A$19:$E$501,4,0) -> 0 | F27: =VLOOKUP(B27,'Completar SOFSE'!$A$19:$E$501,5,0) -> 0 | G27: =VLOOKUP(B27,'Completar SOFSE'!$A$19:$F$501,6,0) -> 0 | J27: =+(C27*H27)*I27 -> 0 | K27: =+C27*H27 -> 0
... B176: =+'Completar SOFSE'!A188 -> 168 | C176: =VLOOKUP(B176,'Completar SOFSE'!$A$19:$E$501,2,0) -> 0 | D176: =VLOOKUP(B176,'Completar SOFSE'!$A$19:$E$501,3,0) -> 0 | E176: =VLOOKUP(B176,'Completar SOFSE'!$A$19:$E$501,4,0) -> 0 | F176: =VLOOKUP(B176,'Completar SOFSE'!$A$19:$E$501,5,0) -> 0 | G176: =VLOOKUP(B176,'Completar SOFSE'!$A$19:$F$501,6,0) -> 0 | J176: =+(C176*H176)*I176 -> 0 | K176: =+C176*H176 -> 0
B177: Subtotal | J177: =SUM(J15:J176) -> 0 | K177: =SUM(K15:K176) -> 0
B178: I.V.A. | K178: =J177 -> 0
B179: TOTAL | K179: =+K177+K178 -> 0
B180: Condición de pago: | D180: =+'Completar SOFSE'!B12 -> Según Pliego
B181: Plazo de entrega: | D181: =+'Completar SOFSE'!B13 -> Según Pliego
B182: Lugar de entrega: | D182: =+'Completar SOFSE'!B14 -> Según Pliego
B183: Mantenimiento de oferta: | D183: =+'Completar SOFSE'!B15 -> Según Pliego

Sheet Planilla Extranjero
B3: ANEXO B - PLANILLA COTIZACIÓN BIENES DE ORIGEN EXTRANJERO
B5: Contratación Directa N°: | D5: 12/2022 | I5: DETALLE PROVEEDOR
B6: Clase de Contratación: | D6: =+'Completar SOFSE'!B6 -> Por Compulsa Abreviada | I6: Razón Social
B7: Expediente: | D7: EX2022--01126001- -APN-GCO#SOFSE
B8: Objeto: | D8: Repuesto GM cabeza de Cilindro con Válvula Completa para Motor Diesel | I8: Identificación Tributaria
I9: Tel.:
I10: E-Mail:
B11: Adjudicación : | D11: =+'Completar SOFSE'!B11 -> Por renglón | I11: Moneda:
B13: Inconterm | C13: Renglón | D13: Cantidad | E13: U/M | F13: Código | G13: Descripción | H13: Referencia de Fábrica | I13: Precio
I14: Unitario | J14: Flete | K14: Seguro | L14: Subtotal
B15: EXW | C15: =+'Completar SOFSE'!A21 -> 1 | D15: 141 | E15: =VLOOKUP(C15,'Completar SOFSE'!$A$19:$E$501,3,0) -> U/M | F15: 1000000840 | G15: REP. GM. CABEZA DE CILINCDRO CON VALVULA COMPLETA PARA MOTOR DIESEL | H15: 40121467 (EX9556060) | L15: =I15*$D$15+J15*$D$15+K15*$D$15 -> 0
B16: FCA | L16: =I16*$D$15+J16*$D$15+K16*$D$15 -> 0
B17: FOB | L17: =I17*$D$15+J17*$D$15+K17*$D$15 -> 0
B18: CFR | L18: =I18*$D$15+J18*$D$15+K18*$D$15 -> 0
B19: CIF | L19: =I19*$D$15+J19*$D$15+K19*$D$15 -> 0
B20: CIF | L20: =I20*#REF!+J20*#REF!+K20*#REF! -> #REF!
B21: EXW | C21: =+#REF!+1 -> #REF! | D21: =VLOOKUP(C21,'Completar SOFSE'!$A$19:$E$501,2,0) -> #REF! | E21: =VLOOKUP(C21,'Completar SOFSE'!$A$19:$E$501,3,0) -> #REF! | F21: =VLOOKUP(C21,'Completar SOFSE'!$A$19:$E$501,4,0) -> #REF! | G21: =VLOOKUP(C21,'Completar SOFSE'!$A$19:$E$501,5,0) -> #REF! | H21: =VLOOKUP(C21,'Completar SOFSE'!$A$19:$F$501,6,0) -> #REF! | L21: =I21*$D$21+J21*$D$21+K21*$D$21 -> #REF!
B22: FCA | L22: =I22*$D$21+J22*$D$21+K22*$D$21 -> #REF!
B23: FOB | L23: =I23*$D$21+J23*$D$21+K23*$D$21 -> #REF!
B24: CFR | L24: =I24*$D$21+J24*$D$21+K24*$D$21 -> #REF!
B25: CIF | L25: =I25*$D$21+J25*$D$21+K25*$D$21 -> #REF!
B26: EXW | C26: =+C21+1 -> #REF! | D26: =VLOOKUP(C26,'Completar SOFSE'!$A$19:$E$501,2,0) -> #REF! | E26: =VLOOKUP(C26,'Completar SOFSE'!$A$19:$E$501,3,0) -> #REF! | F26: =VLOOKUP(C26,'Completar SOFSE'!$A$19:$E$501,4,0) -> #REF! | G26: =VLOOKUP(C26,'Completar SOFSE'!$A$19:$E$501,5,0) -> #REF! | H26: =VLOOKUP(C26,'Completar SOFSE'!$A$19:$F$501,6,0) -> #REF! | L26: =I26*$D$26+J26*$D$26+K26*$D$26 -> #REF!
B27: FCA | L27: =I27*$D$26+J27*$D$26+K27*$D$26 -> #REF!
B28: FOB | L28: =I28*$D$26+J28*$D$26+K28*$D$26 -> #REF!
B29: CFR | L29: =I29*$D$26+J29*$D$26+K29*$D$26 -> #REF!
B30: CIF | L30: =I30*$D$26+J30*$D$26+K30*$D$26 -> #REF!
B31: EXW | C31: =+C26+1 -> #REF! | D31: =VLOOKUP(C31,'Completar SOFSE'!$A$19:$E$501,2,0) -> #REF! | E31: =VLOOKUP(C31,'Completar SOFSE'!$A$19:$E$501,3,0) -> #REF! | F31: =VLOOKUP(C31,'Completar SOFSE'!$A$19:$E$501,4,0) -> #REF! | G31: =VLOOKUP(C31,'Completar SOFSE'!$A$19:$E$501,5,0) -> #REF! | H31: =VLOOKUP(C31,'Completar SOFSE'!$A$19:$F$501,6,0) -> #REF! | L31: =I31*$D$31+J31*$D$31+K31*$D$31 -> #REF!
B32: FCA | L32: =I32*$D$31+J32*$D$31+K32*$D$31 -> #REF!
B33: FOB | L33: =I33*$D$31+J33*$D$31+K33*$D$31 -> #REF!
B34: CFR | L34: =I34*$D$31+J34*$D$31+K34*$D$31 -> #REF!
B35: CIF | L35: =I35*$D$31+J35*$D$31+K35*$D$31 -> #REF!
B36: EXW | C36: =+C31+1 -> #REF! | D36: =VLOOKUP(C36,'Completar SOFSE'!$A$19:$E$501,2,0) -> #REF! | E36: =VLOOKUP(C36,'Completar SOFSE'!$A$19:$E$501,3,0) -> #REF! | F36: =VLOOKUP(C36,'Completar SOFSE'!$A$19:$E$501,4,0) -> #REF! | G36: =VLOOKUP(C36,'Completar SOFSE'!$A$19:$E$501,5,0) -> #REF! | H36: =VLOOKUP(C36,'Completar SOFSE'!$A$19:$F$501,6,0) -> #REF! | L36: =I36*$D$31+J36*$D$31+K36*$D$31 -> #REF!
B37: FCA | L37: =I37*$D$31+J37*$D$31+K37*$D$31 -> #REF!
B38: FOB | L38: =I38*$D$31+J38*$D$31+K38*$D$31 -> #REF!
B39: CFR | L39: =I39*$D$31+J39*$D$31+K39*$D$31 -> #REF!
B40: CIF | L40: =I40*$D$31+J40*$D$31+K40*$D$31 -> #REF!
B41: EXW | C41: =+C36+1 -> #REF! | D41: =VLOOKUP(C41,'Completar SOFSE'!$A$19:$E$501,2,0) -> #REF! | E41: =VLOOKUP(C41,'Completar SOFSE'!$A$19:$E$501,3,0) -> #REF! | F41: =VLOOKUP(C41,'Completar SOFSE'!$A$19:$E$501,4,0) -> #REF! | G41: =VLOOKUP(C41,'Completar SOFSE'!$A$19:$E$501,5,0) -> #REF! | H41: =VLOOKUP(C41,'Completar SOFSE'!$A$19:$F$501,6,0) -> #REF! | L41: =I41*$D$31+J41*$D$31+K41*$D$31 -> #REF!
B42: FCA | L42: =I42*$D$31+J42*$D$31+K42*$D$31 -> #REF!
B43: FOB | L43: =I43*$D$31+J43*$D$31+K43*$D$31 -> #REF!
B44: CFR | L44: =I44*$D$31+J44*$D$31+K44*$D$31 -> #REF!
B45: CIF | L45: =I45*$D$31+J45*$D$31+K45*$D$31 -> #REF!
B46: EXW | C46: =+C41+1 -> #REF! | D46: =VLOOKUP(C46,'Completar SOFSE'!$A$19:$E$501,2,0) -> #REF! | E46: =VLOOKUP(C46,'Completar SOFSE'!$A$19:$E$501,3,0) -> #REF! | F46: =VLOOKUP(C46,'Completar SOFSE'!$A$19:$E$501,4,0) -> #REF! | G46: =VLOOKUP(C46,'Completar SOFSE'!$A$19:$E$501,5,0) -> #REF! | H46: =VLOOKUP(C46,'Completar SOFSE'!$A$19:$F$501,6,0) -> #REF! | L46: =I46*$D$31+J46*$D$31+K46*$D$31 -> #REF!
B47: FCA | L47: =I47*$D$31+J47*$D$31+K47*$D$31 -> #REF!
B48: FOB | L48: =I48*$D$31+J48*$D$31+K48*$D$31 -> #REF!
B49: CFR | L49: =I49*$D$31+J49*$D$31+K49*$D$31 -> #REF!
B50: CIF | L50: =I50*$D$31+J50*$D$31+K50*$D$31 -> #REF!
B51: EXW | C51: =+C46+1 -> #REF! | D51: =VLOOKUP(C51,'Completar SOFSE'!$A$19:$E$501,2,0) -> #REF! | E51: =VLOOKUP(C51,'Completar SOFSE'!$A$19:$E$501,3,0) -> #REF! | F51: =VLOOKUP(C51,'Completar SOFSE'!$A$19:$E$501,4,0) -> #REF! | G51: =VLOOKUP(C51,'Completar SOFSE'!$A$19:$E$501,5,0) -> #REF! | H51: =VLOOKUP(C51,'Completar SOFSE'!$A$19:$F$501,6,0) -> #REF! | L51: =I51*$D$31+J51*$D$31+K51*$D$31 -> #REF!
B52: FCA | L52: =I52*$D$31+J52*$D$31+K52*$D$31 -> #REF!
B53: FOB | L53: =I53*$D$31+J53*$D$31+K53*$D$31 -> #REF!
B54: CFR | L54: =I54*$D$31+J54*$D$31+K54*$D$31 -> #REF!
B55: CIF | L55: =I55*$D$31+J55*$D$31+K55*$D$31 -> #REF!
B56: EXW | C56: =+C51+1 -> #REF! | D56: =VLOOKUP(C56,'Completar SOFSE'!$A$19:$E$501,2,0) -> #REF! | E56: =VLOOKUP(C56,'Completar SOFSE'!$A$19:$E$501,3,0) -> #REF! | F56: =VLOOKUP(C56,'Completar SOFSE'!$A$19:$E$501,4,0) -> #REF! | G56: =VLOOKUP(C56,'Completar SOFSE'!$A$19:$E$501,5,0) -> #REF! | H56: =VLOOKUP(C56,'Completar SOFSE'!$A$19:$F$501,6,0) -> #REF! | L56: =I56*$D$31+J56*$D$31+K56*$D$31 -> #REF!
B57: FCA | L57: =I57*$D$31+J57*$D$31+K57*$D$31 -> #REF!
B58: FOB | L58: =I58*$D$31+J58*$D$31+K58*$D$31 -> #REF!
B59: CFR | L59: =I59*$D$31+J59*$D$31+K59*$D$31 -> #REF!
B60: CIF | L60: =I60*$D$31+J60*$D$31+K60*$D$31 -> #REF!
B61: EXW | C61: =+C56+1 -> #REF! | D61: =VLOOKUP(C61,'Completar SOFSE'!$A$19:$E$501,2,0) -> #REF! | E61: =VLOOKUP(C61,'Completar SOFSE'!$A$19:$E$501,3,0) -> #REF! | F61: =VLOOKUP(C61,'Completar SOFSE'!$A$19:$E$501,4,0) -> #REF! | G61: =VLOOKUP(C61,'Completar SOFSE'!$A$19:$E$501,5,0) -> #REF! | H61: =VLOOKUP(C61,'Completar SOFSE'!$A$19:$F$501,6,0) -> #REF! | L61: =I61*$D$31+J61*$D$31+K61*$D$31 -> #REF!
B62: FCA | L62: =I62*$D$31+J62*$D$31+K62*$D$31 -> #REF!
B63: FOB | L63: =I63*$D$31+J63*$D$31+K63*$D$31 -> #REF!
B64: CFR | L64: =I64*$D$31+J64*$D$31+K64*$D$31 -> #REF!
B65: CIF | L65: =I65*$D$31+J65*$D$31+K65*$D$31 -> #REF!
B66: EXW | C66: =+C61+1 -> #REF! | D66: =VLOOKUP(C66,'Completar SOFSE'!$A$19:$E$501,2,0) -> #REF! | E66: =VLOOKUP(C66,'Completar SOFSE'!$A$19:$E$501,3,0) -> #REF! | F66: =VLOOKUP(C66,'Completar SOFSE'!$A$19:$E$501,4,0) -> #REF! | G66: =VLOOKUP(C66,'Completar SOFSE'!$A$19:$E$501,5,0) -> #REF! | H66: =VLOOKUP(C66,'Completar SOFSE'!$A$19:$F$501,6,0) -> #REF! | L66: =I66*$D$31+J66*$D$31+K66*$D$31 -> #REF!
B67: FCA | L67: =I67*$D$31+J67*$D$31+K67*$D$31 -> #REF!
B68: FOB | L68: =I68*$D$31+J68*$D$31+K68*$D$31 -> #REF!
B69: CFR | L69: =I69*$D$31+J69*$D$31+K69*$D$31 -> #REF!
B70: CIF | L70: =I70*$D$31+J70*$D$31+K70*$D$31 -> #REF!
B71: EXW | C71: =+C66+1 -> #REF! | D71: =VLOOKUP(C71,'Completar SOFSE'!$A$19:$E$501,2,0) -> #REF! | E71: =VLOOKUP(C71,'Completar SOFSE'!$A$19:$E$501,3,0) -> #REF! | F71: =VLOOKUP(C71,'Completar SOFSE'!$A$19:$E$501,4,0) -> #REF! | G71: =VLOOKUP(C71,'Completar SOFSE'!$A$19:$E$501,5,0) -> #REF! | H71: =VLOOKUP(C71,'Completar SOFSE'!$A$19:$F$501,6,0) -> #REF! | L71: =I71*$D$31+J71*$D$31+K71*$D$31 -> #REF!
B72: FCA | L72: =I72*$D$31+J72*$D$31+K72*$D$31 -> #REF!
B73: FOB | L73: =I73*$D$31+J73*$D$31+K73*$D$31 -> #REF!
B74: CFR | L74: =I74*$D$31+J74*$D$31+K74*$D$31 -> #REF!
B75: CIF | L75: =I75*$D$31+J75*$D$31+K75*$D$31 -> #REF!
B76: EXW | C76: =+C71+1 -> #REF! | D76: =VLOOKUP(C76,'Completar SOFSE'!$A$19:$E$501,2,0) -> #REF! | E76: =VLOOKUP(C76,'Completar SOFSE'!$A$19:$E$501,3,0) -> #REF! | F76: =VLOOKUP(C76,'Completar SOFSE'!$A$19:$E$501,4,0) -> #REF! | G76: =VLOOKUP(C76,'Completar SOFSE'!$A$19:$E$501,5,0) -> #REF! | H76: =VLOOKUP(C76,'Completar SOFSE'!$A$19:$F$501,6,0) -> #REF! | L76: =I76*$D$31+J76*$D$31+K76*$D$31 -> #REF!
B77: FCA | L77: =I77*$D$31+J77*$D$31+K77*$D$31 -> #REF!
B78: FOB | L78: =I78*$D$31+J78*$D$31+K78*$D$31 -> #REF!
B79: CFR | L79: =I79*$D$31+J79*$D$31+K79*$D$31 -> #REF!
B80: CIF | L80: =I80*$D$31+J80*$D$31+K80*$D$31 -> #REF!
B81: EXW | C81: =+C76+1 -> #REF! | D81: =VLOOKUP(C81,'Completar SOFSE'!$A$19:$E$501,2,0) -> #REF! | E81: =VLOOKUP(C81,'Completar SOFSE'!$A$19:$E$501,3,0) -> #REF! | F81: =VLOOKUP(C81,'Completar SOFSE'!$A$19:$E$501,4,0) -> #REF! | G81: =VLOOKUP(C81,'Completar SOFSE'!$A$19:$E$501,5,0) -> #REF! | H81: =VLOOKUP(C81,'Completar SOFSE'!$A$19:$F$501,6,0) -> #REF! | L81: =I81*$D$31+J81*$D$31+K81*$D$31 -> #REF!
B82: FCA | L82: =I82*$D$31+J82*$D$31+K82*$D$31 -> #REF!
B83: FOB | L83: =I83*$D$31+J83*$D$31+K83*$D$31 -> #REF!
B84: CFR | L84: =I84*$D$31+J84*$D$31+K84*$D$31 -> #REF!
B85: CIF | L85: =I85*$D$31+J85*$D$31+K85*$D$31 -> #REF!
B86: EXW | C86: =+C81+1 -> #REF! | D86: =VLOOKUP(C86,'Completar SOFSE'!$A$19:$E$501,2,0) -> #REF! | E86: =VLOOKUP(C86,'Completar SOFSE'!$A$19:$E$501,3,0) -> #REF! | F86: =VLOOKUP(C86,'Completar SOFSE'!$A$19:$E$501,4,0) -> #REF! | G86: =VLOOKUP(C86,'Completar SOFSE'!$A$19:$E$501,5,0) -> #REF! | H86: =VLOOKUP(C86,'Completar SOFSE'!$A$19:$F$501,6,0) -> #REF! | L86: =I86*$D$31+J86*$D$31+K86*$D$31 -> #REF!
B87: FCA | L87: =I87*$D$31+J87*$D$31+K87*$D$31 -> #REF!
B88: FOB | L88: =I88*$D$31+J88*$D$31+K88*$D$31 -> #REF!
B89: CFR | L89: =I89*$D$31+J89*$D$31+K89*$D$31 -> #REF!
B90: CIF | L90: =I90*$D$31+J90*$D$31+K90*$D$31 -> #REF!
B91: EXW | C91: =+C86+1 -> #REF! | D91: =VLOOKUP(C91,'Completar SOFSE'!$A$19:$E$501,2,0) -> #REF! | E91: =VLOOKUP(C91,'Completar SOFSE'!$A$19:$E$501,3,0) -> #REF! | F91: =VLOOKUP(C91,'Completar SOFSE'!$A$19:$E$501,4,0) -> #REF! | G91: =VLOOKUP(C91,'Completar SOFSE'!$A$19:$E$501,5,0) -> #REF! | H91: =VLOOKUP(C91,'Completar SOFSE'!$A$19:$F$501,6,0) -> #REF! | L91: =I91*$D$31+J91*$D$31+K91*$D$31 -> #REF!
B92: FCA | L92: =I92*$D$31+J92*$D$31+K92*$D$31 -> #REF!
B93: FOB | L93: =I93*$D$31+J93*$D$31+K93*$D$31 -> #REF!
B94: CFR | L94: =I94*$D$31+J94*$D$31+K94*$D$31 -> #REF!
B95: CIF | L95: =I95*$D$31+J95*$D$31+K95*$D$31 -> #REF!
B96: EXW | C96: =+C91+1 -> #REF! | D96: =VLOOKUP(C96,'Completar SOFSE'!$A$19:$E$501,2,0) -> #REF! | E96: =VLOOKUP(C96,'Completar SOFSE'!$A$19:$E$501,3,0) -> #REF! | F96: =VLOOKUP(C96,'Completar SOFSE'!$A$19:$E$501,4,0) -> #REF! | G96: =VLOOKUP(C96,'Completar SOFSE'!$A$19:$E$501,5,0) -> #REF! | H96: =VLOOKUP(C96,'Completar SOFSE'!$A$19:$F$501,6,0) -> #REF! | L96: =I96*$D$31+J96*$D$31+K96*$D$31 -> #REF!
B97: FCA | L97: =I97*$D$31+J97*$D$31+K97*$D$31 -> #REF!
B98: FOB | L98: =I98*$D$31+J98*$D$31+K98*$D$31 -> #REF!
B99: CFR | L99: =I99*$D$31+J99*$D$31+K99*$D$31 -> #REF!
B100: CIF | L100: =I100*$D$31+J100*$D$31+K100*$D$31 -> #REF!
B101: EXW | C101: =+C96+1 -> #REF! | D101: =VLOOKUP(C101,'Completar SOFSE'!$A$19:$E$501,2,0) -> #REF! | E101: =VLOOKUP(C101,'Completar SOFSE'!$A$19:$E$501,3,0) -> #REF! | F101: =VLOOKUP(C101,'Completar SOFSE'!$A$19:$E$501,4,0) -> #REF! | G101: =VLOOKUP(C101,'Completar SOFSE'!$A$19:$E$501,5,0) -> #REF! | H101: =VLOOKUP(C101,'Completar SOFSE'!$A$19:$F$501,6,0) -> #REF! | L101: =I101*$D$31+J101*$D$31+K101*$D$31 -> #REF!
B102: FCA | L102: =I102*$D$31+J102*$D$31+K102*$D$31 -> #REF!
B103: FOB | L103: =I103*$D$31+J103*$D$31+K103*$D$31 -> #REF!
B104: CFR | L104: =I104*$D$31+J104*$D$31+K104*$D$31 -> #REF!
...

Sheet Completar SOFSE
A3: Datos del proveedor a completar
A5: Contratación Directa N°: | B5: 92/2021 | H5: Moneda | I5: Pesos Argentinos | K5: I.V.A. | L5: 0.105
A6: Clase de Contratación: | B6: Por Compulsa Abreviada | I6: Dólares Estadounidenses | L6: 0.21
A7: Expendiente: | B7: EX-2021-102553493- -APN-GCO#SOFSE | I7: Euros | L7: 0.27
A8: Objeto: | B8: REPUESTOS PARA MOTOR DIESEL PARA LOS TURBOCOMPRESORES MODELO MTU 16V 4000R3 | I8: Otra
A10: Según Pliego:
A11: Adjudicación: | B11: Por renglón
A12: Condición de pago: | B12: Según Pliego
A13: Plazo de entrega: | B13: Según Pliego
A14: Lugar de entrega: | B14: Según Pliego
A15: Mantenimiento de oferta: | B15: Según Pliego
A17: Items a cotizar:
A19: Item | B19: Cantidad | C19: U/M | D19: Código SAP | E19: Descripción | F19: Refencia de Fábrica
A21: 1 | B21: 3 | C21: U/M | D21: 1000007828 | E21: PLAT P/TURBO DEFLE P/LOCOMOTORA CNR CKD | F21: X00035302
A22: =+A21+1 -> 2 | B22: 3 | C22: U/M | D22: 1000007838 | E22: RUEDA P/TURBO SOBREALIM P/LOCOMOTORA CNR | F22: X00041766
A23: =+A22+1 -> 3 | B23: 2 | C23: U/M | D23: 1000008103 | E23: MOD P/INTERFACE PAU X00E50210197 P/LOCOM | F23: EXX00E50206126/S00 03
A24: =+A23+1 -> 4 | B24: 3 | C24: U/M | D24: 1000007831 | E24: RUEDA P/TURBO SOBREALIM P/LOCOMOTORA CNR | F24: X59510100036
A25: =+A24+1 -> 5 | B25: 3 | C25: U/M | D25: 1000007819 | E25: CARC P/TURBOCOMP SOBREALIM SIST D/ADMI X | F25: X59510100064 (MTU)
A26: =+A25+1 -> 6 | B26: 3 | C26: U/M | D26: 1000007872 | E26: CARC P/TURB C/AISL D/TURBOCOMP SIST ADMI | F26: X59510100096 (MTU)
A27: =+A26+1 -> 7 | B27: 3 | C27: U/M | D27: 1000007827 | E27: CAJA PORTACOJIN P/TURBO P/LOCOMOTORA CNR | F27: X59610100209
A28: =+A27+1 -> 8
A29: =+A28+1 -> 9
A30: =+A29+1 -> 10
A31: =+A30+1 -> 11
A32: =+A31+1 -> 12
A33: =+A32+1 -> 13
A34: =+A33+1 -> 14
A35: =+A34+1 -> 15
A36: =+A35+1 -> 16
A37: =+A36+1 -> 17
A38: =+A37+1 -> 18
A39: =+A38+1 -> 19
... A200: =+A199+1 -> 180
