Workbook

Sheet Planilla Nacional
B2: ANEXO A - PLANILLA COTIZACIÓN BIENES DE ORIGEN NACIONAL / NACIONALIZADOS
B5: Contratación Directa N°: | D5: 12/2022 | H5: DETALLE PROVEEDOR
B6: Clase de Contratación: | D6: =+'Completar SOFSE'!B6 -> Por Compulsa Abreviada | H6: Razón Social
B7: Expediente: | D7: EX-2022-01126001- -APN-GCO#SOFSE
B8: Objeto: | D8: "REPUESTO GM CABEZADE CILINDRO CON VALVULAS COMPLETA PARA MOTOR DISEL" | H8: C.U.I.T.
H9: Tel.:
H10: E-Mail:
B11: Adjudicación : | D11: =+'Completar SOFSE'!B11 -> Por renglón | H11: Moneda:
B13: Renglón | C13: Cantidad | D13: U/M | E13: Código | F13: Descripción | G13: Referencia de Fábrica | H13: Precio Unitario | I13: I.V.A. | J13: Subtotal I.V.A. $ | K13: Subtotal (Sin I.V.A.)
B15: =+'Completar SOFSE'!A21 -> 1 | C15: 141 | D15: =VLOOKUP(B15,'Completar SOFSE'!$A$19:$E$501,3,0) -> U/M | E15: 1000000840 | F15: REP. GM. CABEZA DE CILINCDRO CON VALVULA COMPLETA PARA MOTOR DIESEL | G15: 40121467 (EX9556060) | J15: =+(C15*H15)*I15 -> 0 | K15: =+C15*H15 -> 0
B16: =+'Completar SOFSE'!A28 -> 8 | C16: =VLOOKUP(B16,'Completar SOFSE'!$A$19:$E$501,2,0) -> 0 | D16: =VLOOKUP(B16,'Completar SOFSE'!$A$19:$E$501,3,0) -> 0 | E16: =VLOOKUP(B16,'Completar SOFSE'!$A$19:$E$501,4,0) -> 0 | F16: =VLOOKUP(B16,'Completar SOFSE'!$A$19:$E$501,5,0) -> 0 | G16: =VLOOKUP(B16,'Completar SOFSE'!$A$19:$F$501,6,0) -> 0 | J16: =+(C16*H16)*I16 -> 0 | K16: =+C16*H16 -> 0
B17: =+'Completar SOFSE'!A29 -> 9 | C17: =VLOOKUP(B17,'Completar SOFSE'!$A$19:$E$501,2,0) -> 0 | D17: =VLOOKUP(B17,'Completar SOFSE'!$A$19:$E$501,3,0) -> 0 | E17: =VLOOKUP(B17,'Completar SOFSE'!$A$19:$E$501,4,0) -> 0 | F17: =VLOOKUP(B17,'Completar SOFSE'!$A$19:$E$501,5,0) -> 0 | G17: =VLOOKUP(B17,'Completar SOFSE'!$A$19:$F$501,6,0) -> 0 | J17: =+(C17*H17)*I17 -> 0 | K17: =+C17*H17 -> 0
B18: =+'Completar SOFSE'!A30 -> 10 | C18: =VLOOKUP(B18,'Completar SOFSE'!$A$19:$E$501,2,0) -> 0 | D18: =VLOOKUP(B18,'Completar SOFSE'!$A$19:$E$501,3,0) -> 0 | E18: =VLOOKUP(B18,'Completar SOFSE'!$A$19:$E$501,4,0) -> 0 | F18: =VLOOKUP(B18,'Completar SOFSE'!$A$19:$E$501,5,0) -> 0 | G18: =VLOOKUP(B18,'Completar SOFSE'!$A$19:$F$501,6,0) -> 0 | J18: =+(C18*H18)*I18 -> 0 | K18: =+C18*H18 -> 0
B19: =+'Completar SOFSE'!A31 -> 11 | C19: =VLOOKUP(B19,'Completar SOFSE'!$A$19:$E$501,2,0) -> 0 | D19: =VLOOKUP(B19,'Completar SOFSE'!$A$19:$E$501,3,0) -> 0 | E19: =VLOOKUP(B19,'Completar SOFSE'!$A$19:$E$501,4,0) -> 0 | F19: =VLOOKUP(B19,'Completar SOFSE'!$A$19:$E$501,5,0) -> 0 | G19: =VLOOKUP(B19,'Completar SOFSE'!$A$19:$F$501,6,0) -> 0 | J19: =+(C19*H19)*I19 -> 0 | K19: =+C19*H19 -> 0
B20: =+'Completar SOFSE'!A32 -> 12 | C20: =VLOOKUP(B20,'Completar SOFSE'!$A$19:$E$501,2,0) -> 0 | D20: =VLOOKUP(B20,'Completar SOFSE'!$A$19:$E$501,3,0) -> 0 | E20: =VLOOKUP(B20,'Completar SOFSE'!$A$19:$E$501,4,0) -> 0 | F20: =VLOOKUP(B20,'Completar SOFSE'!$A$19:$E$501,5,0) -> 0 | G20: =VLOOKUP(B20,'Completar SOFSE'!$A$19:$F$501,6,0) -> 0 | J20: =+(C20*H20)*I20 -> 0 | K20: =+C20*H20 -> 0
B21: =+'Completar SOFSE'!A33 -> 13 | C21: =VLOOKUP(B21,'Completar SOFSE'!$A$19:$E$501,2,0) -> 0 | D21: =VLOOKUP(B21,'Completar SOFSE'!$A$19:$E$501,3,0) -> 0 | E21: =VLOOKUP(B21,'Completar SOFSE'!$A$19:$E$501,4,0) -> 0 | F21: =VLOOKUP(B21,'Completar SOFSE'!$A$19:$E$501,5,0) -> 0 | G21: =VLOOKUP(B21,'Completar SOFSE'!$A$19:$F$501,6,0) -> 0 | J21: =+(C21*H21)*I21 -> 0 | K21: =+C21*H21 -> 0
B22: =+'Completar SOFSE'!A34 -> 14 | C22: =VLOOKUP(B22,'Completar SOFSE'!$A$19:$E$501,2,0) -> 0 | D22: =VLOOKUP(B22,'Completar SOFSE'!$A$19:$E$501,3,0) -> 0 | E22: =VLOOKUP(B22,'Completar SOFSE'!$A$19:$E$501,4,0) -> 0 | F22: =VLOOKUP(B22,'Completar SOFSE'!$A$19:$E$501,5,0) -> 0 | G22: =VLOOKUP(B22,'Completar SOFSE'!$A$19:$F$501,6,0) -> 0 | J22: =+(C22*H22)*I22 -> 0 | K22: =+C22*H22 -> 0
B23: =+'Completar SOFSE'!A35 -> 15 | C23: =VLOOKUP(B23,'Completar SOFSE'!$A$19:$E$501,2,0) -> 0 | D23: =VLOOKUP(B23,'Completar SOFSE'!$A$19:$E$501,3,0) -> 0 | E23: =VLOOKUP(B23,'Completar SOFSE'!$A$19:$E$501,4,0) -> 0 | F23: =VLOOKUP(B23,'Completar SOFSE'!$A$19:$E$501,5,0) -> 0 | G23: =VLOOKUP(B23,'Completar SOFSE'!$A$19:$F$501,6,0) -> 0 | J23: =+(C23*H23)*I23 -> 0 | K23: =+C23*H23 -> 0
B24: =+'Completar SOFSE'!A36 -> 16 | C24: =VLOOKUP(B24,'Completar SOFSE'!$A$19:$E$501,2,0) -> 0 | D24: =VLOOKUP(B24,'Completar SOFSE'!$A$19:$E$501,3,0) -> 0 | E24: =VLOOKUP(B24,'Completar SOFSE'!$A$19:$E$501,4,0) -> 0 | F24: =VLOOKUP(B24,'Completar SOFSE'!$A$19:$E$501,5,0) -> 0 | G24: =VLOOKUP(B24,'Completar SOFSE'!$A$19:$F$501,6,0) -> 0 | J24: =+(C24*H24)*I24 -> 0 | K24: =+C24*H24 -> 0
B25: =+'Completar SOFSE'!A37 -> 17 | C25: =VLOOKUP(B25,'Completar SOFSE'!$A$19:$E$501,2,0) -> 0 | D25: =VLOOKUP(B25,'Completar SOFSE'!$A$19:$E$501,3,0) -> 0 | E25: =VLOOKUP(B25,'Completar SOFSE'!$A$19:$E$501,4,0) -> 0 | F25: =VLOOKUP(B25,'Completar SOFSE'!$A$19:$E$501,5,0) -> 0 | G25: =VLOOKUP(B25,'Completar SOFSE'!$A$19:$F$501,6,0) -> 0 | J25: =+(C25*H25)*I25 -> 0 | K25: =+C25*H25 -> 0
B26: =+'Completar SOFSE'!A38 -> 18 | C26: =VLOOKUP(B26,'Completar SOFSE'!$A$19:$E$501,2,0) -> 0 | D26: =VLOOKUP(B26,'Completar SOFSE'!$A$19:$E$501,3,0) -> 0 | E26: =VLOOKUP(B26,'Completar SOFSE'!$A$19:$E$501,4,0) -> 0 | F26: =VLOOKUP(B26,'Completar SOFSE'!$A$19:$E$501,5,0) -> 0 | G26: =VLOOKUP(B26,'Completar SOFSE'!$A$19:$F$501,6,0) -> 0 | J26: =+(C26*H26)*I26 -> 0 | K26: =+C26*H26 -> 0
B27: =+'Completar SOFSE'!A39 -> 19 | C27: =VLOOKUP(B27,'Completar SOFSE'!$A$19:$E$501,2,0) -> 0 | D27: =VLOOKUP(B27,'Completar SOFSE'!$A$19:$E$501,3,0) -> 0 | E27: =VLOOKUP(B27,'Completar SOFSE'!$A$19:$E$501,4,0) -> 0 | F27: =VLOOKUP(B27,'Completar SOFSE'!$A$19:$E$501,5,0) -> 0 | G27: =VLOOKUP(B27,'Completar SOFSE'!$A$19:$F$501,6,0) -> 0 | J27: =+(C27*H27)*I27 -> 0 | K27: =+C27*H27 -> 0
... B176: =+'Completar SOFSE'!A188 -> 168 | C176: =VLOOKUP(B176,'Completar SOFSE'!$A$19:$E$501,2,0) -> 0 | D176: =VLOOKUP(B176,'Completar SOFSE'!$A$19:$E$501,3,0) -> 0 | E176: =VLOOKUP(B176,'Completar SOFSE'!$A$19:$E$501,4,0) -> 0 | F176: =VLOOKUP(B176,'Completar SOFSE'!$A$19:$E$501,5,0) -> 0 | G176: =VLOOKUP(B176,'Completar SOFSE'!$A$19:$F$501,6,0) -> 0 | J176: =+(C176*H176)*I176 -> 0 | K176: =+C176*H176 -> 0
B177: Subtotal | J177: =SUM(J15:J176) -> 0 | K177: =SUM(K15:K176) -> 0
B178: I.V.A. | K178: =J177 -> 0
B179: TOTAL | K179: =+K177+K178 -> 0
B180: Condición de pago: | D180: =+'Completar SOFSE'!B12 -> Según Pliego
B181: Plazo de entrega: | D181: =+'Completar SOFSE'!B13 -> Según Pliego
B182: Lugar de entrega: | D182: =+'Completar SOFSE'!B14 -> Según Pliego
B183: Mantenimiento de oferta: | D183: =+'Completar SOFSE'!B15 -> Según Pliego

Sheet Planilla Extranjero
B3: ANEXO B - PLANILLA COTIZACIÓN BIENES DE ORIGEN EXTRANJERO
B5: Contratación Directa N°: | D5: 12/2022 | I5: DETALLE PROVEEDOR
B6: Clase de Contratación: | D6: =+'Completar SOFSE'!B6 -> Por Compulsa Abreviada | I6: Razón Social
B7: Expediente: | D7: EX2022--01126001- -APN-GCO#SOFSE
B8: Objeto: | D8: Repuesto GM cabeza de Cilindro con Válvula Completa para Motor Diesel | I8: Identificación Tributaria
I9: Tel.:
I10: E-Mail:
B11: Adjudicación : | D11: =+'Completar SOFSE'!B11 -> Por renglón | I11: Moneda:
B13: Inconterm | C13: Renglón | D13: Cantidad | E13: U/M | F13: Código | G13: Descripción | H13: Referencia de Fábrica | I13: Precio
I14: Unitario | J14: Flete | K14: Seguro | L14: Subtotal
B15: EXW | C15: =+'Completar SOFSE'!A21 -> 1 | D15: 141 | E15: =VLOOKUP(C15,'Completar SOFSE'!$A$19:$E$501,3,0) -> U/M | F15: 1000000840 | G15: REP. GM. CABEZA DE CILINCDRO CON VALVULA COMPLETA PARA MOTOR DIESEL | H15: 40121467 (EX9556060) | L15: =I15*$D$15+J15*$D$15+K15*$D$15 -> 0
B16: FCA | L16: =I16*$D$15+J16*$D$15+K16*$D$15 -> 0
B17: FOB | L17: =I17*$D$15+J17*$D$15+K17*$D$15 -> 0
B18: CFR | L18: =I18*$D$15+J18*$D$15+K18*$D$15 -> 0
B19: CIF | L19: =I19*$D$15+J19*$D$15+K19*$D$15 -> 0
B20: CIF | L20: =I20*#REF!+J20*#REF!+K20*#REF! -> #REF!
B21: EXW | C21: =+#REF!+1 -> #REF! | D21: =VLOOKUP(C21,'Completar SOFSE'!$A$19:$E$501,2,0) -> #REF! | E21: =VLOOKUP(C21,'Completar SOFSE'!$A$19:$E$501,3,0) -> #REF! | F21: =VLOOKUP(C21,'Completar SOFSE'!$A$19:$E$501,4,0) -> #REF! | G21: =VLOOKUP(C21,'Completar SOFSE'!$A$19:$E$501,5,0) -> #REF! | H21: =VLOOKUP(C21,'Completar SOFSE'!$A$19:$F$501,6,0) -> #REF! | L21: =I21*$D$21+J21*$D$21+K21*$D$21 -> #REF!
B22: FCA | L22: =I22*$D$21+J22*$D$21+K22*$D$21 -> #REF!
B23: FOB | L23: =I23*$D$21+J23*$D$21+K23*$D$21 -> #REF!
B24: CFR | L24: =I24*$D$21+J24*$D$21+K24*$D$21 -> #REF!
B25: CIF | L25: =I25*$D$21+J25*$D$21+K25*$D$21 -> #REF!
B26: EXW | C26: =+C21+1 -> #REF! | D26: =VLOOKUP(C26,'Completar SOFSE'!$A$19:$E$501,2,0) -> #REF! | E26: =VLOOKUP(C26,'Completar SOFSE'!$A$19:$E$501,3,0) -> #REF! | F26: =VLOOKUP(C26,'Completar SOFSE'!$A$19:$E$501,4,0) -> #REF! | G26: =VLOOKUP(C26,'Completar SOFSE'!$A$19:$E$501,5,0) -> #REF! | H26: =VLOOKUP(C26,'Completar SOFSE'!$A$19:$F$501,6,0) -> #REF! | L26: =I26*$D$26+J26*$D$26+K26*$D$26 -> #REF!
B27: FCA | L27: =I27*$D$26+J27*$D$26+K27*$D$26 -> #REF!
B28: FOB | L28: =I28*$D$26+J28*$D$26+K28*$D$26 -> #REF!
B29: CFR | L29: =I29*$D$26+J29*$D$26+K29*$D$26 -> #REF!
B30: CIF | L30: =I30*$D$26+J30*$D$26+K30*$D$26 -> #REF!
B31: EXW | C31: =+C26+1 -> #REF! | D31: =VLOOKUP(C31,'Completar SOFSE'!$A$19:$E$501,2,0) -> #REF! | E31: =VLOOKUP(C31,'Completar SOFSE'!$A$19:$E$501,3,0) -> #REF! | F31: =VLOOKUP(C31,'Completar SOFSE'!$A$19:$E$501,4,0) -> #REF! | G31: =VLOOKUP(C31,'Completar SOFSE'!$A$19:$E$501,5,0) -> #REF! | H31: =VLOOKUP(C31,'Completar SOFSE'!$A$19:$F$501,6,0) -> #REF! | L31: =I31*$D$31+J31*$D$31+K31*$D$31 -> #REF!
B32: FCA | L32: =I32*$D$31+J32*$D$31+K32*$D$31 -> #REF!
B33: FOB | L33: =I33*$D$31+J33*$D$31+K33*$D$31 -> #REF!
B34: CFR | L34: =I34*$D$31+J34*$D$31+K34*$D$31 -> #REF!
B35: CIF | L35: =I35*$D$31+J35*$D$31+K35*$D$31 -> #REF!
B36: EXW | C36: =+C31+1 -> #REF! | D36: =VLOOKUP(C36,'Completar SOFSE'!$A$19:$E$501,2,0) -> #REF! | E36: =VLOOKUP(C36,'Completar SOFSE'!$A$19:$E$501,3,0) -> #REF! | F36: =VLOOKUP(C36,'Completar SOFSE'!$A$19:$E$501,4,0) -> #REF! | G36: =VLOOKUP(C36,'Completar SOFSE'!$A$19:$E$501,5,0) -> #REF! | H36: =VLOOKUP(C36,'Completar SOFSE'!$A$19:$F$501,6,0) -> #REF! | L36: =I36*$D$31+J36*$D$31+K36*$D$31 -> #REF!
B37: FCA | L37: =I37*$D$31+J37*$D$31+K37*$D$31 -> #REF!
B38: FOB | L38: =I38*$D$31+J38*$D$31+K38*$D$31 -> #REF!
B39: CFR | L39: =I39*$D$31+J39*$D$31+K39*$D$31 -> #REF!
B40: CIF | L40: =I40*$D$31+J40*$D$31+K40*$D$31 -> #REF!
B41: EXW | C41: =+C36+1 -> #REF! | D41: =VLOOKUP(C41,'Completar SOFSE'!$A$19:$E$501,2,0) -> #REF! | E41: =VLOOKUP(C41,'Completar SOFSE'!$A$19:$E$501,3,0) -> #REF! | F41: =VLOOKUP(C41,'Completar SOFSE'!$A$19:$E$501,4,0) -> #REF! | G41: =VLOOKUP(C41,'Completar SOFSE'!$A$19:$E$501,5,0) -> #REF! | H41: =VLOOKUP(C41,'Completar SOFSE'!$A$19:$F$501,6,0) -> #REF! | L41: =I41*$D$31+J41*$D$31+K41*$D$31 -> #REF!
B42: FCA | L42: =I42*$D$31+J42*$D$31+K42*$D$31 -> #REF!
B43: FOB | L43: =I43*$D$31+J43*$D$31+K43*$D$31 -> #REF!
B44: CFR | L44: =I44*$D$31+J44*$D$31+K44*$D$31 -> #REF!
...

Sheet Completar SOFSE
A3: Datos del proveedor a completar
A5: Contratación Directa N°: | B5: 92/2021 | H5: Moneda | I5: Pesos Argentinos | K5: I.V.A. | L5: 0.105
A6: Clase de Contratación: | B6: Por Compulsa Abreviada | I6: Dólares Estadounidenses | L6: 0.21
A7: Expendiente: | B7: EX-2021-102553493- -APN-GCO#SOFSE | I7: Euros | L7: 0.27
A8: Objeto: | B8: REPUESTOS PARA MOTOR DIESEL PARA LOS TURBOCOMPRESORES MODELO MTU 16V 4000R3 | I8: Otra
A10: Según Pliego:
A11: Adjudicación: | B11: Por renglón
A12: Condición de pago: | B12: Según Pliego
A13: Plazo de entrega: | B13: Según Pliego
A14: Lugar de entrega: | B14: Según Pliego
A15: Mantenimiento de oferta: | B15: Según Pliego
A17: Items a cotizar:
A19: Item | B19: Cantidad | C19: U/M | D19: Código SAP | E19: Descripción | F19: Refencia de Fábrica
A21: 1 | B21: 3 | C21: U/M | D21: 1000007828 | E21: PLAT P/TURBO DEFLE P/LOCOMOTORA CNR CKD | F21: X00035302
A22: =+A21+1 -> 2 | B22: 3 | C22: U/M | D22: 1000007838 | E22: RUEDA P/TURBO SOBREALIM P/LOCOMOTORA CNR | F22: X00041766
A23: =+A22+1 -> 3 | B23: 2 | C23: U/M | D23: 1000008103 | E23: MOD P/INTERFACE PAU X00E50210197 P/LOCOM | F23: EXX00E50206126/S00 03
A24: =+A23+1 -> 4 | B24: 3 | C24: U/M | D24: 1000007831 | E24: RUEDA P/TURBO SOBREALIM P/LOCOMOTORA CNR | F24: X59510100036
A25: =+A24+1 -> 5 | B25: 3 | C25: U/M | D25: 1000007819 | E25: CARC P/TURBOCOMP SOBREALIM SIST D/ADMI X | F25: X59510100064 (MTU)
A26: =+A25+1 -> 6 | B26: 3 | C26: U/M | D26: 1000007872 | E26: CARC P/TURB C/AISL D/TURBOCOMP SIST ADMI | F26: X59510100096 (MTU)
A27: =+A26+1 -> 7 | B27: 3 | C27: U/M | D27: 1000007827 | E27: CAJA PORTACOJIN P/TURBO P/LOCOMOTORA CNR | F27: X59610100209
A28: =+A27+1 -> 8
A29: =+A28+1 -> 9
A30: =+A29+1 -> 10
A31: =+A30+1 -> 11
A32: =+A31+1 -> 12
A33: =+A32+1 -> 13
A34: =+A33+1 -> 14
A35: =+A34+1 -> 15
A36: =+A35+1 -> 16
A37: =+A36+1 -> 17
A38: =+A37+1 -> 18
A39: =+A38+1 -> 19
... A200: =+A199+1 -> 180
