Workbook

Sheet ANEXO A- Planilla Nacional
B2: ANEXO A - PLANILLA COTIZACIÓN BIENES DE ORIGEN NACIONAL / NACIONALIZADOS
B5: Contratación Directa N°: | D5: =+'Completar SOFSE'!B5 -> 69/2019 | H5: DETALLE PROVEEDOR
B6: Clase de Contratación: | D6: =+'Completar SOFSE'!B6 -> Directa por Compulsa Abreviada | H6: Razón Social
B7: Expediente: | D7: =+'Completar SOFSE'!B7 -> EX-2019-94189677- -APN-SG#SOFSE
B8: Objeto: | D8: =+'Completar SOFSE'!B8 -> Provisión de componentes para circuitos de vía para instalaciones de señalamiento | H8: C.U.I.T.
H9: Tel.:
H10: E-Mail:
B11: Adjudicación : | D11: =+'Completar SOFSE'!B11 -> Total | H11: Moneda:
B13: Renglón | C13: Cantidad | D13: U/M | E13: Código | F13: Descripción | G13: Referencia de Fábrica | H13: Precio Unitario | I13: I.V.A. | J13: Subtotal I.V.A. $ | K13: Subtotal
B15: =+'Completar SOFSE'!A21 -> 1 | C15: =VLOOKUP(B15,'Completar SOFSE'!$A$19:$E$442,2,0) -> 18 | D15: =VLOOKUP(B15,'Completar SOFSE'!$A$19:$E$442,3,0) -> C/U | E15: =VLOOKUP(B15,'Completar SOFSE'!$A$19:$E$442,4,0) -> NUM77140044490N | F15: =VLOOKUP(B15,'Completar SOFSE'!$A$19:$E$442,5,0) -> EMISOR DE CIRCUITO DE VÍA DE AUDIO FRECUENCIA PSO 4000 - SIEMENS | G15: =VLOOKUP(B15,'Completar SOFSE'!$A$19:$F$442,6,0) -> 0 | J15: =+(C15*H15)*I15 -> 0 | K15: =+C15*H15 -> 0
B16: Subtotal | J16: =SUM(J15:J15) -> 0 | K16: =SUM(K15:K15) -> 0
B17: I.V.A. | K17: =+J16 -> 0
B18: TOTAL | K18: =+K16+K17 -> 0
B19: Condición de pago: | D19: =+'Completar SOFSE'!B12 -> Según artículo 32° del PCP
B20: Plazo de entrega: | D20: =+'Completar SOFSE'!B13 -> Según artículo 7° del PCP
B21: Lugar de entrega: | D21: =+'Completar SOFSE'!B14 -> Según artículo 8° del PCP
B22: Mantenimiento de oferta: | D22: =+'Completar SOFSE'!B15 -> Según Artículo 117 del R.C.C.

Sheet ANEXO B- Planilla Extranjero
B3: ANEXO B - PLANILLA COTIZACIÓN BIENES DE ORIGEN EXTRANJERO
B5: Contratación Directa N°: | D5: =+'Completar SOFSE'!B5 -> 69/2019 | I5: DETALLE PROVEEDOR
B6: Clase de Contratación: | D6: =+'Completar SOFSE'!B6 -> Directa por Compulsa Abreviada | I6: Razón Social
B7: Expediente: | D7: =+'Completar SOFSE'!B7 -> EX-2019-94189677- -APN-SG#SOFSE
B8: Objeto: | D8: =+'Completar SOFSE'!B8 -> Provisión de componentes para circuitos de vía para instalaciones de señalamiento | I8: Identificación Tributaria
I9: Tel.:
I10: E-Mail:
B11: Adjudicación : | D11: =+'Completar SOFSE'!B11 -> Total | I11: Moneda:
B13: Inconterm | C13: Renglón | D13: Cantidad | E13: U/M | F13: Código | G13: Descripción | H13: Referencia de Fábrica | I13: Precio
I14: Unitario | J14: Flete | K14: Seguro | L14: Subtotal
B15: EXW | C15: =+'Completar SOFSE'!A21 -> 1 | D15: =VLOOKUP(C15,'Completar SOFSE'!$A$19:$E$442,2,0) -> 18 | E15: =VLOOKUP(C15,'Completar SOFSE'!$A$19:$E$442,3,0) -> C/U | F15: =VLOOKUP(C15,'Completar SOFSE'!$A$19:$E$442,4,0) -> NUM77140044490N | G15: =VLOOKUP(C15,'Completar SOFSE'!$A$19:$E$442,5,0) -> EMISOR DE CIRCUITO DE VÍA DE AUDIO FRECUENCIA PSO 4000 - SIEMENS | H15: =VLOOKUP(C15,'Completar SOFSE'!$A$19:$F$442,6,0) -> 0 | L15: =I15*$D$15+J15*$D$15+K15*$D$15 -> 0
B16: FCA | L16: =I16*$D$15+J16*$D$15+K16*$D$15 -> 0
B17: FOB | L17: =I17*$D$15+J17*$D$15+K17*$D$15 -> 0
B18: CFR | L18: =I18*$D$15+J18*$D$15+K18*$D$15 -> 0
B19: CIF | L19: =I19*$D$15+J19*$D$15+K19*$D$15 -> 0
B20: Total | I20: =SUM(L15:L19) -> 0
B21: Lugar de cumplimiento de Incoterm (Ciudad/País):
B22: Condición de Pago: | D22: =+'Completar SOFSE'!D12 -> Según artículo 33° del PCP
B23: Plazo de Entrega: | D23: =+'Completar SOFSE'!B13 -> Según artículo 7° del PCP
B24: Mantenimiento de Oferta: | D24: =+'Completar SOFSE'!B15 -> Según Artículo 117 del R.C.C.

Sheet Completar SOFSE
A3: Datos del proveedor a completar
A5: Contratación Directa N°: | B5: 69/2019 | H5: Moneda | I5: Pesos Argentinos | K5: I.V.A. | L5: 0.105
A6: Clase de Contratación: | B6: Directa por Compulsa Abreviada | I6: Dólares Estadounidenses | L6: 0.21
A7: Expendiente: | B7: EX-2019-94189677- -APN-SG#SOFSE | I7: Euros | L7: 0.27
A8: Objeto: | B8: Provisión de componentes para circuitos de vía para instalaciones de señalamiento | I8: Otra
A10: Según Pliego:
A11: Adjudicación: | B11: Total
A12: Condición de pago: | B12: Según artículo 32° del PCP | D12: Según artículo 33° del PCP
A13: Plazo de entrega: | B13: Según artículo 7° del PCP
A14: Lugar de entrega: | B14: Según artículo 8° del PCP
A15: Mantenimiento de oferta: | B15: Según Artículo 117 del R.C.C.
A17: Items a cotizar:
A19: Item | B19: Cantidad | C19: U/M | D19: Código | E19: Descripción | F19: Refencia de Fábrica
A21: 1 | B21: 18 | C21: C/U | D21: NUM77140044490N | E21: EMISOR DE CIRCUITO DE VÍA DE AUDIO FRECUENCIA PSO 4000 - SIEMENS
