Workbook

Sheet Planilla Nacional - ANEXO A
B2: ANEXO A - PLANILLA COTIZACIÓN BIENES DE ORIGEN NACIONAL / NACIONALIZADOS
B5: Contratación Directa N°: | D5: =+'Completar SOFSE'!B5 -> 08/2020 | H5: DETALLE PROVEEDOR
B6: Clase de Contratación: | D6: =+'Completar SOFSE'!B6 -> Por Compulsa Abreviada | H6: Razón Social
B7: Expediente: | D7: =+'Completar SOFSE'!B7 -> EX-2019-94099574- -APN-SG#SOFSE
B8: Objeto: | D8: =+'Completar SOFSE'!B8 -> ADQUISICIÓN DE TARJETAS ELECTRÓNICAS UTA CAF KNORR BREMSE | H8: C.U.I.T.
H9: Tel.:
H10: E-Mail:
H11: Moneda:
B13: Renglón | C13: Cantidad | D13: U/M | E13: Código | F13: Descripción | G13: REFERENCIA DE FÁBRICA (Knorr Bremse) | H13: Precio Unitario | I13: I.V.A. | J13: Subtotal I.V.A. $ | K13: Subtotal
B15: =+'Completar SOFSE'!A22 -> 1 | C15: =+'Completar SOFSE'!B22 -> 10 | D15: =+'Completar SOFSE'!C22 -> C/U | E15: =+'Completar SOFSE'!D22 -> NUM43540110120N | F15: =+'Completar SOFSE'!E22 -> Tarjeta VA. Módulo neumático de control. | G15: =+'Completar SOFSE'!F22 -> STN24797 | J15: =+(C15*H15)*I15 -> 0 | K15: =+C15*H15 -> 0
B16: =+'Completar SOFSE'!A23 -> 2 | C16: =+'Completar SOFSE'!B23 -> 10 | D16: =+'Completar SOFSE'!C23 -> C/U | E16: =+'Completar SOFSE'!D23 -> NUM43540110140N | F16: =+'Completar SOFSE'!E23 -> Tarjeta T. Módulo neumático de control. | G16: =+'Completar SOFSE'!F23 -> STN24798/110 | J16: =+(C16*H16)*I16 -> 0 | K16: =+C16*H16 -> 0
B17: =+'Completar SOFSE'!A24 -> 3 | C17: =+'Completar SOFSE'!B24 -> 10 | D17: =+'Completar SOFSE'!C24 -> C/U | E17: =+'Completar SOFSE'!D24 -> NUM43540110200N | F17: =+'Completar SOFSE'!E24 -> Tarjeta EPA. Módulo neumático de control | G17: =+'Completar SOFSE'!F24 -> STN24790 | J17: =+(C17*H17)*I17 -> 0 | K17: =+C17*H17 -> 0
B18: =+'Completar SOFSE'!A25 -> 4 | C18: =+'Completar SOFSE'!B25 -> 10 | D18: =+'Completar SOFSE'!C25 -> C/U | E18: =+'Completar SOFSE'!D25 -> NUM43540110240N | F18: =+'Completar SOFSE'!E25 -> Tarjeta CP. Módulo neumático de control | G18: =+'Completar SOFSE'!F25 -> STN24795 | J18: =+(C18*H18)*I18 -> 0 | K18: =+C18*H18 -> 0
B19: =+'Completar SOFSE'!A26 -> 5 | C19: =+'Completar SOFSE'!B26 -> 10 | D19: =+'Completar SOFSE'!C26 -> C/U | E19: =+'Completar SOFSE'!D26 -> NUM43540110260N | F19: =+'Completar SOFSE'!E26 -> Tarjeta SS1. Módulo neumático de control | G19: =+'Completar SOFSE'!F26 -> STN24789/110 | J19: =+(C19*H19)*I19 -> 0 | K19: =+C19*H19 -> 0
B20: =+'Completar SOFSE'!A27 -> 6 | C20: =+'Completar SOFSE'!B27 -> 10 | D20: =+'Completar SOFSE'!C27 -> C/U | E20: =+'Completar SOFSE'!D27 -> NUM43540110280N | F20: =+'Completar SOFSE'!E27 -> Tarjeta AD. Módulo neumático de control | G20: =+'Completar SOFSE'!F27 -> STN24792 | J20: =+(C20*H20)*I20 -> 0 | K20: =+C20*H20 -> 0
B21: =+'Completar SOFSE'!A28 -> 7 | C21: =+'Completar SOFSE'!B28 -> 10 | D21: =+'Completar SOFSE'!C28 -> C/U | E21: =+'Completar SOFSE'!D28 -> NUM43540110300N | F21: =+'Completar SOFSE'!E28 -> Tarjeta SV. Módulo neumático de control | G21: =+'Completar SOFSE'!F28 -> STN24788/110 | J21: =+(C21*H21)*I21 -> 0 | K21: =+C21*H21 -> 0
B22: Subtotal | J22: =SUM(J15:J21) -> 0 | K22: =SUM(K15:K21) -> 0
B23: I.V.A. | K23: =J22 -> 0
B24: TOTAL | K24: =+K22+K23 -> 0
B25: Condición de pago: | D25: =+'Completar SOFSE'!B12 -> Según Artículo 33 del PCP
B26: Lugar de entrega: | D26: =+'Completar SOFSE'!B13 -> Según Artículo 8 del PCP
B27: Plazo de entrega: | D27: =+'Completar SOFSE'!B14 -> Según Artículo 7 del PCP
B28: Mantenimiento de oferta: | D28: =+'Completar SOFSE'!B15 -> Según Artículo 117 del R.C.C.

Sheet Planilla Extranjero - ANEXO A
B3: ANEXO A - PLANILLA COTIZACIÓN BIENES DE ORIGEN EXTRANJERO
B5: Contratación Directa N°: | D5: =+'Completar SOFSE'!B5 -> 08/2020 | I5: DETALLE PROVEEDOR
B6: Clase de Contratación: | D6: Por exclusividad | I6: Razón Social
B7: Expediente: | D7: =+'Completar SOFSE'!B7 -> EX-2019-94099574- -APN-SG#SOFSE
B8: Objeto: | D8: =+'Completar SOFSE'!B8 -> ADQUISICIÓN DE TARJETAS ELECTRÓNICAS UTA CAF KNORR BREMSE | I8: Identificación Tributaria
I9: Tel.:
I10: E-Mail:
I11: Moneda:
B13: Inconterms | C13: Renglón | D13: Cantidad | E13: U/M | F13: Código | G13: Descripción | H13: REFERENCIA DE FÁBRICA (Knorr Bremse) | I13: Precio
I14: Unitario | J14: Flete Unitario | K14: Seguro Unitario | L14: Subtotal
B15: EXW | C15: =+'Completar SOFSE'!A22 -> 1 | D15: =VLOOKUP(C15,'Completar SOFSE'!$A$20:$E$192,2,0) -> 10 | E15: =VLOOKUP(C15,'Completar SOFSE'!$A$20:$E$192,3,0) -> C/U | F15: =VLOOKUP(C15,'Completar SOFSE'!$A$20:$E$192,4,0) -> NUM43540110120N | G15: =VLOOKUP(C15,'Completar SOFSE'!$A$20:$E$192,5,0) -> Tarjeta VA. Módulo neumático de control. | H15: =+'Completar SOFSE'!F22 -> STN24797 | L15: =I15*D15 -> 0
B16: FCA | L16: =I16*D15 -> 0
B17: FOB | L17: =I17*D15 -> 0
B18: CFR | L18: =(I18*D15)+(J18*D15) -> 0
B19: CIF | L19: =(I19*D15)+(J19*D15)+(K19*D15) -> 0
B20: EXW | C20: 2 | D20: =VLOOKUP(C20,'Completar SOFSE'!$A$20:$E$192,2,0) -> 10 | E20: =VLOOKUP(C20,'Completar SOFSE'!$A$20:$E$192,3,0) -> C/U | F20: =VLOOKUP(C20,'Completar SOFSE'!$A$20:$E$192,4,0) -> NUM43540110140N | G20: =VLOOKUP(C20,'Completar SOFSE'!$A$20:$E$192,5,0) -> Tarjeta T. Módulo neumático de control. | H20: STN24798/110 | L20: =I20*D20 -> 0
B21: FCA | L21: =I21*D20 -> 0
B22: FOB | L22: =I22*D20 -> 0
B23: CFR | L23: =(I23*D20)+(J23*D20) -> 0
B24: CIF | L24: =(I24*D20)+(J24*D20)+(K24*D20) -> 0
B25: EXW | C25: 3 | D25: =VLOOKUP(C25,'Completar SOFSE'!$A$20:$E$192,2,0) -> 10 | E25: =VLOOKUP(C25,'Completar SOFSE'!$A$20:$E$192,3,0) -> C/U | F25: =VLOOKUP(C25,'Completar SOFSE'!$A$20:$E$192,4,0) -> NUM43540110200N | G25: =VLOOKUP(C25,'Completar SOFSE'!$A$20:$E$192,5,0) -> Tarjeta EPA. Módulo neumático de control | H25: STN24790 | L25: =I25*D25 -> 0
B26: FCA | L26: =I26*D25 -> 0
B27: FOB | L27: =I27*D25 -> 0
B28: CFR | L28: =(I28*D25)+(J28*D25) -> 0
B29: CIF | L29: =(I29*D25)+(J29*D25)+(K29*D25) -> 0
B30: EXW | C30: 4 | D30: =VLOOKUP(C30,'Completar SOFSE'!$A$20:$E$192,2,0) -> 10 | E30: =VLOOKUP(C30,'Completar SOFSE'!$A$20:$E$192,3,0) -> C/U | F30: =VLOOKUP(C30,'Completar SOFSE'!$A$20:$E$192,4,0) -> NUM43540110240N | G30: =VLOOKUP(C30,'Completar SOFSE'!$A$20:$E$192,5,0) -> Tarjeta CP. Módulo neumático de control | H30: STN24795 | L30: =I30*D30 -> 0
B31: FCA | L31: =I31*D30 -> 0
B32: FOB | L32: =I32*D30 -> 0
B33: CFR | L33: =(I33*D30)+(J33*D30) -> 0
B34: CIF | L34: =(I34*D30)+(J34*D30)+(K34*D30) -> 0
B35: EXW | C35: 5 | D35: =VLOOKUP(C35,'Completar SOFSE'!$A$20:$E$192,2,0) -> 10 | E35: =VLOOKUP(C35,'Completar SOFSE'!$A$20:$E$192,3,0) -> C/U | F35: =VLOOKUP(C35,'Completar SOFSE'!$A$20:$E$192,4,0) -> NUM43540110260N | G35: =VLOOKUP(C35,'Completar SOFSE'!$A$20:$E$192,5,0) -> Tarjeta SS1. Módulo neumático de control | H35: STN24789/110 | L35: =I35*D35 -> 0
B36: FCA | L36: =I36*D35 -> 0
B37: FOB | L37: =I37*D35 -> 0
B38: CFR | L38: =(I38*D35)+(J38*D35) -> 0
B39: CIF | L39: =(I39*D35)+(J39*D35)+(K39*D35) -> 0
B40: EXW | C40: 6 | D40: =VLOOKUP(C40,'Completar SOFSE'!$A$20:$E$192,2,0) -> 10 | E40: =VLOOKUP(C40,'Completar SOFSE'!$A$20:$E$192,3,0) -> C/U | F40: =VLOOKUP(C40,'Completar SOFSE'!$A$20:$E$192,4,0) -> NUM43540110280N | G40: =VLOOKUP(C40,'Completar SOFSE'!$A$20:$E$192,5,0) -> Tarjeta AD. Módulo neumático de control | H40: STN24792 | L40: =I40*D40 -> 0
B41: FCA | L41: =I41*D40 -> 0
B42: FOB | L42: =I42*D40 -> 0
B43: CFR | L43: =(I43*D40)+(J43*D40) -> 0
B44: CIF | L44: =(I44*D40)+(J44*D40)+(K44*D40) -> 0
B45: EXW | C45: 7 | D45: =VLOOKUP(C45,'Completar SOFSE'!$A$20:$E$192,2,0) -> 10 | E45: =VLOOKUP(C45,'Completar SOFSE'!$A$20:$E$192,3,0) -> C/U | F45: =VLOOKUP(C45,'Completar SOFSE'!$A$20:$E$192,4,0) -> NUM43540110300N | G45: =VLOOKUP(C45,'Completar SOFSE'!$A$20:$E$192,5,0) -> Tarjeta SV. Módulo neumático de control | H45: STN24788/110 | L45: =I45*D45 -> 0
B46: FCA | L46: =I46*D45 -> 0
B47: FOB | L47: =I47*D45 -> 0
B48: CFR | L48: =(I48*D45)+(J48*D45) -> 0
B49: CIF | L49: =(I49*D45)+(J49*D45)+(K49*D45) -> 0
B50: Total | I50: =SUM(L15:L49) -> 0
B51: Lugar de cumplimiento de Incoterm (Ciudad/País):
B52: Condición de Pago: | D52: Según Artículo 33 del PCP
B53: Plazo de Entrega: | D53: =+'Completar SOFSE'!B14 -> Según Artículo 7 del PCP
B54: Mantenimiento de Oferta: | D54: =+'Completar SOFSE'!B15 -> Según Artículo 117 del R.C.C.

Sheet Completar SOFSE
A3: Datos del proveedor a completar
A5: Contratación Directa N°: | B5: 08/2020 | H5: Moneda | I5: Pesos Argentinos | K5: I.V.A. | L5: 0.105
A6: Clase de Contratación: | B6: Por Compulsa Abreviada | I6: Dólares Estadounidenses | L6: 0.21
A7: Expendiente: | B7: EX-2019-94099574- -APN-SG#SOFSE | I7: Euros | L7: 0.27
A8: Objeto: | B8: ADQUISICIÓN DE TARJETAS ELECTRÓNICAS UTA CAF KNORR BREMSE | I8: Otra
A10: Según Pliego:
A12: Condición de pago: | B12: Según Artículo 33 del PCP | D12: Según Artículo 34 del PCP
A13: Lugar de entrega: | B13: Según Artículo 8 del PCP
A14: Plazo de entrega: | B14: Según Artículo 7 del PCP
A15: Mantenimiento de oferta: | B15: Según Artículo 117 del R.C.C.
A18: Items a cotizar:
A20: Item | B20: Cantidad | C20: U/M | D20: Código NUM | E20: Descripción | F20: REFERENCIA DE FÁBRICA (Knorr Bremse)
A22: 1 | B22: 10 | C22: C/U | D22: NUM43540110120N | E22: Tarjeta VA. Módulo neumático de control. | F22: STN24797
A23: 2 | B23: 10 | C23: C/U | D23: NUM43540110140N | E23: Tarjeta T. Módulo neumático de control. | F23: STN24798/110
A24: 3 | B24: 10 | C24: C/U | D24: NUM43540110200N | E24: Tarjeta EPA. Módulo neumático de control | F24: STN24790
A25: 4 | B25: 10 | C25: C/U | D25: NUM43540110240N | E25: Tarjeta CP. Módulo neumático de control | F25: STN24795
A26: 5 | B26: 10 | C26: C/U | D26: NUM43540110260N | E26: Tarjeta SS1. Módulo neumático de control | F26: STN24789/110
A27: 6 | B27: 10 | C27: C/U | D27: NUM43540110280N | E27: Tarjeta AD. Módulo neumático de control | F27: STN24792
A28: 7 | B28: 10 | C28: C/U | D28: NUM43540110300N | E28: Tarjeta SV. Módulo neumático de control | F28: STN24788/110
