Workbook

Sheet Planilla Extranjero
B3: ANEXO B - PLANILLA COTIZACIÓN BIENES DE ORIGEN EXTRANJERO
B5: Contratación Directa N°: | J5: DETALLE PROVEEDOR
B6: Clase de Contratación: | J6: Razón Social
B7: Expediente:
B8: Objeto: | J8: Identificación Tributaria
J9: Tel.:
J10: E-Mail:
B11: Adjudicación : | J11: Moneda:
B13: Inconterm | C13: Renglón | D13: Cantidad | E13: U/M | F13: Código SAP | G13: Descripción | H13: Referencia de Fábrica | I13: Plano | J13: Precio
J14: Unitario | K14: Flete | L14: Seguro | M14: Subtotal
B15: EXW | C15: 1 | D15: =INDEX('Planilla Nacional'!$C$15:$H$66,(ROW()-1)/5-1,1) -> 10 | E15: =INDEX('Planilla Nacional'!$C$15:$H$66,(ROW()-1)/5-1,2) -> C/U | F15: =INDEX('Planilla Nacional'!$C$15:$H$66,(ROW()-1)/5-1,3) -> 1000000432 | G15: =INDEX('Planilla Nacional'!$C$15:$H$66,(ROW()-1)/5-1,4) -> REGULADOR FRENO 9334229 P/LOCOMOTORA GM | H15: =INDEX('Planilla Nacional'!$C$15:$H$66,(ROW()-1)/5-1,5) -> 9334229 | I15: =INDEX('Planilla Nacional'!$C$15:$H$66,(ROW()-1)/5-1,6) -> -- | M15: =J15*$D$15+K15*$D$15+L15*$D$15 -> 0
B16: FCA | M16: =J16*$D$15+K16*$D$15+L16*$D$15 -> 0
B17: FOB | M17: =J17*$D$15+K17*$D$15+L17*$D$15 -> 0
B18: CFR | M18: =J18*$D$15+K18*$D$15+L18*$D$15 -> 0
B19: CIF | M19: =J19*$D$15+K19*$D$15+L19*$D$15 -> 0
B20: EXW | C20: 2 | D20: =INDEX('Planilla Nacional'!$C$15:$H$66,(ROW()-1)/5-1,1) -> 5 | E20: =INDEX('Planilla Nacional'!$C$15:$H$66,(ROW()-1)/5-1,2) -> C/U | F20: =INDEX('Planilla Nacional'!$C$15:$H$66,(ROW()-1)/5-1,3) -> 1000000437 | G20: =INDEX('Planilla Nacional'!$C$15:$H$66,(ROW()-1)/5-1,4) -> REGUL P/TIMON FRENO P/BOGIE GHC 40039041 | H20: =INDEX('Planilla Nacional'!$C$15:$H$66,(ROW()-1)/5-1,5) -> 40039041 | I20: =INDEX('Planilla Nacional'!$C$15:$H$66,(ROW()-1)/5-1,6) -> --
B21: FCA
B22: FOB
B23: CFR
B24: CIF
B25: EXW | C25: 3 | D25: =INDEX('Planilla Nacional'!$C$15:$H$66,(ROW()-1)/5-1,1) -> 5 | E25: =INDEX('Planilla Nacional'!$C$15:$H$66,(ROW()-1)/5-1,2) -> C/U | F25: =INDEX('Planilla Nacional'!$C$15:$H$66,(ROW()-1)/5-1,3) -> 1000000441 | G25: =INDEX('Planilla Nacional'!$C$15:$H$66,(ROW()-1)/5-1,4) -> REGUL P/BOGIE GHC 40049252 P/LOCOMOTORA | H25: =INDEX('Planilla Nacional'!$C$15:$H$66,(ROW()-1)/5-1,5) -> 40049252 | I25: =INDEX('Planilla Nacional'!$C$15:$H$66,(ROW()-1)/5-1,6) -> --
B26: FCA
B27: FOB
B28: CFR
B29: CIF
B30: EXW | C30: 4 | D30: =INDEX('Planilla Nacional'!$C$15:$H$66,(ROW()-1)/5-1,1) -> 3 | E30: =INDEX('Planilla Nacional'!$C$15:$H$66,(ROW()-1)/5-1,2) -> C/U | F30: =INDEX('Planilla Nacional'!$C$15:$H$66,(ROW()-1)/5-1,3) -> 1000000643 | G30: =INDEX('Planilla Nacional'!$C$15:$H$66,(ROW()-1)/5-1,4) -> VASTAGO D/OPER P/PERS LADO DER - COMPL | H30: =INDEX('Planilla Nacional'!$C$15:$H$66,(ROW()-1)/5-1,5) -> 8204311 | I30: =INDEX('Planilla Nacional'!$C$15:$H$66,(ROW()-1)/5-1,6) -> --
B31: FCA
B32: FOB
B33: CFR
B34: CIF
B35: EXW | C35: 5 | D35: =INDEX('Planilla Nacional'!$C$15:$H$66,(ROW()-1)/5-1,1) -> 66 | E35: =INDEX('Planilla Nacional'!$C$15:$H$66,(ROW()-1)/5-1,2) -> C/U | F35: =INDEX('Planilla Nacional'!$C$15:$H$66,(ROW()-1)/5-1,3) -> 1000000844 | G35: =INDEX('Planilla Nacional'!$C$15:$H$66,(ROW()-1)/5-1,4) -> GUIA P/VALV ESC P/LOC G22CU-2 8310840 | H35: =INDEX('Planilla Nacional'!$C$15:$H$66,(ROW()-1)/5-1,5) -> 8310840 | I35: =INDEX('Planilla Nacional'!$C$15:$H$66,(ROW()-1)/5-1,6) -> --
B36: FCA
B37: FOB
B38: CFR
B39: CIF
B40: EXW | C40: 6 | D40: =INDEX('Planilla Nacional'!$C$15:$H$66,(ROW()-1)/5-1,1) -> 6 | E40: =INDEX('Planilla Nacional'!$C$15:$H$66,(ROW()-1)/5-1,2) -> C/U | F40: =INDEX('Planilla Nacional'!$C$15:$H$66,(ROW()-1)/5-1,3) -> 1000001070 | G40: =INDEX('Planilla Nacional'!$C$15:$H$66,(ROW()-1)/5-1,4) -> ENGRAN P/IMP VENTI ROOTS 8483946 P/LOCOM | H40: =INDEX('Planilla Nacional'!$C$15:$H$66,(ROW()-1)/5-1,5) -> 8483946 | I40: =INDEX('Planilla Nacional'!$C$15:$H$66,(ROW()-1)/5-1,6) -> --
B41: FCA
B42: FOB
B43: CFR
B44: CIF
...

Sheet Planilla Nacional
B2: ANEXO A - PLANILLA COTIZACIÓN BIENES DE ORIGEN NACIONAL / NACIONALIZADOS
B5: Contratación Directa N°: | I5: DETALLE PROVEEDOR
B6: Clase de Contratación: | I6: Razón Social
B7: Expediente:
B8: Objeto: | I8: C.U.I.T.
I9: Tel.:
I10: E-Mail:
B11: Adjudicación : | I11: Moneda:
B13: Renglón | C13: Cantidad | D13: U/M | E13: Código SAP | F13: Descripción | G13: Referencia de Fábrica | H13: Plano | I13: Precio Unitario | J13: I.V.A. | K13: Subtotal I.V.A. $ | L13: Subtotal (sin I.V.A.)
B15: 1 | C15: 10 | D15: C/U | E15: 1000000432 | F15: REGULADOR FRENO 9334229 P/LOCOMOTORA GM | G15: 9334229 | H15: -- | K15: =+(C15*I15)*J15 -> 0 | L15: =+C15*I15 -> 0
B16: 2 | C16: 5 | D16: C/U | E16: 1000000437 | F16: REGUL P/TIMON FRENO P/BOGIE GHC 40039041 | G16: 40039041 | H16: -- | K16: =+(C16*I16)*J16 -> 0 | L16: =+C16*I16 -> 0
B17: 3 | C17: 5 | D17: C/U | E17: 1000000441 | F17: REGUL P/BOGIE GHC 40049252 P/LOCOMOTORA | G17: 40049252 | H17: -- | L17: =+C17*I17 -> 0
B18: 4 | C18: 3 | D18: C/U | E18: 1000000643 | F18: VASTAGO D/OPER P/PERS LADO DER - COMPL | G18: 8204311 | H18: -- | L18: =+C18*I18 -> 0
B19: 5 | C19: 66 | D19: C/U | E19: 1000000844 | F19: GUIA P/VALV ESC P/LOC G22CU-2 8310840 | G19: 8310840 | H19: -- | L19: =+C19*I19 -> 0
B20: 6 | C20: 6 | D20: C/U | E20: 1000001070 | F20: ENGRAN P/IMP VENTI ROOTS 8483946 P/LOCOM | G20: 8483946 | H20: -- | L20: =+C20*I20 -> 0
B21: 7 | C21: 4 | D21: C/U | E21: 1000001200 | F21: ACOP P/ACOPLADOR AUXILIARES 8323180 | G21: 8323180 | H21: -- | L21: =+C21*I21 -> 0
B22: 8 | C22: 1 | D22: C/U | E22: 1000001640 | F22: TANQUE COMB COMPL 8469366 P/GM | G22: 8469366 | H22: -- | L22: =+C22*I22 -> 0
B23: 9 | C23: 10 | D23: C/U | E23: 1000001664 | F23: VAST P/VALV MEDID COMB 8161169 ,PLANO: | G23: 8161169 | H23: 0-08-3-7170 | L23: =+C23*I23 -> 0
B24: 10 | C24: 14 | D24: C/U | E24: 1000001668 | F24: TUBO VIDRIO NIVEL P/TANQUE COMB 8245707 | G24: 8245707 | H24: -- | L24: =+C24*I24 -> 0
B25: 11 | C25: 4 | D25: C/U | E25: 1000001673 | F25: RESGUARDO P/TUBO NIVEL DER 8399676 | G25: 8399676 | H25: -- | L25: =+C25*I25 -> 0
B26: 12 | C26: 6 | D26: C/U | E26: 1000001746 | F26: ENGRAN P/LADO TRANS IMPULSOR 8084510 P/L | G26: 8084510 | H26: -- | L26: =+C26*I26 -> 0
B27: 13 | C27: 6 | D27: C/U | E27: 1000001750 | F27: ENGRAN P/LADO TAPA IMPULSADO 8029492 P/L | G27: 8029492 | H27: -- | L27: =+C27*I27 -> 0
B28: 14 | C28: 6 | D28: C/U | E28: 1000001753 | F28: ENGRAN P/LADO TAPA IMPULSOR 8029533 P/LO | G28: 8029533 | H28: -- | L28: =+C28*I28 -> 0
... B46: 32 | C46: 8 | D46: C/U | E46: 1000002692 | F46: VALV P/TANQ PPAL 8451213 P/GM | G46: 8451213 | H46: -- | L46: =+C46*I46 -> 0
B47: 33 | C47: 2 | D47: C/U | E47: 1000002705 | F47: MANIPULADOR D/FRENO P/SIST NEU/FRENO | G47: 142.111.0 | H47: -- | L47: =+C47*I47 -> 0
B48: 34 | C48: 4 | D48: C/U | E48: 1000004058 | F48: ACOP FLEX 8479675 P/LOCOMOTORA GM | G48: 8479675 | H48: -- | L48: =+C48*I48 -> 0
B49: 35 | C49: 4 | D49: C/U | E49: 1000004060 | F49: ACOP 8476711 P/LOCOMOTORA GM | G49: 8476711 | H49: -- | L49: =+C49*I49 -> 0
B50: 36 | C50: 9 | D50: C/U | E50: 1000004340 | F50: RUEDA 8189214 ,0-10-3-7075 P/LOCOMOTORA | G50: 8189214 | H50: -- | L50: =+C50*I50 -> 0
B51: 37 | C51: 4 | D51: C/U | E51: 1000008906 | F51: INT 8355620 P/GM | G51: 8355620 | H51: -- | L51: =+C51*I51 -> 0
B52: 38 | C52: 5 | D52: C/U | E52: 1000021056 | F52: VALV RELEVADORA HB-5 549930 P/LOCOMOTORA | G52: 549930 | H52: -- | L52: =+C52*I52 -> 0
B53: 39 | C53: 36 | D53: C/U | E53: 1000021261 | F53: EMPAQ P/CIL D/FRENO 8062832 | G53: 8062832 | H53: 008503DTMR0362-EA | L53: =+C53*I53 -> 0
B54: 40 | C54: 7 | D54: C/U | E54: 1000021386 | F54: EMBOLO AMORT P/REGUL WOODWARD 8152073 | G54: 8152073 | H54: -- | L54: =+C54*I54 -> 0
B55: 41 | C55: 2 | D55: C/U | E55: 1000021504 | F55: VALV SELECT F-1 COMP 557995 P/LOCOMOTORA | G55: 8252419 | H55: -- | L55: =+C55*I55 -> 0
B56: 42 | C56: 6 | D56: C/U | E56: 1000021529 | F56: LEVA P/VALV EMERG 26-C/26-B-1 40012344 ( | G56: 40012344 | H56: -- | L56: =+C56*I56 -> 0
B57: 43 | C57: 11 | D57: C/U | E57: 1000021544 | F57: SEGUID INF D/DIAFRAG P/VALV FRENO | G57: 560394 | H57: -- | L57: =+C57*I57 -> 0
B58: 44 | C58: 11 | D58: C/U | E58: 1000021545 | F58: SEGUID SUP P/VALV FRENO 560395 P/GM | G58: 560395 | H58: -- | L58: =+C58*I58 -> 0
B59: 45 | C59: 16 | D59: C/U | E59: 1000022346 | F59: RESIS P/PANEL CTRL PPAL 8239506 | G59: 8239506 | H59: -- | L59: =+C59*I59 -> 0
... B66: 52 | C66: 150 | D66: C/U | E66: 1000030390 | F66: TUERCA AUTOFRENANTE P/TANQUE COMB | G66: 9416572 | H66: 008306DTMR0309/5-EA | L66: =+C66*I66 -> 0
B67: Subtotal (sin I.V.A.) | K67: =SUM(K15:K66) -> 0 | L67: =SUM(L15:L66) -> 0
B68: I.V.A. | L68: =K67 -> 0
...

Sheet Completar SOFSE
A3: Datos del proveedor a completar
A5: Contratación Directa N°: | B5: 92/2021 | H5: Moneda | I5: Pesos Argentinos | K5: I.V.A. | L5: 0.105
A6: Clase de Contratación: | B6: Por Compulsa Abreviada | I6: Dólares Estadounidenses | L6: 0.21
A7: Expendiente: | B7: EX-2021-102553493- -APN-GCO#SOFSE | I7: Euros | L7: 0.27
A8: Objeto: | B8: REPUESTOS PARA MOTOR DIESEL PARA LOS TURBOCOMPRESORES MODELO MTU 16V 4000R3 | I8: Otra
A10: Según Pliego:
A11: Adjudicación: | B11: Por renglón
A12: Condición de pago: | B12: Según Pliego
A13: Plazo de entrega: | B13: Según Pliego
A14: Lugar de entrega: | B14: Según Pliego
A15: Mantenimiento de oferta: | B15: Según Pliego
A17: Items a cotizar:
A19: Item | B19: Cantidad | C19: U/M | D19: Código SAP | E19: Descripción | F19: Refencia de Fábrica
A21: 1 | B21: 3 | C21: U/M | D21: 1000007828 | E21: PLAT P/TURBO DEFLE P/LOCOMOTORA CNR CKD | F21: X00035302
A22: =+A21+1 -> 2 | B22: 3 | C22: U/M | D22: 1000007838 | E22: RUEDA P/TURBO SOBREALIM P/LOCOMOTORA CNR | F22: X00041766
A23: =+A22+1 -> 3 | B23: 2 | C23: U/M | D23: 1000008103 | E23: MOD P/INTERFACE PAU X00E50210197 P/LOCOM | F23: EXX00E50206126/S00 03
A24: =+A23+1 -> 4 | B24: 3 | C24: U/M | D24: 1000007831 | E24: RUEDA P/TURBO SOBREALIM P/LOCOMOTORA CNR | F24: X59510100036
A25: =+A24+1 -> 5 | B25: 3 | C25: U/M | D25: 1000007819 | E25: CARC P/TURBOCOMP SOBREALIM SIST D/ADMI X | F25: X59510100064 (MTU)
A26: =+A25+1 -> 6 | B26: 3 | C26: U/M | D26: 1000007872 | E26: CARC P/TURB C/AISL D/TURBOCOMP SIST ADMI | F26: X59510100096 (MTU)
A27: =+A26+1 -> 7 | B27: 3 | C27: U/M | D27: 1000007827 | E27: CAJA PORTACOJIN P/TURBO P/LOCOMOTORA CNR | F27: X59610100209
A28: =+A27+1 -> 8
A29: =+A28+1 -> 9
A30: =+A29+1 -> 10
A31: =+A30+1 -> 11
A32: =+A31+1 -> 12
A33: =+A32+1 -> 13
A34: =+A33+1 -> 14
A35: =+A34+1 -> 15
A36: =+A35+1 -> 16
A37: =+A36+1 -> 17
A38: =+A37+1 -> 18
A39: =+A38+1 -> 19
... A200: =+A199+1 -> 180
