Workbook

Sheet Planilla Nacional
B2: ANEXO A - PLANILLA COTIZACIÓN BIENES / SERVICIOS DE ORIGEN NACIONAL / NACIONALIZADOS
B5: Procedimiento de Selección N°: | I5: DETALLE PROVEEDOR
I6: Razón Social
B7: Clase de Contratación: | I7: C.U.I.T.
I8: Tel.:
B9: Expediente: | I9: E-Mail:
I10: Moneda:
B12: Renglón | C12: Cantidad | D12: U/M | E12: Código SAP | F12: Descripción SAP | G12: Referencia de Fábrica | H12: Plano / ET | I12: Precio Unitario | J12: I.V.A. (%) | K12: Subtotal I.V.A. $ | L12: Subtotal (sin I.V.A.)
B14: 1 | C14: =VLOOKUP(B14,'Completar SOFSE'!$A$6:$G$180,2,FALSE) -> 339 | D14: =VLOOKUP(B14,'Completar SOFSE'!$A$6:$G$180,3,FALSE) -> C/U | E14: =VLOOKUP(B14,'Completar SOFSE'!$A$6:$G$180,4,FALSE) -> 1000005504 | F14: =VLOOKUP(B14,'Completar SOFSE'!$A$6:$G$180,5,FALSE) -> ZAP FRENO P/UN FRENO 0606040700002 ,PLAN | G14: =VLOOKUP(B14,'Completar SOFSE'!$A$6:$G$180,6,FALSE) -> CSR: 0606040700002 | H14: =VLOOKUP(B14,'Completar SOFSE'!$A$6:$G$180,7,FALSE) -> 0.32.1.01.5310 | K14: =+(C14*I14)*J14 -> 0 | L14: =+C14*I14 -> 0
B15: 2 | C15: =VLOOKUP(B15,'Completar SOFSE'!$A$6:$G$180,2,FALSE) -> 505 | D15: =VLOOKUP(B15,'Completar SOFSE'!$A$6:$G$180,3,FALSE) -> C/U | E15: =VLOOKUP(B15,'Completar SOFSE'!$A$6:$G$180,4,FALSE) -> 1000008186 | F15: =VLOOKUP(B15,'Completar SOFSE'!$A$6:$G$180,5,FALSE) -> ZAP FRENO P/UN FRENO YCF54-00-00 ,PLANO: | G15: =VLOOKUP(B15,'Completar SOFSE'!$A$6:$G$180,6,FALSE) -> CNR: YCF54-00-00 | H15: =VLOOKUP(B15,'Completar SOFSE'!$A$6:$G$180,7,FALSE) -> 0.33.5.01.0100 A | K15: =+(C15*I15)*J15 -> 0 | L15: =+C15*I15 -> 0
B16: 3 | C16: =VLOOKUP(B16,'Completar SOFSE'!$A$6:$G$180,2,FALSE) -> 1740 | D16: =VLOOKUP(B16,'Completar SOFSE'!$A$6:$G$180,3,FALSE) -> C/U | E16: =VLOOKUP(B16,'Completar SOFSE'!$A$6:$G$180,4,FALSE) -> 1000011654 | F16: =VLOOKUP(B16,'Completar SOFSE'!$A$6:$G$180,5,FALSE) -> PAST FRENO P/UN FRENO P/CCRR PUZHEN CSR | G16: =VLOOKUP(B16,'Completar SOFSE'!$A$6:$G$180,6,FALSE) -> - | H16: =VLOOKUP(B16,'Completar SOFSE'!$A$6:$G$180,7,FALSE) -> 2.90.1.01.7100.B | K16: =+(C16*I16)*J16 -> 0 | L16: =+C16*I16 -> 0
B17: 4 | C17: =VLOOKUP(B17,'Completar SOFSE'!$A$6:$G$180,2,FALSE) -> 8 | D17: =VLOOKUP(B17,'Completar SOFSE'!$A$6:$G$180,3,FALSE) -> C/U | E17: =VLOOKUP(B17,'Completar SOFSE'!$A$6:$G$180,4,FALSE) -> 1000014300 | F17: =VLOOKUP(B17,'Completar SOFSE'!$A$6:$G$180,5,FALSE) -> ZAP COMPOS P/ZAP FRENO COMPOS 1151 ,3.18 | G17: =VLOOKUP(B17,'Completar SOFSE'!$A$6:$G$180,6,FALSE) -> - | H17: =VLOOKUP(B17,'Completar SOFSE'!$A$6:$G$180,7,FALSE) -> 3.18.1.01.1140 | K17: =+(C17*I17)*J17 -> 0 | L17: =+C17*I17 -> 0
B18: 5 | C18: =VLOOKUP(B18,'Completar SOFSE'!$A$6:$G$180,2,FALSE) -> 445 | D18: =VLOOKUP(B18,'Completar SOFSE'!$A$6:$G$180,3,FALSE) -> C/U | E18: =VLOOKUP(B18,'Completar SOFSE'!$A$6:$G$180,4,FALSE) -> 1000016729 | F18: =VLOOKUP(B18,'Completar SOFSE'!$A$6:$G$180,5,FALSE) -> ZAP P/FRENO DE COMPOSICION PLANO: 1016 , | G18: =VLOOKUP(B18,'Completar SOFSE'!$A$6:$G$180,6,FALSE) -> TOSHIBA: T1936B11125-9 | H18: =VLOOKUP(B18,'Completar SOFSE'!$A$6:$G$180,7,FALSE) -> 4.12.1.01.0538 A | K18: =+(C18*I18)*J18 -> 0 | L18: =+C18*I18 -> 0
B19: 6 | C19: =VLOOKUP(B19,'Completar SOFSE'!$A$6:$G$180,2,FALSE) -> 100 | D19: =VLOOKUP(B19,'Completar SOFSE'!$A$6:$G$180,3,FALSE) -> C/U | E19: =VLOOKUP(B19,'Completar SOFSE'!$A$6:$G$180,4,FALSE) -> 1000021647 | F19: =VLOOKUP(B19,'Completar SOFSE'!$A$6:$G$180,5,FALSE) -> ZAP COMPOS P/FRENO SIDEREA 1014 P/LOCOMO | G19: =VLOOKUP(B19,'Completar SOFSE'!$A$6:$G$180,6,FALSE) -> - | H19: =VLOOKUP(B19,'Completar SOFSE'!$A$6:$G$180,7,FALSE) -> 0-08-5-8001 EM 2 | K19: =+(C19*I19)*J19 -> 0 | L19: =+C19*I19 -> 0
B20: 7 | C20: =VLOOKUP(B20,'Completar SOFSE'!$A$6:$G$180,2,FALSE) -> 68 | D20: =VLOOKUP(B20,'Completar SOFSE'!$A$6:$G$180,3,FALSE) -> C/U | E20: =VLOOKUP(B20,'Completar SOFSE'!$A$6:$G$180,4,FALSE) -> 1000022276 | F20: =VLOOKUP(B20,'Completar SOFSE'!$A$6:$G$180,5,FALSE) -> ZAP COMPOS P/RUEDA PLANO:NEFA 551 EMISIÓ | G20: =VLOOKUP(B20,'Completar SOFSE'!$A$6:$G$180,6,FALSE) -> - | H20: =VLOOKUP(B20,'Completar SOFSE'!$A$6:$G$180,7,FALSE) -> NEFA 551 EM 3 | K20: =+(C20*I20)*J20 -> 0 | L20: =+C20*I20 -> 0
B21: =+'Completar SOFSE'!A13 -> 8 | C21: =VLOOKUP(B21,'Completar SOFSE'!$A$6:$G$180,2,FALSE) -> 300 | D21: =VLOOKUP(B21,'Completar SOFSE'!$A$6:$G$180,3,FALSE) -> C/U | E21: =VLOOKUP(B21,'Completar SOFSE'!$A$6:$G$180,4,FALSE) -> 1000022277 | F21: =VLOOKUP(B21,'Completar SOFSE'!$A$6:$G$180,5,FALSE) -> ZAP COMPOS NEFA 1154 482 P/COCHE MOTOR M | G21: =VLOOKUP(B21,'Completar SOFSE'!$A$6:$G$180,6,FALSE) -> - | H21: =VLOOKUP(B21,'Completar SOFSE'!$A$6:$G$180,7,FALSE) -> NEFA 1154 EM 1 | K21: =+(C21*I21)*J21 -> 0 | L21: =+C21*I21 -> 0
B22: =+'Completar SOFSE'!A14 -> 9 | C22: =VLOOKUP(B22,'Completar SOFSE'!$A$6:$G$180,2,FALSE) -> 301 | D22: =VLOOKUP(B22,'Completar SOFSE'!$A$6:$G$180,3,FALSE) -> C/U | E22: =VLOOKUP(B22,'Completar SOFSE'!$A$6:$G$180,4,FALSE) -> 1000030792 | F22: =VLOOKUP(B22,'Completar SOFSE'!$A$6:$G$180,5,FALSE) -> PAST FRENO P/REMOLQ C/PANTO P/EMU TOSH P | G22: =VLOOKUP(B22,'Completar SOFSE'!$A$6:$G$180,6,FALSE) -> - | H22: =VLOOKUP(B22,'Completar SOFSE'!$A$6:$G$180,7,FALSE) -> 4.12.1.01.0619 | K22: =+(C22*I22)*J22 -> 0 | L22: =+C22*I22 -> 0
B23: Subtotal (sin I.V.A.) | K23: =SUM(K14:K17) -> 0 | L23: =SUM(L14:L17) -> 0
B24: I.V.A. | L24: =K23 -> 0
B25: Total (con I.V.A.) | L25: =+L23+L24 -> 0
F26: Total letras
B27: Condición de pago: Según pliego
B28: Plazo de entrega: Según pliego
B29: Lugar de entrega: Según pliego
B30: Mantenimiento de oferta: Según pliego

Sheet Planilla Extranjero
B3: ANEXO B - PLANILLA COTIZACIÓN BIENES DE ORIGEN EXTRANJERO
B5: Procedimiento de Selección N°: | J5: DETALLE PROVEEDOR
J6: Razón Social
B7: Clase de Contratación: | J7: Identificación Tributaria
J8: Tel.:
B9: Expediente: | J9: E-Mail:
J10: Moneda:
B12: Inconterm | C12: Renglón | D12: Cantidad | E12: U/M | F12: Código SAP | G12: Descripción SAP | H12: Referencia de Fábrica | I12: Plano / ET | J12: Precio
J13: Unitario | K13: Flete | L13: Seguro | M13: Subtotal
B14: EXW | C14: 1 | D14: =VLOOKUP(C14,'Completar SOFSE'!$A$6:$G$180,2,FALSE) -> 339 | E14: =VLOOKUP(C14,'Completar SOFSE'!$A$6:$G$180,3,FALSE) -> C/U | F14: =VLOOKUP(C14,'Completar SOFSE'!$A$6:$G$180,4,FALSE) -> 1000005504 | G14: =VLOOKUP(C14,'Completar SOFSE'!$A$6:$G$180,5,FALSE) -> ZAP FRENO P/UN FRENO 0606040700002 ,PLAN | H14: =VLOOKUP(C14,'Completar SOFSE'!$A$6:$G$180,6,FALSE) -> CSR: 0606040700002 | I14: =VLOOKUP(C14,'Completar SOFSE'!$A$6:$G$180,7,FALSE) -> 0.32.1.01.5310 | M14: =J14*$D$14+K14*$D$14+L14*$D$14 -> 0
B15: FCA | M15: =J15*$D$14+K15*$D$14+L15*$D$14 -> 0
B16: FOB | M16: =J16*$D$14+K16*$D$14+L16*$D$14 -> 0
B17: CFR | M17: =J17*$D$14+K17*$D$14+L17*$D$14 -> 0
B18: CIF | M18: =J18*$D$14+K18*$D$14+L18*$D$14 -> 0
B19: EXW | C19: 2 | D19: =VLOOKUP(C19,'Completar SOFSE'!$A$6:$G$180,2,FALSE) -> 505 | E19: =VLOOKUP(C19,'Completar SOFSE'!$A$6:$G$180,3,FALSE) -> C/U | F19: =VLOOKUP(C19,'Completar SOFSE'!$A$6:$G$180,4,FALSE) -> 1000008186 | G19: =VLOOKUP(C19,'Completar SOFSE'!$A$6:$G$180,5,FALSE) -> ZAP FRENO P/UN FRENO YCF54-00-00 ,PLANO: | H19: =VLOOKUP(C19,'Completar SOFSE'!$A$6:$G$180,6,FALSE) -> CNR: YCF54-00-00 | I19: =VLOOKUP(C19,'Completar SOFSE'!$A$6:$G$180,7,FALSE) -> 0.33.5.01.0100 A | M19: =J19*$D$19+K19*$D$19+L19*$D$19 -> 0
B20: FCA | M20: =J20*$D$19+K20*$D$19+L20*$D$19 -> 0
B21: FOB | M21: =J21*$D$19+K21*$D$19+L21*$D$19 -> 0
B22: CFR | M22: =J22*$D$19+K22*$D$19+L22*$D$19 -> 0
B23: CIF | M23: =J23*$D$19+K23*$D$19+L23*$D$19 -> 0
B24: EXW | C24: 3 | D24: =VLOOKUP(C24,'Completar SOFSE'!$A$6:$G$180,2,FALSE) -> 1740 | E24: =VLOOKUP(C24,'Completar SOFSE'!$A$6:$G$180,3,FALSE) -> C/U | F24: =VLOOKUP(C24,'Completar SOFSE'!$A$6:$G$180,4,FALSE) -> 1000011654 | G24: =VLOOKUP(C24,'Completar SOFSE'!$A$6:$G$180,5,FALSE) -> PAST FRENO P/UN FRENO P/CCRR PUZHEN CSR | H24: =VLOOKUP(C24,'Completar SOFSE'!$A$6:$G$180,6,FALSE) -> - | I24: =VLOOKUP(C24,'Completar SOFSE'!$A$6:$G$180,7,FALSE) -> 2.90.1.01.7100.B | M24: =J24*$D$24+K24*$D$24+L24*$D$24 -> 0
B25: FCA | M25: =J25*$D$24+K25*$D$24+L25*$D$24 -> 0
B26: FOB | M26: =J26*$D$24+K26*$D$24+L26*$D$24 -> 0
B27: CFR | M27: =J27*$D$24+K27*$D$24+L27*$D$24 -> 0
B28: CIF | M28: =J28*$D$24+K28*$D$24+L28*$D$24 -> 0
B29: EXW | C29: 4 | D29: =VLOOKUP(C29,'Completar SOFSE'!$A$6:$G$180,2,FALSE) -> 8 | E29: =VLOOKUP(C29,'Completar SOFSE'!$A$6:$G$180,3,FALSE) -> C/U | F29: =VLOOKUP(C29,'Completar SOFSE'!$A$6:$G$180,4,FALSE) -> 1000014300 | G29: =VLOOKUP(C29,'Completar SOFSE'!$A$6:$G$180,5,FALSE) -> ZAP COMPOS P/ZAP FRENO COMPOS 1151 ,3.18 | H29: =VLOOKUP(C29,'Completar SOFSE'!$A$6:$G$180,6,FALSE) -> - | I29: =VLOOKUP(C29,'Completar SOFSE'!$A$6:$G$180,7,FALSE) -> 3.18.1.01.1140 | M29: =J29*$D$29+K29*$D$29+L29*$D$29 -> 0
B30: FCA | M30: =J30*$D$29+K30*$D$29+L30*$D$29 -> 0
B31: FOB | M31: =J31*$D$29+K31*$D$29+L31*$D$29 -> 0
B32: CFR | M32: =J32*$D$29+K32*$D$29+L32*$D$29 -> 0
B33: CIF | M33: =J33*$D$29+K33*$D$29+L33*$D$29 -> 0
B34: EXW | C34: 5 | D34: =VLOOKUP(C34,'Completar SOFSE'!$A$6:$G$180,2,FALSE) -> 445 | E34: =VLOOKUP(C34,'Completar SOFSE'!$A$6:$G$180,3,FALSE) -> C/U | F34: =VLOOKUP(C34,'Completar SOFSE'!$A$6:$G$180,4,FALSE) -> 1000016729 | G34: =VLOOKUP(C34,'Completar SOFSE'!$A$6:$G$180,5,FALSE) -> ZAP P/FRENO DE COMPOSICION PLANO: 1016 , | H34: =VLOOKUP(C34,'Completar SOFSE'!$A$6:$G$180,6,FALSE) -> TOSHIBA: T1936B11125-9 | I34: =VLOOKUP(C34,'Completar SOFSE'!$A$6:$G$180,7,FALSE) -> 4.12.1.01.0538 A | M34: =J34*$D$34+K34*$D$34+L34*$D$34 -> 0
B35: FCA | M35: =J35*$D$34+K35*$D$34+L35*$D$34 -> 0
B36: FOB | M36: =J36*$D$34+K36*$D$34+L36*$D$34 -> 0
B37: CFR | M37: =J37*$D$34+K37*$D$34+L37*$D$34 -> 0
B38: CIF | M38: =J38*$D$34+K38*$D$34+L38*$D$34 -> 0
B39: EXW | C39: 6 | D39: =VLOOKUP(C39,'Completar SOFSE'!$A$6:$G$180,2,FALSE) -> 100 | E39: =VLOOKUP(C39,'Completar SOFSE'!$A$6:$G$180,3,FALSE) -> C/U | F39: =VLOOKUP(C39,'Completar SOFSE'!$A$6:$G$180,4,FALSE) -> 1000021647 | G39: =VLOOKUP(C39,'Completar SOFSE'!$A$6:$G$180,5,FALSE) -> ZAP COMPOS P/FRENO SIDEREA 1014 P/LOCOMO | H39: =VLOOKUP(C39,'Completar SOFSE'!$A$6:$G$180,6,FALSE) -> - | I39: =VLOOKUP(C39,'Completar SOFSE'!$A$6:$G$180,7,FALSE) -> 0-08-5-8001 EM 2 | M39: =J39*$D$39+K39*$D$39+L39*$D$39 -> 0
B40: FCA | M40: =J40*$D$39+K40*$D$39+L40*$D$39 -> 0
B41: FOB | M41: =J41*$D$39+K41*$D$39+L41*$D$39 -> 0
B42: CFR | M42: =J42*$D$39+K42*$D$39+L42*$D$39 -> 0
B43: CIF | M43: =J43*$D$39+K43*$D$39+L43*$D$39 -> 0
B44: EXW | C44: 7 | D44: =VLOOKUP(C44,'Completar SOFSE'!$A$6:$G$180,2,FALSE) -> 68 | E44: =VLOOKUP(C44,'Completar SOFSE'!$A$6:$G$180,3,FALSE) -> C/U | F44: =VLOOKUP(C44,'Completar SOFSE'!$A$6:$G$180,4,FALSE) -> 1000022276 | G44: =VLOOKUP(C44,'Completar SOFSE'!$A$6:$G$180,5,FALSE) -> ZAP COMPOS P/RUEDA PLANO:NEFA 551 EMISIÓ | H44: =VLOOKUP(C44,'Completar SOFSE'!$A$6:$G$180,6,FALSE) -> - | I44: =VLOOKUP(C44,'Completar SOFSE'!$A$6:$G$180,7,FALSE) -> NEFA 551 EM 3 | M44: =J44*$D$44+K44*$D$44+L44*$D$44 -> 0
B45: FCA | M45: =J45*$D$44+K45*$D$44+L45*$D$44 -> 0
B46: FOB | M46: =J46*$D$44+K46*$D$44+L46*$D$44 -> 0
B47: CFR | M47: =J47*$D$44+K47*$D$44+L47*$D$44 -> 0
B48: CIF | M48: =J48*$D$44+K48*$D$44+L48*$D$44 -> 0
B49: EXW | C49: 8 | D49: =VLOOKUP(C49,'Completar SOFSE'!$A$6:$G$180,2,FALSE) -> 300 | E49: =VLOOKUP(C49,'Completar SOFSE'!$A$6:$G$180,3,FALSE) -> C/U | F49: =VLOOKUP(C49,'Completar SOFSE'!$A$6:$G$180,4,FALSE) -> 1000022277 | G49: =VLOOKUP(C49,'Completar SOFSE'!$A$6:$G$180,5,FALSE) -> ZAP COMPOS NEFA 1154 482 P/COCHE MOTOR M | H49: =VLOOKUP(C49,'Completar SOFSE'!$A$6:$G$180,6,FALSE) -> - | I49: =VLOOKUP(C49,'Completar SOFSE'!$A$6:$G$180,7,FALSE) -> NEFA 1154 EM 1 | M49: =J49*$D$44+K49*$D$44+L49*$D$44 -> 0
B50: FCA | M50: =J50*$D$44+K50*$D$44+L50*$D$44 -> 0
B51: FOB | M51: =J51*$D$44+K51*$D$44+L51*$D$44 -> 0
B52: CFR | M52: =J52*$D$44+K52*$D$44+L52*$D$44 -> 0
B53: CIF | M53: =J53*$D$44+K53*$D$44+L53*$D$44 -> 0
B54: EXW | C54: 9 | D54: =VLOOKUP(C54,'Completar SOFSE'!$A$6:$G$180,2,FALSE) -> 301 | E54: =VLOOKUP(C54,'Completar SOFSE'!$A$6:$G$180,3,FALSE) -> C/U | F54: =VLOOKUP(C54,'Completar SOFSE'!$A$6:$G$180,4,FALSE) -> 1000030792 | G54: =VLOOKUP(C54,'Completar SOFSE'!$A$6:$G$180,5,FALSE) -> PAST FRENO P/REMOLQ C/PANTO P/EMU TOSH P | H54: =VLOOKUP(C54,'Completar SOFSE'!$A$6:$G$180,6,FALSE) -> - | I54: =VLOOKUP(C54,'Completar SOFSE'!$A$6:$G$180,7,FALSE) -> 4.12.1.01.0619 | M54: =J54*$D$44+K54*$D$44+L54*$D$44 -> 0
B55: FCA | M55: =J55*$D$44+K55*$D$44+L55*$D$44 -> 0
B56: FOB | M56: =J56*$D$44+K56*$D$44+L56*$D$44 -> 0
B57: CFR | M57: =J57*$D$44+K57*$D$44+L57*$D$44 -> 0
B58: CIF | M58: =J58*$D$44+K58*$D$44+L58*$D$44 -> 0
B59: Total: | J59: =SUM(M14:M58) -> 0
G60: Total letras:
B61: Lugar de cumplimiento de Incoterm (Ciudad/País): Según pliego
B62: Condición de Pago: Según pliego
B63: Plazo de Entrega: Según pliego
B64: Mantenimiento de Oferta: Según pliego

Sheet Completar SOFSE
A2: Items a cotizar:
A4: Item | B4: Cantidad | C4: U/M | D4: Código SAP | E4: Descripción | F4: Refencia de Fábrica | G4: Plano / ET
A6: 1 | B6: 339 | C6: C/U | D6: 1000005504 | E6: ZAP FRENO P/UN FRENO 0606040700002 ,PLAN | F6: CSR: 0606040700002 | G6: 0.32.1.01.5310
A7: =+A6+1 -> 2 | B7: 505 | C7: C/U | D7: 1000008186 | E7: ZAP FRENO P/UN FRENO YCF54-00-00 ,PLANO: | F7: CNR: YCF54-00-00 | G7: 0.33.5.01.0100 A
A8: =+A7+1 -> 3 | B8: 1740 | C8: C/U | D8: 1000011654 | E8: PAST FRENO P/UN FRENO P/CCRR PUZHEN CSR | F8: - | G8: 2.90.1.01.7100.B
A9: =+A8+1 -> 4 | B9: 8 | C9: C/U | D9: 1000014300 | E9: ZAP COMPOS P/ZAP FRENO COMPOS 1151 ,3.18 | F9: - | G9: 3.18.1.01.1140
A10: =+A9+1 -> 5 | B10: 445 | C10: C/U | D10: 1000016729 | E10: ZAP P/FRENO DE COMPOSICION PLANO: 1016 , | F10: TOSHIBA: T1936B11125-9 | G10: 4.12.1.01.0538 A
A11: =+A10+1 -> 6 | B11: 100 | C11: C/U | D11: 1000021647 | E11: ZAP COMPOS P/FRENO SIDEREA 1014 P/LOCOMO | F11: - | G11: 0-08-5-8001 EM 2
A12: =+A11+1 -> 7 | B12: 68 | C12: C/U | D12: 1000022276 | E12: ZAP COMPOS P/RUEDA PLANO:NEFA 551 EMISIÓ | F12: - | G12: NEFA 551 EM 3
A13: =+A12+1 -> 8 | B13: 300 | C13: C/U | D13: 1000022277 | E13: ZAP COMPOS NEFA 1154 482 P/COCHE MOTOR M | F13: - | G13: NEFA 1154 EM 1
A14: =+A13+1 -> 9 | B14: 301 | C14: C/U | D14: 1000030792 | E14: PAST FRENO P/REMOLQ C/PANTO P/EMU TOSH P | F14: - | G14: 4.12.1.01.0619
A15: =+A14+1 -> 10 | C15: C/U
A16: =+A15+1 -> 11 | C16: C/U
A17: =+A16+1 -> 12 | C17: C/U
A18: =+A17+1 -> 13 | C18: C/U
A19: =+A18+1 -> 14 | C19: C/U
A20: =+A19+1 -> 15 | C20: C/U
A21: =+A20+1 -> 16 | C21: C/U
A22: =+A21+1 -> 17 | C22: C/U
A23: =+A22+1 -> 18 | C23: C/U
A24: =+A23+1 -> 19 | C24: C/U
A25: =+A24+1 -> 20 | C25: C/U
A26: =+A25+1 -> 21 | C26: C/U
... A180: =+A179+1 -> 175 | C180: C/U
