Workbook

Sheet Planilla Nacional
B2: PLANILLA COTIZACIÓN - NACIONAL
B5: Procedimiento de Selección N°: | H5: DETALLE PROVEEDOR
H6: Razón Social
B7: Clase de Contratación: | H7: C.U.I.T.
H8: Tel.:
B9: Expediente: | H9: E-Mail:
H10: Moneda:
B12: Renglón | C12: Cantidad | D12: U/M | E12: Código SAP | F12: Descripción | G12: Plano / Especificación Técnica | H12: Precio Unitario | I12: I.V.A. (%) | J12: Subtotal I.V.A. $ | K12: Subtotal (sin I.V.A.)
B14: 1 | C14: =VLOOKUP(B14,'Completar SOFSE'!A:H,2,FALSE) -> 200 | D14: =VLOOKUP(B14,'Completar SOFSE'!A:H,3,FALSE) -> C/U | E14: =VLOOKUP(B14,'Completar SOFSE'!A:H,4,FALSE) -> 1000030672 | F14: =VLOOKUP(B14,'Completar SOFSE'!A:H,6,FALSE) -> RUEDA SEMITERMINADA PARA PAR MONTADO PARA COCHES ELÉCTRICOS - TOSHIBA | G14: =VLOOKUP(B14,'Completar SOFSE'!A:H,7,FALSE) -> PLANO: NEFA 1296 EM.4. ESPECIFICACIÓN TÉCNICA: FA 8005 Y ETMRR_G001 | J14: =+(C14*H14)*I14 -> 0 | K14: =+C14*H14 -> 0
B15: Subtotal (sin I.V.A.) | J15: =SUM(J14:J14) -> 0 | K15: =SUM(K14:K14) -> 0
B16: I.V.A. | K16: =J15 -> 0
B17: Total (con I.V.A.) | K17: =+K15+K16 -> 0
F18: Total letras
B19: Condición de pago: Según pliego
B20: Plazo de entrega: Según pliego
B21: Lugar de entrega: Según pliego
B22: Mantenimiento de oferta: Según pliego

Sheet Planilla Extranjero
B3: PLANILLA COTIZACIÓN - EXTRANJERO
B5: Procedimiento de Selección N°: | I5: DETALLE PROVEEDOR
I6: Razón Social
B7: Clase de Contratación: | I7: Identificación Tributaria
I8: Tel.:
B9: Expediente: | I9: E-Mail:
I10: Moneda:
B12: Inconterm | C12: Renglón | D12: Cantidad | E12: U/M | F12: Código SAP | G12: Descripción | H12: Plano / Especificación Técnica | I12: Precio
I13: Unitario | J13: Flete | K13: Seguro | L13: Subtotal
B14: EXW | C14: 1 | D14: =VLOOKUP(C14,'Completar SOFSE'!A:H,2,FALSE) -> 200 | E14: =VLOOKUP(C14,'Completar SOFSE'!A:H,3,FALSE) -> C/U | F14: =VLOOKUP(C14,'Completar SOFSE'!A:H,4,FALSE) -> 1000030672 | G14: =VLOOKUP(C14,'Completar SOFSE'!A:H,6,FALSE) -> RUEDA SEMITERMINADA PARA PAR MONTADO PARA COCHES ELÉCTRICOS - TOSHIBA | H14: =VLOOKUP(C14,'Completar SOFSE'!A:H,7,FALSE) -> PLANO: NEFA 1296 EM.4. ESPECIFICACIÓN TÉCNICA: FA 8005 Y ETMRR_G001 | L14: =I14*D14 -> 0
B15: FCA | L15: =I15*D14 -> 0
B16: FOB | L16: =I16*D14 -> 0
B17: CFR | L17: =(I17+J17)*D14 -> 0
B18: CIF | L18: =(I18+J18+K18)*D14 -> 0
B19: Total: | I19: =SUM(L14:L18) -> 0
G20: Total letras:
B21: Lugar de cumplimiento de Incoterm (Ciudad/País):
B22: Condición de Pago: Según pliego
B23: Plazo de Entrega: Según pliego
B24: Mantenimiento de Oferta: Según pliego

Sheet Completar SOFSE
A1: Item | B1: Cantidad | C1: U/M | D1: Código SAP | E1: NOMENCLADOR | F1: Descripción | G1: Plano / ET
A3: 1 | B3: 200 | C3: C/U | D3: 1000030672 | E3: NUM29050202020N | F3: RUEDA SEMITERMINADA PARA PAR MONTADO PARA COCHES ELÉCTRICOS - TOSHIBA | G3: PLANO: NEFA 1296 EM.4. ESPECIFICACIÓN TÉCNICA: FA 8005 Y ETMRR_G001
