Workbook

Sheet Planilla Nacional - ANEXO A
B2: ANEXO A - PLANILLA COTIZACIÓN BIENES DE ORIGEN NACIONAL / NACIONALIZADOS
B5: Contratación Directa N°: | D5: 17/2020 | H5: DETALLE OFERENTE
B6: Clase de Contratación: | D6: =+'Completar SOFSE'!B6 -> Por Compulsa Abreviada | H6: Razón Social
B7: Expediente: | D7: =+'Completar SOFSE'!B7 -> EX-2019-93900963- -APN-SG#SOFSE
B8: Objeto: | D8: =+'Completar SOFSE'!B8 -> Adquisición de Repuestos para los Coches Motores Materfer 400-2 | H8: C.U.I.T.
H9: Tel.:
H10: E-Mail:
H11: Moneda:
B13: Renglón | C13: Cantidad | D13: U/M | E13: Código | F13: Descripción | G13: Cód. Fabricante | H13: Precio Unitario | I13: I.V.A. | J13: Subtotal I.V.A. $ | K13: Subtotal
B15: =+'Completar SOFSE'!A22 -> 1 | C15: =+'Completar SOFSE'!B22 -> 36 | D15: =+'Completar SOFSE'!C22 -> C/U | E15: =+'Completar SOFSE'!D22 -> NUM96500000560N | F15: =+'Completar SOFSE'!E22 -> Palier Largo | G15: =+'Completar SOFSE'!F22 -> Ref. Fáb. 812787 | J15: =+(C15*H15)*I15 -> 0 | K15: =+C15*H15 -> 0
B16: =+'Completar SOFSE'!A23 -> 2 | C16: =+'Completar SOFSE'!B23 -> 36 | D16: =+'Completar SOFSE'!C23 -> C/U | E16: =+'Completar SOFSE'!D23 -> NUM96500000610N | F16: Piñon cónico recto Z=21 estría interior | G16: =+'Completar SOFSE'!F23 -> Ref. Fáb. 812788 | J16: =+(C16*H16)*I16 -> 0 | K16: =+C16*H16 -> 0
B17: =+'Completar SOFSE'!A24 -> 3 | C17: =+'Completar SOFSE'!B24 -> 36 | D17: =+'Completar SOFSE'!C24 -> C/U | E17: =+'Completar SOFSE'!D24 -> NUM96500000620N | F17: Piñón cónico recto Z=21 sín estría y rosca | G17: =+'Completar SOFSE'!F24 -> Ref. Fáb. 1.74.216 | J17: =+(C17*H17)*I17 -> 0 | K17: =+C17*H17 -> 0
B18: =+'Completar SOFSE'!A25 -> 4 | C18: =+'Completar SOFSE'!B25 -> 36 | D18: =+'Completar SOFSE'!C25 -> C/U | E18: =+'Completar SOFSE'!D25 -> NUM9650000570N | F18: =+'Completar SOFSE'!E25 -> Palier corto | G18: =+'Completar SOFSE'!F25 -> Ref. Fáb. 812786 | J18: =+(C18*H18)*I18 -> 0 | K18: =+C18*H18 -> 0
B19: =+'Completar SOFSE'!A26 -> 5 | C19: =+'Completar SOFSE'!B26 -> 36 | D19: =+'Completar SOFSE'!C26 -> C/U | E19: =+'Completar SOFSE'!D26 -> NUM9650000580N | F19: =+'Completar SOFSE'!E26 -> Corona cónica recta Z=29 | G19: =+'Completar SOFSE'!F26 -> Ref. Fáb. 812790 | J19: =+(C19*H19)*I19 -> 0 | K19: =+C19*H19 -> 0
B20: =+'Completar SOFSE'!A27 -> 6 | C20: =+'Completar SOFSE'!B27 -> 36 | D20: =+'Completar SOFSE'!C27 -> C/U | E20: =+'Completar SOFSE'!D27 -> NUM9650000590N | F20: =+'Completar SOFSE'!E27 -> Piñón cilíndrico recto | G20: =+'Completar SOFSE'!F27 -> Ref. Fáb. 820022 | J20: =+(C20*H20)*I20 -> 0 | K20: =+C20*H20 -> 0
B21: =+'Completar SOFSE'!A28 -> 7 | C21: =+'Completar SOFSE'!B28 -> 36 | D21: =+'Completar SOFSE'!C28 -> C/U | E21: =+'Completar SOFSE'!D28 -> NUM9650000600N | F21: =+'Completar SOFSE'!E28 -> Coronas cilíndricas rectas | G21: =+'Completar SOFSE'!F28 -> Ref. Fáb. 820021 | J21: =+(C21*H21)*I21 -> 0 | K21: =+C21*H21 -> 0
B22: =+'Completar SOFSE'!A29 -> 8 | C22: =+'Completar SOFSE'!B29 -> 36 | D22: =+'Completar SOFSE'!C29 -> C/U | E22: =+'Completar SOFSE'!D29 -> NUM9650000630N | F22: =+'Completar SOFSE'!E29 -> Brida 12 agujeros y estría interior | G22: =+'Completar SOFSE'!F29 -> Ref. Fáb. 812785 | J22: =+(C22*H22)*I22 -> 0 | K22: =+C22*H22 -> 0
B23: Subtotal | J23: =SUM(J15:J22) -> 0 | K23: =SUM(K15:K22) -> 0
B24: I.V.A. | K24: =J23 -> 0
B25: TOTAL | K25: =+K23+K24 -> 0
B26: Condición de pago: | D26: =+'Completar SOFSE'!B12 -> Según Artículo 33 del PCP
B27: Lugar de entrega: | D27: =+'Completar SOFSE'!B13 -> Según Artículo 8 del PCP
B28: Plazo de entrega: | D28: =+'Completar SOFSE'!B14 -> Según Artículo 7 del PCP
B29: Mantenimiento de oferta: | D29: =+'Completar SOFSE'!B15 -> Según Artículo 117 del R.C.C.

Sheet Planilla Extranjero - ANEXO B
B3: ANEXO B - PLANILLA COTIZACIÓN BIENES DE ORIGEN EXTRANJERO
B5: Contratación Directa N°: | D5: 17/2020 | I5: DETALLE OFERENTE
B6: Clase de Contratación: | D6: =+'Completar SOFSE'!B6 -> Por Compulsa Abreviada | I6: Razón Social
B7: Expediente: | D7: =+'Completar SOFSE'!B7 -> EX-2019-93900963- -APN-SG#SOFSE
B8: Objeto: | D8: =+'Completar SOFSE'!B8 -> Adquisición de Repuestos para los Coches Motores Materfer 400-2 | I8: Identificación Tributaria
I9: Tel.:
I10: E-Mail:
I11: Moneda:
B13: Inconterms | C13: Renglón | D13: Cantidad | E13: U/M | F13: Código | G13: Descripción | H13: Código de Fabricante | I13: Precio
I14: Unitario | J14: Flete Unitario | K14: Seguro Unitario | L14: Subtotal
B15: EXW | C15: =+'Completar SOFSE'!A22 -> 1 | D15: =VLOOKUP(C15,'Completar SOFSE'!$A$20:$E$330,2,0) -> 36 | E15: =VLOOKUP(C15,'Completar SOFSE'!$A$20:$E$330,3,0) -> C/U | F15: =VLOOKUP(C15,'Completar SOFSE'!$A$20:$E$330,4,0) -> NUM96500000560N | G15: =VLOOKUP(C15,'Completar SOFSE'!$A$20:$E$330,5,0) -> Palier Largo | H15: =+'Completar SOFSE'!F22 -> Ref. Fáb. 812787 | L15: =I15*D15 -> 0
B16: FCA | L16: =I16*D15 -> 0
B17: FOB | L17: =I17*D15 -> 0
B18: CFR | L18: =(I18*D15)+(J18*D15) -> 0
B19: CIF | L19: =(I19*D15)+(J19*D15)+(K19*D15) -> 0
B20: EXW | C20: 2 | D20: =VLOOKUP(C20,'Completar SOFSE'!$A$20:$E$330,2,0) -> 36 | E20: =VLOOKUP(C20,'Completar SOFSE'!$A$20:$E$330,3,0) -> C/U | F20: =VLOOKUP(C20,'Completar SOFSE'!$A$20:$E$330,4,0) -> NUM96500000610N | G20: =VLOOKUP(C20,'Completar SOFSE'!$A$20:$E$330,5,0) -> Piñón cónico recto Z=21 estría interior | H20: =+'Completar SOFSE'!F23 -> Ref. Fáb. 812788 | L20: =I20*D20 -> 0
B21: FCA | L21: =I21*D20 -> 0
B22: FOB | L22: =I22*D20 -> 0
B23: CFR | L23: =(I23*D20)+(J23*D20) -> 0
B24: CIF | L24: =(I24*D20)+(J24*D20)+(K24*D20) -> 0
B25: EXW | C25: 3 | D25: =VLOOKUP(C25,'Completar SOFSE'!$A$20:$E$330,2,0) -> 36 | E25: =VLOOKUP(C25,'Completar SOFSE'!$A$20:$E$330,3,0) -> C/U | F25: =VLOOKUP(C25,'Completar SOFSE'!$A$20:$E$330,4,0) -> NUM96500000620N | G25: =VLOOKUP(C25,'Completar SOFSE'!$A$20:$E$330,5,0) -> Piñón cónico recto Z=21 sin estría y rosca | H25: =+'Completar SOFSE'!F24 -> Ref. Fáb. 1.74.216 | L25: =I25*D25 -> 0
B26: FCA | L26: =I26*D25 -> 0
B27: FOB | L27: =I27*D25 -> 0
B28: CFR | L28: =(I28*D25)+(J28*D25) -> 0
B29: CIF | L29: =(I29*D25)+(J29*D25)+(K29*D25) -> 0
B30: EXW | C30: 4 | D30: =VLOOKUP(C30,'Completar SOFSE'!$A$20:$E$330,2,0) -> 36 | E30: =VLOOKUP(C30,'Completar SOFSE'!$A$20:$E$330,3,0) -> C/U | F30: =VLOOKUP(C30,'Completar SOFSE'!$A$20:$E$330,4,0) -> NUM9650000570N | G30: =VLOOKUP(C30,'Completar SOFSE'!$A$20:$E$330,5,0) -> Palier corto | H30: =+'Completar SOFSE'!F25 -> Ref. Fáb. 812786 | L30: =I30*D30 -> 0
B31: FCA | L31: =I31*D30 -> 0
B32: FOB | L32: =I32*D30 -> 0
B33: CFR | L33: =(I33*D30)+(J33*D30) -> 0
B34: CIF | L34: =(I34*D30)+(J34*D30)+(K34*D30) -> 0
B35: EXW | C35: 5 | D35: =VLOOKUP(C35,'Completar SOFSE'!$A$20:$E$330,2,0) -> 36 | E35: =VLOOKUP(C35,'Completar SOFSE'!$A$20:$E$330,3,0) -> C/U | F35: =VLOOKUP(C35,'Completar SOFSE'!$A$20:$E$330,4,0) -> NUM9650000580N | G35: =VLOOKUP(C35,'Completar SOFSE'!$A$20:$E$330,5,0) -> Corona cónica recta Z=29 | H35: =+'Completar SOFSE'!F26 -> Ref. Fáb. 812790 | L35: =I35*D35 -> 0
B36: FCA | L36: =I36*D35 -> 0
B37: FOB | L37: =I37*D35 -> 0
B38: CFR | L38: =(I38*D35)+(J38*D35) -> 0
B39: CIF | L39: =(I39*D35)+(J39*D35)+(K39*D35) -> 0
B40: EXW | C40: 6 | D40: =VLOOKUP(C40,'Completar SOFSE'!$A$20:$E$330,2,0) -> 36 | E40: =VLOOKUP(C40,'Completar SOFSE'!$A$20:$E$330,3,0) -> C/U | F40: =VLOOKUP(C40,'Completar SOFSE'!$A$20:$E$330,4,0) -> NUM9650000590N | G40: =VLOOKUP(C40,'Completar SOFSE'!$A$20:$E$330,5,0) -> Piñón cilíndrico recto | H40: =+'Completar SOFSE'!F27 -> Ref. Fáb. 820022 | L40: =I40*D40 -> 0
B41: FCA | L41: =I41*D40 -> 0
B42: FOB | L42: =I42*D40 -> 0
B43: CFR | L43: =(I43*D40)+(J43*D40) -> 0
B44: CIF | L44: =(I44*D40)+(J44*D40)+(K44*D40) -> 0
B45: EXW | C45: 7 | D45: =VLOOKUP(C45,'Completar SOFSE'!$A$20:$E$330,2,0) -> 36 | E45: =VLOOKUP(C45,'Completar SOFSE'!$A$20:$E$330,3,0) -> C/U | F45: =VLOOKUP(C45,'Completar SOFSE'!$A$20:$E$330,4,0) -> NUM9650000600N | G45: =VLOOKUP(C45,'Completar SOFSE'!$A$20:$E$330,5,0) -> Coronas cilíndricas rectas | H45: =+'Completar SOFSE'!F28 -> Ref. Fáb. 820021 | L45: =I45*D45 -> 0
B46: FCA | L46: =I46*D45 -> 0
B47: FOB | L47: =I47*D45 -> 0
B48: CFR | L48: =(I48*D45)+(J48*D45) -> 0
B49: CIF | L49: =(I49*D45)+(J49*D45)+(K49*D45) -> 0
B50: EXW | C50: 8 | D50: =VLOOKUP(C50,'Completar SOFSE'!$A$20:$E$330,2,0) -> 36 | E50: =VLOOKUP(C50,'Completar SOFSE'!$A$20:$E$330,3,0) -> C/U | F50: =VLOOKUP(C50,'Completar SOFSE'!$A$20:$E$330,4,0) -> NUM9650000630N | G50: =VLOOKUP(C50,'Completar SOFSE'!$A$20:$E$330,5,0) -> Brida 12 agujeros y estría interior | H50: =+'Completar SOFSE'!F29 -> Ref. Fáb. 812785 | L50: =I50*D50 -> 0
B51: FCA | L51: =I51*D50 -> 0
B52: FOB | L52: =I52*D50 -> 0
B53: CFR | L53: =(I53*D50)+(J53*D50) -> 0
B54: CIF | L54: =(I54*D50)+(J54*D50)+(K54*D50) -> 0
B55: Total | I55: =SUM(L15:L54) -> 0
B56: Lugar de cumplimiento de Incoterm (Ciudad/País):
B57: Condición de Pago: | D57: =+'Completar SOFSE'!D12 -> Según Artículo 34 del PCP
B58: Plazo de Entrega: | D58: =+'Completar SOFSE'!B14 -> Según Artículo 7 del PCP
B59: Mantenimiento de Oferta: | D59: =+'Completar SOFSE'!B15 -> Según Artículo 117 del R.C.C.

Sheet Completar SOFSE
A3: Datos del proveedor a completar
A5: Contratación Directa N°: | B5: 17/2020 | H5: Moneda | I5: Pesos Argentinos | K5: I.V.A. | L5: 0.105
A6: Clase de Contratación: | B6: Por Compulsa Abreviada | I6: Dólares Estadounidenses | L6: 0.21
A7: Expendiente: | B7: EX-2019-93900963- -APN-SG#SOFSE | I7: Euros | L7: 0.27
A8: Objeto: | B8: Adquisición de Repuestos para los Coches Motores Materfer 400-2 | I8: Otra
A10: Según Pliego:
A11: Adjudicación: | B11: Por ítems
A12: Condición de pago: | B12: Según Artículo 33 del PCP | D12: Según Artículo 34 del PCP
A13: Lugar de entrega: | B13: Según Artículo 8 del PCP
A14: Plazo de entrega: | B14: Según Artículo 7 del PCP
A15: Mantenimiento de oferta: | B15: Según Artículo 117 del R.C.C.
A18: Items a cotizar:
A20: Item | B20: Cantidad | C20: U/M | D20: Código NUM | E20: Descripción | F20: Cód. Fabricante - Nº de ET - N° de Plano
A22: 1 | B22: 36 | C22: C/U | D22: NUM96500000560N | E22: Palier Largo | F22: Ref. Fáb. 812787
A23: 2 | B23: 36 | C23: C/U | D23: NUM96500000610N | E23: Piñón cónico recto Z=21 estría interior | F23: Ref. Fáb. 812788
A24: 3 | B24: 36 | C24: C/U | D24: NUM96500000620N | E24: Piñón cónico recto Z=21 sin estría y rosca | F24: Ref. Fáb. 1.74.216
A25: 4 | B25: 36 | C25: C/U | D25: NUM9650000570N | E25: Palier corto | F25: Ref. Fáb. 812786
A26: 5 | B26: 36 | C26: C/U | D26: NUM9650000580N | E26: Corona cónica recta Z=29 | F26: Ref. Fáb. 812790
A27: 6 | B27: 36 | C27: C/U | D27: NUM9650000590N | E27: Piñón cilíndrico recto | F27: Ref. Fáb. 820022
A28: 7 | B28: 36 | C28: C/U | D28: NUM9650000600N | E28: Coronas cilíndricas rectas | F28: Ref. Fáb. 820021
A29: 8 | B29: 36 | C29: C/U | D29: NUM9650000630N | E29: Brida 12 agujeros y estría interior | F29: Ref. Fáb. 812785
