Workbook
Name asfalto: #REF!
Name asfalto: #REF!
Name asfalto: #REF!
Name asfalto: #REF!
Name asfalto: #REF!
Name asfalto: #REF!
Name asfalto: #REF!
Name asfalto: #REF!
Name asfalto: #REF!
Name asfalto: #REF!
Name asfalto: #REF!
Name asfalto: #REF!
Name asfalto: #REF!
Name asfalto: #REF!
Name asfalto: #REF!
Name asfalto: #REF!
Name asfalto: #REF!
Name asfalto: #REF!
Name asfalto: #REF!
Name asfalto: #REF!
Name asfalto: #REF!
Name asfalto: #REF!
Name asfalto: #REF!
Name asfalto: #REF!
Name asfalto: #REF!
Name asfalto: #REF!
Name asfalto: #REF!
Name asfalto: #REF!
Name asfalto: #REF!
Name asfalto: #REF!
Name asfalto: #REF!
Name asfalto: #REF!
Name asfalto: #REF!
Name asfalto: #REF!
Name asfalto: #REF!
Name asfalto: #REF!
Name asfalto: #REF!
Name asfalto: #REF!
Name CANT_COMIDA: #REF!
Name CANT_COMIDA: #REF!
Name CANT_COMIDA: #REF!
Name CANT_COMIDA: #REF!
Name CANT_COMIDA: #REF!
Name CANT_COMIDA: #REF!
Name CANT_COMIDA: #REF!
Name CANT_COMIDA: #REF!
Name CANT_COMIDA: #REF!
Name CANT_COMIDA: #REF!
Name CANT_COMIDA: #REF!
Name CANT_COMIDA: #REF!
Name CANT_COMIDA: #REF!
Name CANT_COMIDA: #REF!
Name CANT_COMIDA: #REF!
Name CANT_COMIDA: #REF!
Name CANT_COMIDA: #REF!
Name CANT_COMIDA: #REF!
Name CANT_COMIDA: #REF!
Name CANT_COMIDA: #REF!
Name CANT_COMIDA: #REF!
Name CANT_COMIDA: #REF!

Sheet Presupuesto Oficial
A1: OBRA: SERVICIO DE REFACCIÓN Y REACONDICIONAMIENTO DE LA INFRAESTRUCTURA EDILICIA
A2: LÍNEA SARMIENTO
A4: PLANILLA DE COTIZACIÓN (Valor Indicativo)
A6: Item | B6: Rubro | C6: Unid. | D6: Cantidad | E6: Precio Unitario | F6: Precio Total
A7: 1 | B7: CONSTRUCCIONES EN SECO (Materiales y mano de obra)
A8: 1.1 | B8: Tabiques y cielorrasos
A9: 1.1.1 | B9: Pared tabique de 10cm de espesor (placa de 12.5 Mm.) | C9: m2 | D9: 300 | E9: 338.07 | F9: =D9*E9 -> 101421
A10: 1.1.2 | B10: Cielorrasos suspendido o medio tabique (placa de 12.5 Mm.) | C10: m2 | D10: 350 | E10: 224.77 | F10: =D10*E10 -> 78669.5
A11: 2 | B11: CONTRAPISOS Y CARPETAS (Materiales y mano de obra en reparaciones)
A12: 2.1 | B12: Bajo piso de mosaicos y plásticos
A13: 2.11 | B13: Horm.de cascotes sobre losa, esp 8cm. . Reparación | C13: m2 | D13: 550 | E13: 110.97 | F13: =D13*E13 -> 61033.5
A14: 2.12 | B14: Horm.de arcilla exp.en loc.sanit. Esp. 18cm. | C14: m2 | D14: 140 | E14: 574.71 | F14: =D14*E14 -> 80459.4
A15: 2.2 | B15: Bajo piso de parquet
A16: 2.2.1 | B16: Horm.de arcilla exp.en sobre losas Esp. 10cm. Reparación | C16: m2 | D16: 250 | E16: 203.68 | F16: =D16*E16 -> 50920
A17: 2.2.2 | B17: Carpeta de concreto. Reparación | C17: m2 | D17: 400 | E17: 98.96 | F17: =D17*E17 -> 39584
A18: 3 | B18: PINTURA (Materiales y mano de obra)
A19: 3.1 | B19: De Muros Interiores de revoque fino
A20: 3.1.1 | B20: Al látex con enduido | C20: m2 | D20: 1200 | E20: 82.59 | F20: =D20*E20 -> 99108
A21: 3.2 | B21: De Muros Exteriores
A22: 3.2.2 | B22: Al látex acrílico | C22: m2 | D22: 1000 | E22: 45.69 | F22: =D22*E22 -> 45690
A23: 3.3 | B23: De Cielorraso de yeso
A24: 3.3.1 | B24: Al látex (enduido 2 manos, fijador y 3 de látex) | C24: m2 | D24: 500 | E24: 105.35 | F24: =D24*E24 -> 52675
A25: 3.4 | B25: De Carpinterías de madera
A26: 3.4.1 | B26: Esmalte o barniz sintético mate, semimate o brillante. | C26: m2 | D26: 650 | E26: 113 | F26: =D26*E26 -> 73450
A27: 3.4.2 | B27: Retiro total de pintura existente y lustrado mate, semimate o brillante | C27: m2 | D27: 230 | E27: 141.65 | F27: =D27*E27 -> 32579.5
A28: 3.4.3 | B28: Sellado, encerado y trapeado | C28: m2 | D28: 200 | E28: 130.68 | F28: =D28*E28 -> 26136
A29: 3.5 | B29: De Carpinterías Metálica
A30: 3.5.1 | B30: Convertidor sintético mate, semimate o brillante. | C30: m2 | D30: 380 | E30: 117.44 | F30: =D30*E30 -> 44627.2
A31: 4 | B31: REVOQUES (Materiales y mano de obra)
A32: 4.1 | B32: Grueso
A33: 4.1.1 | B33: En interiores. Reparación | C33: m2 | D33: 800 | E33: 109.45 | F33: =D33*E33 -> 87560
A34: 4.1.1 | B34: En exteriores. Reparación | C34: m2 | D34: 650 | E34: 123.72 | F34: =D34*E34 -> 80418
A35: 4.2 | B35: Finos a la cal esp. 5 Mm.
A36: 4.2.1 | B36: En exteriores | C36: m2 | D36: 500 | E36: 265.14 | F36: =D36*E36 -> 132570
A37: 4.2.2 | B37: En interiores | C37: m2 | D37: 700 | E37: 217.16 | F37: =D37*E37 -> 152012
A38: 4.3 | B38: Completos
A39: 4.3.1 | B39: Terminación Interior a la cal fina, fratasado al fieltro | C39: m2 | D39: 500 | E39: 192.1 | F39: =D39*E39 -> 96050
A40: 5 | B40: PISOS (Mano de obra, desmonte, emprolijado de bordes, materiales de asiento, pulido y empastinado)
A41: 5.1 | B41: Mosaicos
A42: 5.1.1 | B42: Veredas - Reparaciones | C42: m2 | D42: 400 | E42: 181.5 | F42: =D42*E42 -> 72600
...

Sheet Ap. RUTA NACIONAL 16
A4: OBRA: | B4: CONSTRUCCIÓN DE APEADEROS DEL SERVICIO SAENZ PEÑA - CHOROTIS
B5: Ap. RUTA NACIONAL 16
B7: LÍNEA BELGRANO
A8: PLANILLA DE COTIZACIÓN
A10: Item | B10: Rubro | C10: Unid. | D10: Cantidad | E10: Precio Unitario | F10: Precio Total
A11: 1 | B11: TAREAS PREVIAS
A12: 1.1 | B12: Obrador | C12: gl | D12: 1 | F12: =+D12*E12 -> 0
A13: 1.2 | B13: Limpieza, demoliciones, vallado, señalización | C13: gl | D13: 1 | F13: =+D13*E13 -> 0
A14: 2 | B14: INGENIERÍA DE OBRA, PROYECTO EJECUTIVO
A15: 2.1 | B15: Proyecto Ejecutivo | C15: m2 | D15: =+D18+D21+D24 -> 202.77 | F15: =+D15*E15 -> 0
A16: 2.2 | B16: Documentación Conforme a Obra | C16: m2 | D16: =+D15 -> 202.77 | F16: =+D16*E16 -> 0
A17: 3 | B17: REFUGIO
A18: 3.1 | B18: Fabricación e instalación del nuevo refugio | C18: m2 | D18: 32.67 | F18: =+D18*E18 -> 0 | I18: ancho | J18: largo
A19: 3.2 | B19: Ejecucion de bases de hormigon | C19: Un | D19: 4
A20: 4 | B20: ANDENES
A21: 4.1 | B21: Construcción de anden nuevo | C21: m2 | D21: =3*40.5 -> 121.5 | F21: =+D21*E21 -> 0 | J21: =+#REF! -> #REF! | K21: =+J21*D21 -> #REF!
A22: 4.2 | B22: Bordes y solados reglamentarios en andenes | C22: m2 | D22: =40.5*1.5*1.2 -> 72.9 | F22: =+D22*E22 -> 0
A23: 4.3 | B23: Contrapiso de hormigon pobre - esp. 10 cm | C23: m2 | D23: =3*40.5 -> 121.5
A24: 4.4 | B24: Terminacion en cemento alisado al fieltro | C24: m2 | D24: =+D23-D22 -> 48.6
A25: 4.5 | B25: Mamposteria de cierre (incluye revoques grueso y fino exterior, aislaciones y pintura) | C25: m2 | D25: =2*(40.5+3)*0.5 -> 43.5
A26: 5 | B26: BARANDAS METALICAS | F26: 0
A27: 5.1 | B27: Barandas metalicas perimetrales en anden (incluye relleno de Hºpobre en parantes, Pintura y placas de anclaje) | C27: ml | D27: =40.5+2*3-1.1 -> 45.4
A28: 5.2 | B28: Baranda - pasamanos en Rampa de acceso (incluye relleno de Hºpobre en parantes, Pintura y placas de anclaje) | C28: ml | D28: =12.05*2 -> 24.1
A29: 6 | B29: MOBILIARIOS | F29: =+D29*E29 -> 0 | H29: =+G29/D21 -> 0 | J29: =1520/400 -> 3.8
A30: 6.1 | B30: Provision e Instalacion de mobiliarios | C30: Un | D30: 3
A31: 6.2 | B31: Provision e Instalacion de cestos de residuos | C31: Un | D31: 3
A32: 7 | B32: CARTELERIA | F32: =+D32*E32 -> 0 | H32: =+G32/D24 -> 0 | J32: =1520/400 -> 3.8
A33: 7.1 | B33: Provision e instalacion de cartel de estacion | C33: Un | D33: 1
A34: 7.2 | B34: Provision e instalacion de cartel de recorrido y horarios | C34: Un | D34: 2
A35: 8 | B35: INSTALACIÓN ELÉCTRICA E ILUMINACIÓN
A36: 8.1 | B36: Provisión e instalación de columnas y artefactos de iluminación tipo vial – Plaquetas LED | C36: U | D36: 3 | F36: =+D36*E36 -> 0
A37: 8.2 | B37: Provisión y colocación de artefactos de iluminación en refugios y sector cerrado. | C37: U | D37: 18 | F37: 0
A38: 8.3 | B38: Tendido Electrico | C38: ml | D38: =121+30 -> 151 | F38: 0
A39: 8.4 | B39: Tablero Central | C39: Un | D39: 1
A40: 9 | B40: ACCESOS | J40: =1126/400 -> 2.815
A41: 9.1 | B41: Ejecución de sendero de acceso | C41: m2 | D41: 125.2 | F41: =+E41*D41 -> 0
A42: 9.2 | B42: Ejecución rampa para personas con movilidad reducida | C42: Un | D42: 1 | F42: =+E42*D42 -> 0
A43: 9.3 | B43: Ejecucion de Pasos Peatonales y Laberintos | C43: Un | D43: 1 | F43: 0
A44: 9.4 | B44: Ejecucion de Cerco Romboidal | C44: ml | D44: =149.4+85.34+1 -> 235.74 | F44: 0
B45: SUBTOTAL SIN IVA | F45: =SUM(F12:F43) -> 0 | K45: =+F45-F21+K21 -> #REF!
...

Sheet Ap. CAMPO LARGO
A4: OBRA: | B4: CONSTRUCCIÓN DE APEADEROS DEL SERVICIO SAENZ PEÑA - CHOROTIS
B5: Ap. CAMPO LARGO
B7: LÍNEA BELGRANO
A8: PLANILLA DE COTIZACIÓN
A10: Item | B10: Rubro | C10: Unid. | D10: Cantidad | E10: Precio Unitario | F10: Precio Total
A11: 1 | B11: TAREAS PREVIAS
A12: 1.1 | B12: Obrador | C12: gl | D12: 1 | F12: =+D12*E12 -> 0
A13: 1.2 | B13: Limpieza, demoliciones, vallado, señalización | C13: gl | D13: 1 | F13: =+D13*E13 -> 0
A14: 2 | B14: INGENIERÍA DE OBRA, PROYECTO EJECUTIVO
A15: 2.1 | B15: Proyecto Ejecutivo | C15: m2 | D15: =+D18+D21+D24 -> 202.77 | F15: =+D15*E15 -> 0
A16: 2.2 | B16: Documentación Conforme a Obra | C16: m2 | D16: =+D15 -> 202.77 | F16: =+D16*E16 -> 0
A17: 3 | B17: REFUGIO
A18: 3.1 | B18: Fabricación e instalación del nuevo refugio | C18: m2 | D18: 32.67 | F18: =+D18*E18 -> 0 | I18: ancho | J18: largo
A19: 3.2 | B19: Ejecucion de bases de hormigon | C19: Un | D19: 4
A20: 4 | B20: ANDENES
A21: 4.1 | B21: Construcción de anden nuevo | C21: m2 | D21: =3*40.5 -> 121.5 | F21: =+D21*E21 -> 0 | J21: =+#REF! -> #REF! | K21: =+J21*D21 -> #REF!
A22: 4.2 | B22: Bordes y solados reglamentarios en andenes | C22: m2 | D22: =40.5*1.5*1.2 -> 72.9 | F22: =+D22*E22 -> 0
A23: 4.3 | B23: Contrapiso de hormigon pobre - esp. 10 cm | C23: m2 | D23: =3*40.5 -> 121.5
A24: 4.4 | B24: Terminacion en cemento alisado al fieltro | C24: m2 | D24: =+D23-D22 -> 48.6
A25: 4.5 | B25: Mamposteria de cierre (incluye revoques grueso y fino exterior, aislaciones y pintura) | C25: m2 | D25: =2*(40.5+3)*0.5 -> 43.5
A26: 5 | B26: BARANDAS METALICAS | F26: 0
A27: 5.1 | B27: Barandas metalicas perimetrales en anden (incluye relleno de Hºpobre en parantes, Pintura y placas de anclaje) | C27: ml | D27: =40.5+2*3-1.1 -> 45.4
A28: 5.2 | B28: Baranda - pasamanos en Rampa de acceso (incluye relleno de Hºpobre en parantes, Pintura y placas de anclaje) | C28: ml | D28: =12.05*2 -> 24.1
A29: 6 | B29: MOBILIARIOS | F29: =+D29*E29 -> 0 | H29: =+G29/D21 -> 0 | J29: =1520/400 -> 3.8
A30: 6.1 | B30: Provision e Instalacion de mobiliarios | C30: Un | D30: 3
A31: 6.2 | B31: Provision e Instalacion de cestos de residuos | C31: Un | D31: 3
A32: 7 | B32: CARTELERIA | F32: =+D32*E32 -> 0 | H32: =+G32/D24 -> 0 | J32: =1520/400 -> 3.8
A33: 7.1 | B33: Provision e instalacion de cartel de estacion | C33: Un | D33: 1
A34: 7.2 | B34: Provision e instalacion de cartel de recorrido y horarios | C34: Un | D34: 2
A35: 8 | B35: INSTALACIÓN ELÉCTRICA E ILUMINACIÓN
A36: 8.1 | B36: Provisión e instalación de columnas y artefactos de iluminación tipo vial – Plaquetas LED | C36: U | D36: 9 | F36: =+D36*E36 -> 0
A37: 8.2 | B37: Provisión y colocación de artefactos de iluminación en refugios y sector cerrado. | C37: U | D37: 18 | F37: 0
A38: 8.3 | B38: Tendido Electrico | C38: ml | D38: =95.23+30 -> 125.23 | F38: 0
A39: 8.4 | B39: Tablero Central | C39: Un | D39: 1
A40: 9 | B40: ACCESOS | J40: =1126/400 -> 2.815
A41: 9.1 | B41: Ejecución de sendero de acceso | C41: m2 | D41: 81.14 | F41: =+E41*D41 -> 0
A42: 9.2 | B42: Ejecución rampa para personas con movilidad reducida | C42: Un | D42: 1 | F42: =+E42*D42 -> 0
A43: 9.3 | B43: Ejecucion de Pasos Peatonales y Laberintos | C43: Un | D43: 1 | F43: 0
A44: 9.4 | B44: Ejecucion de Cerco Romboidal | C44: ml | D44: 190 | F44: 0
B45: SUBTOTAL SIN IVA | F45: =SUM(F12:F43) -> 0 | K45: =+F45-F21+K21 -> #REF!
...

Sheet Ap. LAS BREÑAS
A4: OBRA: | B4: CONSTRUCCIÓN DE APEADEROS DEL SERVICIO SAENZ PEÑA - CHOROTIS
B5: Ap. LAS BREÑAS
B7: LÍNEA BELGRANO
A8: PLANILLA DE COTIZACIÓN
A10: Item | B10: Rubro | C10: Unid. | D10: Cantidad | E10: Precio Unitario | F10: Precio Total
A11: 1 | B11: TAREAS PREVIAS
A12: 1.1 | B12: Obrador | C12: gl | D12: 1 | F12: =+D12*E12 -> 0
A13: 1.2 | B13: Limpieza, demoliciones, vallado, señalización | C13: gl | D13: 1 | F13: =+D13*E13 -> 0
A14: 2 | B14: INGENIERÍA DE OBRA, PROYECTO EJECUTIVO
A15: 2.1 | B15: Proyecto Ejecutivo | C15: m2 | D15: =+D18+D21+D24 -> 202.77 | F15: =+D15*E15 -> 0
A16: 2.2 | B16: Documentación Conforme a Obra | C16: m2 | D16: =+D15 -> 202.77 | F16: =+D16*E16 -> 0
A17: 3 | B17: REFUGIO
A18: 3.1 | B18: Fabricación e instalación del nuevo refugio | C18: m2 | D18: 32.67 | F18: =+D18*E18 -> 0 | I18: ancho | J18: largo
A19: 3.2 | B19: Ejecucion de bases de hormigon | C19: Un | D19: 4
A20: 4 | B20: ANDENES
A21: 4.1 | B21: Construcción de anden nuevo | C21: m2 | D21: =3*40.5 -> 121.5 | F21: =+D21*E21 -> 0 | J21: =+#REF! -> #REF! | K21: =+J21*D21 -> #REF!
A22: 4.2 | B22: Bordes y solados reglamentarios en andenes | C22: m2 | D22: =40.5*1.5*1.2 -> 72.9 | F22: =+D22*E22 -> 0
A23: 4.3 | B23: Contrapiso de hormigon pobre - esp. 10 cm | C23: m2 | D23: =3*40.5 -> 121.5
A24: 4.4 | B24: Terminacion en cemento alisado al fieltro | C24: m2 | D24: =+D23-D22 -> 48.6
A25: 4.5 | B25: Mamposteria de cierre (incluye revoques grueso y fino exterior, aislaciones y pintura) | C25: m2 | D25: =2*(40.5+3)*0.5 -> 43.5
A26: 5 | B26: BARANDAS METALICAS | F26: 0
A27: 5.1 | B27: Barandas metalicas perimetrales en anden (incluye relleno de Hºpobre en parantes, Pintura y placas de anclaje) | C27: ml | D27: =40.5+2*3-1.1 -> 45.4
A28: 5.2 | B28: Baranda - pasamanos en Rampa de acceso (incluye relleno de Hºpobre en parantes, Pintura y placas de anclaje) | C28: ml | D28: =12.05*2 -> 24.1
A29: 6 | B29: MOBILIARIOS | F29: =+D29*E29 -> 0 | H29: =+G29/D21 -> 0 | J29: =1520/400 -> 3.8
A30: 6.1 | B30: Provision e Instalacion de mobiliarios | C30: Un | D30: 3
A31: 6.2 | B31: Provision e Instalacion de cestos de residuos | C31: Un | D31: 3
A32: 7 | B32: CARTELERIA | F32: =+D32*E32 -> 0 | H32: =+G32/D24 -> 0 | J32: =1520/400 -> 3.8
A33: 7.1 | B33: Provision e instalacion de cartel de estacion | C33: Un | D33: 1
A34: 7.2 | B34: Provision e instalacion de cartel de recorrido y horarios | C34: Un | D34: 2
A35: 8 | B35: INSTALACIÓN ELÉCTRICA E ILUMINACIÓN
A36: 8.1 | B36: Provisión e instalación de columnas y artefactos de iluminación tipo vial – Plaquetas LED | C36: U | D36: 9 | F36: =+D36*E36 -> 0
A37: 8.2 | B37: Provisión y colocación de artefactos de iluminación en refugios y sector cerrado. | C37: U | D37: 18 | F37: 0
A38: 8.3 | B38: Tendido Electrico | C38: ml | D38: =55.9+32.91+30 -> 118.81 | F38: 0
A39: 8.4 | B39: Tablero Central | C39: Un | D39: 1
A40: 9 | B40: ACCESOS | J40: =1126/400 -> 2.815
A41: 9.1 | B41: Ejecución de sendero de acceso | C41: m2 | D41: =21*1.5+37.93 -> 69.43 | F41: =+E41*D41 -> 0
A42: 9.2 | B42: Ejecución rampa para personas con movilidad reducida | C42: Un | D42: 1 | F42: =+E42*D42 -> 0
A43: 9.3 | B43: Ejecucion de Pasos Peatonales y Laberintos | C43: Un | D43: 1 | F43: 0
A44: 9.4 | B44: Ejecucion de Cerco Romboidal | C44: ml | D44: =61.47+17.6*2+4 -> 100.67 | F44: 0
B45: SUBTOTAL SIN IVA | F45: =SUM(F12:F43) -> 0 | K45: =+F45-F21+K21 -> #REF!
...

Sheet S1 (2)
B3: OBRA: | C3: =+'Ap. RUTA NACIONAL 16'!B4 -> CONSTRUCCIÓN DE APEADEROS DEL SERVICIO SAENZ PEÑA - CHOROTIS
C4: GRUPO II
C5: =+#REF! -> #REF!
B7: PLANILLA TOTALIZADORA
B9: # | C9: APEADERO | D9: Precio Total con IVA
B10: 1 | C10: Ap. CHARATA | D10: 0
B11: 2 | C11: Ap. GRAL. PINEDO | D11: 0
B12: 3 | C12: Ap. HERMOSO CAMPO | D12: 0
C13: VALOR TOTAL - GRUPO II | D13: 0
B16: SON Pesos …………………………………………….…………………………………………………………….IVA INCLUIDO.
D25: Firma Apoderado del Oferente

Sheet RENGLON II
A4: OBRA: | B4: CONSTRUCCIÓN DE APEADEROS DEL SERVICIO SAENZ PEÑA - CHOROTIS
B5: RENGLON II
B7: LÍNEA BELGRANO
A8: PLANILLA DE COTIZACIÓN
A10: Item | B10: Rubro | C10: Unid. | D10: Cantidad | E10: Precio Unitario | F10: Precio Total | G10: Subtotal Ítem
A11: 1 | B11: TAREAS PREVIAS | G11: =SUM(F12:F13) -> 0
A12: 1.1 | B12: Obrador | C12: gl | D12: 1 | E12: 0 | F12: =+D12*E12 -> 0
A13: 1.2 | B13: Limpieza, demoliciones, vallado, señalización | C13: gl | D13: 1 | E13: 0 | F13: =+D13*E13 -> 0
A14: 2 | B14: INGENIERÍA DE OBRA, PROYECTO EJECUTIVO | G14: =SUM(F15:F16) -> 0
A15: 2.1 | B15: Proyecto Ejecutivo | C15: m2 | D15: =3*D19+3*D22+3*D25+D42+D72+D100 -> 784.935 | E15: 0 | F15: =+D15*E15 -> 0
A16: 2.2 | B16: Documentación Conforme a Obra | C16: m2 | D16: =+D15 -> 784.935 | E16: 0 | F16: =+D16*E16 -> 0
A17: 3 | B17: AP. CHARATA
A18: 3.1 | B18: REFUGIO | G18: =SUM(F19:F20) -> 0
A19: 3.1.1 | B19: Fabricación e instalación del nuevo refugio | C19: m2 | D19: 32.67 | E19: 0 | F19: =+D19*E19 -> 0
A20: 3.1.2 | B20: Ejecución de bases de hormigón | C20: Un | D20: 4 | E20: 0 | F20: 0
A21: 3.2 | B21: ANDENES | G21: =SUM(F22:F26) -> 0
A22: 3.2.1 | B22: Construcción de anden nuevo | C22: m2 | D22: =3*40.5 -> 121.5 | E22: 0 | F22: =+D22*E22 -> 0
A23: 3.2.2 | B23: Bordes y solados reglamentarios en andenes | C23: m2 | D23: =40.5*1.5*1.2 -> 72.9 | E23: 0 | F23: =+D23*E23 -> 0
A24: 3.2.3 | B24: Contrapiso de hormigón pobre - esp. 10 cm | C24: m2 | D24: =3*40.5 -> 121.5 | E24: 0 | F24: 0
A25: 3.2.4 | B25: Terminación en cemento alisado al fieltro | C25: m2 | D25: =+D24-D23 -> 48.6 | E25: 0 | F25: 0
A26: 3.2.5 | B26: Mampostería de cierre (incluye revoques grueso y fino exterior, aislaciones y pintura) | C26: m2 | D26: =2*(40.5+3)*0.5 -> 43.5 | E26: 0 | F26: 0
A27: 3.3 | B27: BARANDAS METALICAS | G27: =SUM(F28:F29) -> 0
A28: 3.3.1 | B28: Barandas metálicas perimetrales en anden (incluye relleno de Hºpobre en parantes, Pintura y placas de anclaje) | C28: ml | D28: =40.5+2*3-1.1 -> 45.4 | E28: 0 | F28: 0
A29: 3.3.2 | B29: Baranda - pasamanos en Rampa de acceso (incluye relleno de Hºpobre en parantes, Pintura y placas de anclaje) | C29: ml | D29: =12.05*2 -> 24.1 | E29: 0 | F29: 0
A30: 3.4 | B30: MOBILIARIOS | G30: =SUM(F31:F32) -> 0
A31: 3.4.1 | B31: Provisión e Instalación de mobiliarios | C31: Un | D31: 3 | E31: 0 | F31: 0
A32: 3.4.2 | B32: Provisión e Instalación de cestos de residuos | C32: Un | D32: 3 | E32: 0 | F32: 0
A33: 3.5 | B33: CARTELERIA | G33: =SUM(F34:F35) -> 0
A34: 3.5.1 | B34: Provisión e instalación de cartel de estación | C34: Un | D34: 1 | E34: 0 | F34: 0
A35: 3.5.2 | B35: Provisión e instalación de cartel de recorrido y horarios | C35: Un | D35: 2 | E35: 0 | F35: 0
A36: 3.6 | B36: INSTALACIÓN ELÉCTRICA E ILUMINACIÓN | G36: =SUM(F37:F40) -> 0
A37: 3.6.1 | B37: Provisión e instalación de columnas y artefactos de iluminación tipo vial – Plaquetas LED | C37: U | D37: 9 | E37: 0 | F37: =+D37*E37 -> 0
A38: 3.6.2 | B38: Provisión y colocación de artefactos de iluminación en refugios y sector cerrado. | C38: U | D38: 18 | E38: 0 | F38: 0
A39: 3.6.3 | B39: Tendido Eléctrico | C39: ml | D39: =55.9+32.91+30 -> 118.81 | E39: 0 | F39: 0
A40: 3.6.4 | B40: Tablero Central | C40: Un | D40: 1 | E40: 0 | F40: 0
A41: 3.7 | B41: ACCESOS | G41: =SUM(F42:F45) -> 0
A42: 3.7.1 | B42: Ejecución de sendero de acceso | C42: m2 | D42: =21.99*1.5+39.25 -> 72.235 | E42: 0 | F42: =+E42*D42 -> 0
A43: 3.7.2 | B43: Ejecución rampa para personas con movilidad reducida | C43: Un | D43: 1 | E43: 0 | F43: =+E43*D43 -> 0
A44: 3.7.3 | B44: Ejecución de Pasos Peatonales y Laberintos | C44: Un | D44: 1 | E44: 0 | F44: 0
A45: 3.7.4 | B45: Ejecución de Cerco Romboidal | C45: ml | D45: =62.79+17.6*2+4 -> 101.99 | E45: 0 | F45: 0
...

Sheet Planilla de Cot
A4: OBRA: | B4: ADECUACION DE PUENTE EN 408+566 - LINEA F
B5: TRENES DEL INTERIOR
A9: PLANILLA DE COTIZACIÓN
A11: Ítem | B11: Rubro | C11: Unid. | D11: Cantidad | E11: Precio Unitario | F11: FC Act PR base DIC 2016 | G11: Precio Total | H11: Subtotal Ítem
A12: 1 | B12: TAREAS PREVIAS | H12: =SUM(G13:G14) -> 0
A13: 1.1 | B13: Obrador | C13: GL | D13: 1
A14: 1.2 | B14: Limpieza, demoliciones, vallado, señalización | C14: GL | D14: 1
A15: 2 | B15: INGENIERÍA DE OBRA, PROYECTO EJECUTIVO | H15: =SUM(G16:G17) -> 0
A16: 2.1 | B16: Proyecto Ejecutivo | C16: GL | D16: 1
A17: 2.2 | B17: Documentación Conforme a Obra | C17: GL | D17: =+D16 -> 1
A18: 3 | B18: DESARME Y EXCAVACION | H18: =SUM(G19:G23) -> 0
A19: 3.1 | B19: Desarme del puente - Incl. Transporte al lugar de acopio | C19: Un | D19: 1
A20: 3.2 | B20: Excavacion | C20: M2 | D20: =12*12 -> 144
A21: 4 | B21: MOVIMIENTO DE SUELOS Y HORMIGONES | H21: =SUM(G22:G26) -> 0
A22: 4.1 | B22: Ejecución de capa de suelo seleccionado compactado | C22: M2 | D22: =+D20 -> 144
A23: 4.2 | B23: Ejecucion de capa de suelos seleccionado compactado sobre los modulos | C23: M2 | D23: =4*12 -> 48
A24: 4.3 | B24: Ejecución de plateas de hormigón armado | C24: M3 | D24: =4*12*2*0.35 -> 33.6
A25: 5 | B25: EJECUCION DE PREMOLDEADOS | H25: =SUM(G26:G28) -> 0
A26: 5.1 | B26: Ejecución de modulos premoldeados | C26: Un | D26: 20
A27: 5.2 | B27: Ejecución de muros laterales premoldeados | C27: Un | D27: 4
A28: 5.3 | B28: Ejecucion de cabezal guarda balasto | C28: Un | D28: 2
A29: 6 | B29: TRANSPORTE Y MONTAJE DE PIEZAS PREMOLDEADAS | H29: =SUM(G30) -> 0
A30: 6.1 | B30: Transporte y montaje de piezas premoldeadas | C30: GL | D30: 1
A31: 7 | B31: ARMADO DE VIA | H31: =SUM(G32) -> 0
A32: 7.1 | B32: Provision y colocación de piedra balasto | C32: Tn | D32: =0.3*12*4*1.8 -> 25.92
B34: Total Costo Directo | H34: =SUM(H12:H32) -> 0
B36: Gastos Generales | C36: =H36/H34 -> #REF! | H36: =+#REF! -> #REF!
B38: Subtotal CD + GG | H38: =H34+H36 -> #REF!
B40: Beneficio + Riesgos | C40: =0.15 -> 0.15 | H40: =H38*C40 -> #REF!
B42: Costo Financiero | C42: =0.015+0.0002 -> 0.0152 | H42: =H38*C42 -> #REF!
B44: Subtotal (CD+GG)+ B + CF | H44: =H38+H40+H42 -> #REF!
B46: IMPUESTOS | C46: 0.06 | H46: =H44*C46 -> #REF!
B48: TOTAL SIN IVA
B49: IVA 21%
B50: TOTAL

Sheet Ap. CHARATA
A4: OBRA: | B4: CONSTRUCCIÓN DE APEADEROS DEL SERVICIO SAENZ PEÑA - CHOROTIS
B5: Ap. CHARATA
B7: LÍNEA BELGRANO
A8: PLANILLA DE COTIZACIÓN
A10: Item | B10: Rubro | C10: Unid. | D10: Cantidad | E10: Precio Unitario | F10: Precio Total
A11: 1 | B11: TAREAS PREVIAS
A12: 1.1 | B12: Obrador | C12: gl | D12: 1 | F12: =+D12*E12 -> 0
A13: 1.2 | B13: Limpieza, demoliciones, vallado, señalización | C13: gl | D13: 1 | F13: =+D13*E13 -> 0
A14: 2 | B14: INGENIERÍA DE OBRA, PROYECTO EJECUTIVO
A15: 2.1 | B15: Proyecto Ejecutivo | C15: m2 | D15: =+D18+D21+D24 -> 202.77 | F15: =+D15*E15 -> 0
A16: 2.2 | B16: Documentación Conforme a Obra | C16: m2 | D16: =+D15 -> 202.77 | F16: =+D16*E16 -> 0
A17: 3 | B17: REFUGIO
A18: 3.1 | B18: Fabricación e instalación del nuevo refugio | C18: m2 | D18: 32.67 | F18: =+D18*E18 -> 0 | I18: ancho | J18: largo
A19: 3.2 | B19: Ejecucion de bases de hormigon | C19: Un | D19: 4
A20: 4 | B20: ANDENES
A21: 4.1 | B21: Construcción de anden nuevo | C21: m2 | D21: =3*40.5 -> 121.5 | F21: =+D21*E21 -> 0 | J21: =+#REF! -> #REF! | K21: =+J21*D21 -> #REF!
A22: 4.2 | B22: Bordes y solados reglamentarios en andenes | C22: m2 | D22: =40.5*1.5*1.2 -> 72.9 | F22: =+D22*E22 -> 0
A23: 4.3 | B23: Contrapiso de hormigon pobre - esp. 10 cm | C23: m2 | D23: =3*40.5 -> 121.5
A24: 4.4 | B24: Terminacion en cemento alisado al fieltro | C24: m2 | D24: =+D23-D22 -> 48.6
A25: 4.5 | B25: Mamposteria de cierre (incluye revoques grueso y fino exterior, aislaciones y pintura) | C25: m2 | D25: =2*(40.5+3)*0.5 -> 43.5
A26: 5 | B26: BARANDAS METALICAS | F26: 0
A27: 5.1 | B27: Barandas metalicas perimetrales en anden (incluye relleno de Hºpobre en parantes, Pintura y placas de anclaje) | C27: ml | D27: =40.5+2*3-1.1 -> 45.4
A28: 5.2 | B28: Baranda - pasamanos en Rampa de acceso (incluye relleno de Hºpobre en parantes, Pintura y placas de anclaje) | C28: ml | D28: =12.05*2 -> 24.1
A29: 6 | B29: MOBILIARIOS | F29: =+D29*E29 -> 0 | H29: =+G29/D21 -> 0 | J29: =1520/400 -> 3.8
A30: 6.1 | B30: Provision e Instalacion de mobiliarios | C30: Un | D30: 3
A31: 6.2 | B31: Provision e Instalacion de cestos de residuos | C31: Un | D31: 3
A32: 7 | B32: CARTELERIA | F32: =+D32*E32 -> 0 | H32: =+G32/D24 -> 0 | J32: =1520/400 -> 3.8
A33: 7.1 | B33: Provision e instalacion de cartel de estacion | C33: Un | D33: 1
A34: 7.2 | B34: Provision e instalacion de cartel de recorrido y horarios | C34: Un | D34: 2
A35: 8 | B35: INSTALACIÓN ELÉCTRICA E ILUMINACIÓN
A36: 8.1 | B36: Provisión e instalación de columnas y artefactos de iluminación tipo vial – Plaquetas LED | C36: U | D36: 9 | F36: =+D36*E36 -> 0
A37: 8.2 | B37: Provisión y colocación de artefactos de iluminación en refugios y sector cerrado. | C37: U | D37: 18 | F37: 0
A38: 8.3 | B38: Tendido Electrico | C38: ml | D38: =55.9+32.91+30 -> 118.81 | F38: 0
A39: 8.4 | B39: Tablero Central | C39: Un | D39: 1
A40: 9 | B40: ACCESOS | J40: =1126/400 -> 2.815
A41: 9.1 | B41: Ejecución de sendero de acceso | C41: m2 | D41: =21.99*1.5+39.25 -> 72.235 | F41: =+E41*D41 -> 0
A42: 9.2 | B42: Ejecución rampa para personas con movilidad reducida | C42: Un | D42: 1 | F42: =+E42*D42 -> 0
A43: 9.3 | B43: Ejecucion de Pasos Peatonales y Laberintos | C43: Un | D43: 1 | F43: 0
A44: 9.4 | B44: Ejecucion de Cerco Romboidal | C44: ml | D44: =62.79+17.6*2+4 -> 101.99 | F44: 0
B45: SUBTOTAL SIN IVA | F45: =SUM(F12:F43) -> 0 | K45: =+F45-F21+K21 -> #REF!
...

Sheet Ap. PINEDO
A4: OBRA: | B4: CONSTRUCCIÓN DE APEADEROS DEL SERVICIO SAENZ PEÑA - CHOROTIS
B5: Ap. PINEDO
B7: LÍNEA BELGRANO
A8: PLANILLA DE COTIZACIÓN
A10: Item | B10: Rubro | C10: Unid. | D10: Cantidad | E10: Precio Unitario | F10: Precio Total
A11: 1 | B11: TAREAS PREVIAS
A12: 1.1 | B12: Obrador | C12: gl | D12: 1 | F12: =+D12*E12 -> 0
A13: 1.2 | B13: Limpieza, demoliciones, vallado, señalización | C13: gl | D13: 1 | F13: =+D13*E13 -> 0
A14: 2 | B14: INGENIERÍA DE OBRA, PROYECTO EJECUTIVO
A15: 2.1 | B15: Proyecto Ejecutivo | C15: m2 | D15: =+D18+D21+D24 -> 202.77 | F15: =+D15*E15 -> 0
A16: 2.2 | B16: Documentación Conforme a Obra | C16: m2 | D16: =+D15 -> 202.77 | F16: =+D16*E16 -> 0
A17: 3 | B17: REFUGIO
A18: 3.1 | B18: Fabricación e instalación del nuevo refugio | C18: m2 | D18: 32.67 | F18: =+D18*E18 -> 0 | I18: ancho | J18: largo
A19: 3.2 | B19: Ejecucion de bases de hormigon | C19: Un | D19: 4
A20: 4 | B20: ANDENES
A21: 4.1 | B21: Construcción de anden nuevo | C21: m2 | D21: =3*40.5 -> 121.5 | F21: =+D21*E21 -> 0 | J21: =+#REF! -> #REF! | K21: =+J21*D21 -> #REF!
A22: 4.2 | B22: Bordes y solados reglamentarios en andenes | C22: m2 | D22: =40.5*1.5*1.2 -> 72.9 | F22: =+D22*E22 -> 0
A23: 4.3 | B23: Contrapiso de hormigon pobre - esp. 10 cm | C23: m2 | D23: =3*40.5 -> 121.5
A24: 4.4 | B24: Terminacion en cemento alisado al fieltro | C24: m2 | D24: =+D23-D22 -> 48.6
A25: 4.5 | B25: Mamposteria de cierre (incluye revoques grueso y fino exterior, aislaciones y pintura) | C25: m2 | D25: =2*(40.5+3)*0.5 -> 43.5
A26: 5 | B26: BARANDAS METALICAS | F26: 0
A27: 5.1 | B27: Barandas metalicas perimetrales en anden (incluye relleno de Hºpobre en parantes, Pintura y placas de anclaje) | C27: ml | D27: =40.5+2*3-1.1 -> 45.4
A28: 5.2 | B28: Baranda - pasamanos en Rampa de acceso (incluye relleno de Hºpobre en parantes, Pintura y placas de anclaje) | C28: ml | D28: =12.05*2 -> 24.1
A29: 6 | B29: MOBILIARIOS | F29: =+D29*E29 -> 0 | H29: =+G29/D21 -> 0 | J29: =1520/400 -> 3.8
A30: 6.1 | B30: Provision e Instalacion de mobiliarios | C30: Un | D30: 3
A31: 6.2 | B31: Provision e Instalacion de cestos de residuos | C31: Un | D31: 3
A32: 7 | B32: CARTELERIA | F32: =+D32*E32 -> 0 | H32: =+G32/D24 -> 0 | J32: =1520/400 -> 3.8
A33: 7.1 | B33: Provision e instalacion de cartel de estacion | C33: Un | D33: 1
A34: 7.2 | B34: Provision e instalacion de cartel de recorrido y horarios | C34: Un | D34: 2
A35: 8 | B35: INSTALACIÓN ELÉCTRICA E ILUMINACIÓN
A36: 8.1 | B36: Provisión e instalación de columnas y artefactos de iluminación tipo vial – Plaquetas LED | C36: U | D36: 7 | F36: =+D36*E36 -> 0
A37: 8.2 | B37: Provisión y colocación de artefactos de iluminación en refugios y sector cerrado. | C37: U | D37: 18 | F37: 0
A38: 8.3 | B38: Tendido Electrico | C38: ml | D38: =48.17+25.62+30 -> 103.79 | F38: 0
A39: 8.4 | B39: Tablero Central | C39: Un | D39: 1
A40: 9 | B40: ACCESOS | J40: =1126/400 -> 2.815
A41: 9.1 | B41: Ejecución de sendero de acceso | C41: m2 | D41: =39.46 -> 39.46 | F41: =+E41*D41 -> 0
A42: 9.2 | B42: Ejecución rampa para personas con movilidad reducida | C42: Un | D42: 1 | F42: =+E42*D42 -> 0
A43: 9.3 | B43: Ejecucion de Cerco Romboidal | C43: ml | D43: =85+25 -> 110 | F43: 0
B44: SUBTOTAL SIN IVA | F44: =SUM(F12:F42) -> 0 | K44: =+F44-F21+K21 -> #REF!
B45: IVA 21% | F45: =0.21*F44 -> 0
...

Sheet Ap. HERMOSO CAMPO
A4: OBRA: | B4: CONSTRUCCIÓN DE APEADEROS DEL SERVICIO SAENZ PEÑA - CHOROTIS
B5: Ap. HERMOSO CAMPO
B7: LÍNEA BELGRANO
A8: PLANILLA DE COTIZACIÓN
A10: Item | B10: Rubro | C10: Unid. | D10: Cantidad | E10: Precio Unitario | F10: Precio Total
A11: 1 | B11: TAREAS PREVIAS
A12: 1.1 | B12: Obrador | C12: gl | D12: 1 | F12: =+D12*E12 -> 0
A13: 1.2 | B13: Limpieza, demoliciones, vallado, señalización | C13: gl | D13: 1 | F13: =+D13*E13 -> 0
A14: 2 | B14: INGENIERÍA DE OBRA, PROYECTO EJECUTIVO
A15: 2.1 | B15: Proyecto Ejecutivo | C15: m2 | D15: =+D18+D21+D24 -> 202.77 | F15: =+D15*E15 -> 0
A16: 2.2 | B16: Documentación Conforme a Obra | C16: m2 | D16: =+D15 -> 202.77 | F16: =+D16*E16 -> 0
A17: 3 | B17: REFUGIO
A18: 3.1 | B18: Fabricación e instalación del nuevo refugio | C18: m2 | D18: 32.67 | F18: =+D18*E18 -> 0 | I18: ancho | J18: largo
A19: 3.2 | B19: Ejecucion de bases de hormigon | C19: Un | D19: 4
A20: 4 | B20: ANDENES
A21: 4.1 | B21: Construcción de anden nuevo | C21: m2 | D21: =3*40.5 -> 121.5 | F21: =+D21*E21 -> 0 | J21: =+#REF! -> #REF! | K21: =+J21*D21 -> #REF!
A22: 4.2 | B22: Bordes y solados reglamentarios en andenes | C22: m2 | D22: =40.5*1.5*1.2 -> 72.9 | F22: =+D22*E22 -> 0
A23: 4.3 | B23: Contrapiso de hormigon pobre - esp. 10 cm | C23: m2 | D23: =3*40.5 -> 121.5
A24: 4.4 | B24: Terminacion en cemento alisado al fieltro | C24: m2 | D24: =+D23-D22 -> 48.6
A25: 4.5 | B25: Mamposteria de cierre (incluye revoques grueso y fino exterior, aislaciones y pintura) | C25: m2 | D25: =2*(40.5+3)*0.5 -> 43.5
A26: 5 | B26: BARANDAS METALICAS | F26: 0
A27: 5.1 | B27: Barandas metalicas perimetrales en anden (incluye relleno de Hºpobre en parantes, Pintura y placas de anclaje) | C27: ml | D27: =40.5+2*3-1.1 -> 45.4
A28: 5.2 | B28: Baranda - pasamanos en Rampa de acceso (incluye relleno de Hºpobre en parantes, Pintura y placas de anclaje) | C28: ml | D28: =12.05*2 -> 24.1
A29: 6 | B29: MOBILIARIOS | F29: =+D29*E29 -> 0 | H29: =+G29/D21 -> 0 | J29: =1520/400 -> 3.8
A30: 6.1 | B30: Provision e Instalacion de mobiliarios | C30: Un | D30: 3
A31: 6.2 | B31: Provision e Instalacion de cestos de residuos | C31: Un | D31: 3
A32: 7 | B32: CARTELERIA | F32: =+D32*E32 -> 0 | H32: =+G32/D24 -> 0 | J32: =1520/400 -> 3.8
A33: 7.1 | B33: Provision e instalacion de cartel de estacion | C33: Un | D33: 1
A34: 7.2 | B34: Provision e instalacion de cartel de recorrido y horarios | C34: Un | D34: 2
A35: 8 | B35: INSTALACIÓN ELÉCTRICA E ILUMINACIÓN
A36: 8.1 | B36: Provisión e instalación de columnas y artefactos de iluminación tipo vial – Plaquetas LED | C36: U | D36: 8 | F36: =+D36*E36 -> 0
A37: 8.2 | B37: Provisión y colocación de artefactos de iluminación en refugios y sector cerrado. | C37: U | D37: 18 | F37: 0
A38: 8.3 | B38: Tendido Electrico | C38: ml | D38: =82+30 -> 112 | F38: 0
A39: 8.4 | B39: Tablero Central | C39: Un | D39: 1
A40: 9 | B40: ACCESOS | J40: =1126/400 -> 2.815
A41: 9.1 | B41: Ejecución de sendero de acceso | C41: m2 | D41: 64.93 | F41: =+E41*D41 -> 0
A42: 9.2 | B42: Ejecución rampa para personas con movilidad reducida | C42: Un | D42: 1 | F42: =+E42*D42 -> 0
A43: 9.3 | B43: Ejecucion de Pasos Peatonales y Laberintos | C43: Un | D43: 1 | F43: 0
A44: 9.4 | B44: Ejecucion de Cerco Romboidal | C44: ml | D44: 46 | F44: 0
B45: SUBTOTAL SIN IVA | F45: =SUM(F12:F43) -> 0 | K45: =+F45-F21+K21 -> #REF!
...

Sheet S1 (4)
B3: OBRA: | C3: =+'Ap. RUTA NACIONAL 16'!B4 -> CONSTRUCCIÓN DE APEADEROS DEL SERVICIO SAENZ PEÑA - CHOROTIS
C4: GRUPO III
C5: =+#REF! -> #REF!
B7: PLANILLA TOTALIZADORA
B9: # | C9: APEADERO | D9: Precio Total con IVA
B10: 1 | C10: =+'Ap.LOS AROMOS'!B5 -> Bº LOS AROMOS | D10: 0
B11: 2 | C11: =+'Ap. ABORIGENES'!B5 -> Bº ABORIGENES | D11: 0
B12: 3 | C12: =+'Ap. ANUNCIACION'!B5 -> Bº ANUNCIACION | D12: 0
C13: VALOR TOTAL - GRUPO III | D13: 0
B16: SON Pesos …………………………………………….…………………………………………………………….IVA INCLUIDO.
D25: Firma Apoderado del Oferente

Sheet Ap.LOS AROMOS
A4: OBRA: | B4: =+#REF! -> #REF!
B5: Bº LOS AROMOS
B6: PUERTO TIROL - RESISTENCIA - PUERTO VILELAS
B7: LÍNEA BELGRANO
A8: PLANILLA DE COTIZACIÓN
A10: Item | B10: Rubro | C10: Unid. | D10: Cantidad | E10: Precio Unitario | F10: Precio Total
A11: 1 | B11: TAREAS PREVIAS
A12: 1.1 | B12: Obrador | C12: gl | D12: 1 | F12: =+D12*E12 -> 0
A13: 1.2 | B13: Limpieza, demoliciones, vallado, señalización | C13: gl | D13: 1 | F13: =+D13*E13 -> 0
A14: 2 | B14: INGENIERÍA DE OBRA, PROYECTO EJECUTIVO
A15: 2.1 | B15: Proyecto Ejecutivo | C15: gl | D15: 1 | F15: =+D15*E15 -> 0
A16: 2.2 | B16: Documentación Conforme a Obra | C16: gl | D16: 1 | F16: =+D16*E16 -> 0
A17: 3 | B17: PINTURA
A18: 3.1 | B18: Pintura( incl. Liquido fijador para paredes y pintura anticorrosiva para el refugio) | C18: gl | D18: 1 | F18: 0
A19: 4 | B19: ANDEN
A20: 4.1 | B20: Construcción de anden nuevo | C20: ml | D20: 60 | F20: =+D20*E20 -> 0
A21: 4.2 | B21: Bordes y solados reglamentarios en anden | C21: ml | D21: 60 | F21: =+D21*E21 -> 0
A22: 4.3 | B22: Colocación equipamiento y señaletica | C22: gl | D22: 1 | F22: =+D22*E22 -> 0
A23: 4.4 | B23: Instalacion de Baranda perimetral | C23: ml | D23: 70 | F23: =+D23*E23 -> 0
A24: 4.5 | B24: Demolicion de anden existente (Inc.Transporte y disposición de escombros) | C24: gl | D24: 1 | F24: =+D24*E24 -> 0
A25: 5 | B25: INSTALACIÓN ELÉCTRICA E ILUMINACIÓN
A26: 5.1 | B26: Provisión y colocación de columnas y artefactos de iluminación en andenes | C26: U | D26: 3 | F26: =+D26*E26 -> 0
A27: 5.3 | B27: Provision y colocación de columnas y artefactos de iluminación en rampa de acceso | C27: U | D27: 1 | F27: =+D27*E27 -> 0
A28: 5.4 | B28: Cableado y Tablero Central | C28: gl | D28: 1 | F28: =+D28*E28 -> 0
A29: 6 | B29: ACCESOS
A30: 6.1 | B30: Ejecución de caminos de acceso | C30: m2 | D30: 27 | F30: =+E30*D30 -> 0
A31: 6.2 | B31: Ejecución rampa para personas con movilidad reducida | C31: U | D31: 1 | F31: =+E31*D31 -> 0
A32: 6.3 | B32: Reacondicionamiento de desagües | C32: gl | D32: 1 | F32: =+E32*D32 -> 0
B33: SUBTOTAL SIN IVA | F33: 0
B34: IVA 21% | F34: =0.21*F33 -> 0
B35: TOTAL | F35: =+F33+F34 -> 0

Sheet Ap. ABORIGENES
A4: OBRA: | B4: =+#REF! -> #REF!
B5: Bº ABORIGENES
B6: PUERTO TIROL - RESISTENCIA - PUERTO VILELAS
B7: LÍNEA BELGRANO
A8: PLANILLA DE COTIZACIÓN
A10: Item | B10: Rubro | C10: Unid. | D10: Cantidad | E10: Precio Unitario | F10: Precio Total
A11: 1 | B11: TAREAS PREVIAS
A12: 1.1 | B12: Obrador | C12: gl | D12: 1 | F12: =+D12*E12 -> 0
A13: 1.2 | B13: Limpieza, demoliciones, vallado, señalización | C13: gl | D13: 1 | F13: =+D13*E13 -> 0
A14: 2 | B14: INGENIERÍA DE OBRA, PROYECTO EJECUTIVO
A15: 2.1 | B15: Proyecto Ejecutivo | C15: gl | D15: 1 | F15: =+D15*E15 -> 0
A16: 2.2 | B16: Documentación Conforme a Obra | C16: gl | D16: 1 | F16: =+D16*E16 -> 0
A17: 3 | B17: PINTURA
A18: 3.1 | B18: Pintura( incl. Liquido fijador para paredes y pintura anticorrosiva para el refugio) | C18: gl | D18: 1 | F18: 0
A19: 4 | B19: ANDEN
A20: 4.1 | B20: Construcción de anden nuevo | C20: ml | D20: 60 | F20: =+D20*E20 -> 0
A21: 4.2 | B21: Bordes y solados reglamentarios en anden | C21: ml | D21: 60 | F21: =+D21*E21 -> 0
A22: 4.3 | B22: Colocación equipamiento y señaletica | C22: gl | D22: 1 | F22: =+D22*E22 -> 0
A23: 4.4 | B23: Instalacion de Baranda perimetral | C23: ml | D23: 70 | F23: =+D23*E23 -> 0
A24: 4.5 | B24: Demolicion de anden existente (Inc.Transporte y disposición de escombros) | C24: gl | D24: 1 | F24: =+D24*E24 -> 0
A25: 5 | B25: INSTALACIÓN ELÉCTRICA E ILUMINACIÓN
A26: 5.1 | B26: Provisión y colocación de columnas y artefactos de iluminación en andenes | C26: U | D26: 3 | F26: =+D26*E26 -> 0
A27: 5.3 | B27: Provision y colocación de columnas y artefactos de iluminación en rampa de acceso | C27: U | D27: 1 | F27: =+D27*E27 -> 0
A28: 5.4 | B28: Cableado y Tablero Central | C28: gl | D28: 1 | F28: =+D28*E28 -> 0
A29: 6 | B29: ACCESOS
A30: 6.1 | B30: Ejecución de caminos de acceso | C30: m2 | D30: 24 | F30: =+E30*D30 -> 0
A31: 6.2 | B31: Ejecución rampa para personas con movilidad reducida | C31: U | D31: 1 | F31: =+E31*D31 -> 0
A32: 6.3 | B32: Reacondicionamiento de desagües | C32: gl | D32: 1 | F32: =+E32*D32 -> 0
B33: SUBTOTAL SIN IVA | F33: 0
B34: IVA 21% | F34: =0.21*F33 -> 0
B35: TOTAL | F35: =+F33+F34 -> 0

Sheet Ap. ANUNCIACION
A4: OBRA: | B4: =+#REF! -> #REF!
B5: Bº ANUNCIACION
B6: PUERTO TIROL - RESISTENCIA - PUERTO VILELAS
B7: LÍNEA BELGRANO
A8: PLANILLA DE COTIZACIÓN
A10: Item | B10: Rubro | C10: Unid. | D10: Cantidad | E10: Precio Unitario | F10: Precio Total
A11: 1 | B11: TAREAS PREVIAS
A12: 1.1 | B12: Obrador | C12: gl | D12: 1 | F12: =+D12*E12 -> 0
A13: 1.2 | B13: Limpieza, demoliciones, vallado, señalización | C13: gl | D13: 1 | F13: =+D13*E13 -> 0
A14: 2 | B14: INGENIERÍA DE OBRA, PROYECTO EJECUTIVO
A15: 2.1 | B15: Proyecto Ejecutivo | C15: gl | D15: 1 | F15: =+D15*E15 -> 0
A16: 2.2 | B16: Documentación Conforme a Obra | C16: gl | D16: 1 | F16: =+D16*E16 -> 0
A17: 3 | B17: PINTURA
A18: 3.1 | B18: Pintura( incl. Liquido fijador para paredes y pintura anticorrosiva para el refugio) | C18: gl | D18: 1 | F18: 0
A19: 4 | B19: ANDEN
A20: 4.1 | B20: Construcción de anden nuevo | C20: ml | D20: 60 | F20: =+D20*E20 -> 0
A21: 4.2 | B21: Bordes y solados reglamentarios en anden | C21: ml | D21: 60 | F21: =+D21*E21 -> 0
A22: 4.3 | B22: Colocación equipamiento y señaletica | C22: gl | D22: 1 | F22: =+D22*E22 -> 0
A23: 4.4 | B23: Instalacion de Baranda perimetral | C23: ml | D23: 85 | F23: =+D23*E23 -> 0
A24: 4.5 | B24: Demolicion de anden existente (Inc.Transporte y disposición de escombros) | C24: gl | D24: 1 | F24: =+D24*E24 -> 0
A25: 5 | B25: INSTALACIÓN ELÉCTRICA E ILUMINACIÓN
A26: 5.1 | B26: Provisión y colocación de columnas y artefactos de iluminación en andenes | C26: U | D26: 3 | F26: =+D26*E26 -> 0
A27: 5.3 | B27: Provision y colocación de columnas y artefactos de iluminación en rampa de acceso | C27: U | D27: 1 | F27: =+D27*E27 -> 0
A28: 5.4 | B28: Cableado y Tablero Central | C28: gl | D28: 1 | F28: =+D28*E28 -> 0
A29: 6 | B29: ACCESOS
A30: 6.1 | B30: Ejecución de caminos de acceso | C30: m2 | D30: 69 | F30: =+E30*D30 -> 0
A31: 6.2 | B31: Ejecución rampa para personas con movilidad reducida | C31: U | D31: 1 | F31: =+E31*D31 -> 0
A32: 6.3 | B32: Reacondicionamiento de desagües | C32: gl | D32: 1 | F32: =+E32*D32 -> 0
B33: SUBTOTAL SIN IVA | F33: =SUM(F12:F32) -> 0
B34: IVA 21% | F34: =0.21*F33 -> 0
B35: TOTAL | F35: =+F33+F34 -> 0

Sheet S1 (8)
B3: OBRA: | C3: =+'Ap. RUTA NACIONAL 16'!B4 -> CONSTRUCCIÓN DE APEADEROS DEL SERVICIO SAENZ PEÑA - CHOROTIS
C4: GRUPO IV
C5: =+#REF! -> #REF!
B7: PLANILLA TOTALIZADORA
B9: # | C9: APEADERO | D9: Precio Total con IVA
B10: 1 | C10: =+'Ap. BRASIL'!B5 -> APEADERO BRASIL | D10: 0
B11: 2 | C11: =+'Ap. SARMIENTO'!B5 -> APEADERO SARMIENTO | D11: 0
B12: 3 | C12: =+'Ap. GÜEMES'!B5 -> APEADERO GÜEMES | D12: 0
B13: 4 | C13: =+'Ap. CACIQUE PELAYO'!B5 -> CACIQUE PELAYO | D13: 0
C14: VALOR TOTAL - GRUPO IV | D14: 0
B17: SON Pesos …………………………………………….…………………………………………………………….IVA INCLUIDO.
D26: Firma Apoderado del Oferente

Sheet Ap. BRASIL
A4: OBRA: | B4: =+#REF! -> #REF!
B5: APEADERO BRASIL
B6: PUERTO TIROL - RESISTENCIA - PUERTO VILELAS
B7: LÍNEA BELGRANO
A8: PLANILLA DE COTIZACIÓN
A10: Item | B10: Rubro | C10: Unid. | D10: Cantidad | E10: Precio Unitario | F10: Precio Total
A11: 1 | B11: TAREAS PREVIAS
A12: 1.1 | B12: Obrador | C12: gl | D12: 1 | F12: =+D12*E12 -> 0
A13: 1.2 | B13: Limpieza, demoliciones, vallado, señalización | C13: gl | D13: 1 | F13: =+D13*E13 -> 0
A14: 2 | B14: INGENIERÍA DE OBRA, PROYECTO EJECUTIVO
A15: 2.1 | B15: Proyecto Ejecutivo | C15: gl | D15: 1 | F15: =+D15*E15 -> 0
A16: 2.2 | B16: Documentación Conforme a Obra | C16: gl | D16: 1 | F16: =+D16*E16 -> 0
A17: 3 | B17: PINTURA
A18: 3.1 | B18: Pintura( incl. Liquido fijador para paredes y pintura anticorrosiva para el refugio) | C18: gl | D18: 1 | F18: 0
A19: 4 | B19: ANDEN
A20: 4.1 | B20: Construcción de anden nuevo | C20: ml | D20: 60 | F20: =+D20*E20 -> 0
A21: 4.2 | B21: Bordes y solados reglamentarios en anden | C21: ml | D21: 60 | F21: =+D21*E21 -> 0
A22: 4.3 | B22: Colocación equipamiento y señaletica | C22: gl | D22: 1 | F22: =+D22*E22 -> 0
A23: 4.4 | B23: Instalacion de Baranda perimetral | C23: ml | D23: 70 | F23: =+D23*E23 -> 0
A24: 4.5 | B24: Demolicion de anden existente (Inc.Transporte y disposición de escombros) | C24: gl | D24: 1 | F24: =+D24*E24 -> 0
A25: 5 | B25: INSTALACIÓN ELÉCTRICA E ILUMINACIÓN
A26: 5.1 | B26: Provisión y colocación de columnas y artefactos de iluminación en andenes | C26: U | D26: 3 | F26: =+D26*E26 -> 0
A27: 5.3 | B27: Provision y colocación de columnas y artefactos de iluminación en rampa de acceso | C27: U | D27: 1 | F27: =+D27*E27 -> 0
A28: 5.4 | B28: Cableado y Tablero Central | C28: gl | D28: 1 | F28: =+D28*E28 -> 0
A29: 6 | B29: ACCESOS
A30: 6.1 | B30: =+#REF! -> #REF! | C30: m2 | D30: 23 | F30: =+E30*D30 -> 0
A31: 6.2 | B31: =+#REF! -> #REF! | C31: U | D31: 1 | F31: =+E31*D31 -> 0
A32: 6.3 | B32: =+#REF! -> #REF! | C32: gl | D32: 1 | F32: =+E32*D32 -> 0
B33: SUBTOTAL SIN IVA | F33: 0
B34: IVA 21% | F34: =0.21*F33 -> 0
B35: TOTAL | F35: =+F33+F34 -> 0

Sheet Ap. SARMIENTO
A4: OBRA: | B4: =+#REF! -> #REF!
B5: APEADERO SARMIENTO
B6: PUERTO TIROL - RESISTENCIA - PUERTO VILELAS
B7: LÍNEA BELGRANO
A8: PLANILLA DE COTIZACIÓN
A10: Item | B10: Rubro | C10: Unid. | D10: Cantidad | E10: Precio Unitario | F10: Precio Total
A11: 1 | B11: TAREAS PREVIAS
A12: 1.1 | B12: Obrador | C12: gl | D12: 1 | F12: =+D12*E12 -> 0
A13: 1.2 | B13: Limpieza, demoliciones, vallado, señalización | C13: gl | D13: 1 | F13: =+D13*E13 -> 0
A14: 2 | B14: INGENIERÍA DE OBRA, PROYECTO EJECUTIVO
A15: 2.1 | B15: Proyecto Ejecutivo | C15: gl | D15: 1 | F15: =+D15*E15 -> 0
A16: 2.2 | B16: Documentación Conforme a Obra | C16: gl | D16: 1 | F16: =+D16*E16 -> 0
A17: 3 | B17: PROLONGACION DE ANDEN
A18: 3.1 | B18: Construcción de anden nuevo (incl. Mamposteria perimetral, Hormigon de limpieza, Movimiento de suelos, Revoque y Aislacion hidrofuga horizontal) | C18: ml | D18: 20 | F18: =+D18*E18 -> 0
A19: 3.2 | B19: Relleno, compactación y ejecución de suelo seleccionado | C19: ml | D19: 20
A20: 3.3 | B20: Bordes y solados reglamentarios en andenes | C20: ml | D20: 20 | F20: =+D20*E20 -> 0
A21: 4 | B21: REPARACION DE ANDEN EXISTENTE
A22: 4.1 | B22: Construcción de losa de anden nueva | C22: ml | D22: 40 | F22: =+D22*E22 -> 0
A23: 4.2 | B23: Bordes y solados reglamentarios en anden | C23: ml | D23: 40 | F23: =+D23*E23 -> 0
A24: 4.3 | B24: Relleno, compactación y ejecución de suelo seleccionado | C24: ml | D24: 40
A25: 4.4 | B25: Demolicion de losa de anden existente (Inc.Transporte y disposición de escombros y suelos) | C25: gl | D25: 1 | F25: =+D25*E25 -> 0
A26: 5 | B26: ILUMINACION
A27: 5.1 | B27: Iluminacion(Incl. Tendido Electrico, Puesta a Tierra, columna y artefacto completo) | C27: U | D27: 1 | F27: =+D27*E27 -> 0
A28: 6 | B28: RECONVERSION LUMINICA
A29: 6.1 | B29: Reconversion Luminica(Incl. Tendido Electrico, Puesta a Tierra, columna y artefacto completo) | C29: U | D29: 2 | F29: =+D29*E29 -> 0
A30: 7 | B30: EJECUCION DE VEREDAS DE ACCESO A ANDEN
A31: 7.1 | B31: Ejecucion de veredas de acceso a anden (Incl. Solado, contrapiso y movimento de suelos) | C31: m2 | D31: 5.5 | F31: =+D31*E31 -> 0
A32: 8 | B32: BARANDAS LATERALES Y POSTERIORES
A33: 8.1 | B33: Fabricacion y montaje de las barandas perimetrales de anden | C33: ml | D33: 68 | F33: =+D33*E33 -> 0
A34: 9 | B34: ADECUACION DE RAMPAS DE ACCESO
A35: 9.1 | B35: Adecuacion de Rampas de Acceso (Incl. Estructura soporte, movimiento de suelos, Solados completos y Barandas) | C35: U | D35: 1 | F35: =+D35*E35 -> 0
A36: 10 | B36: SEÑALETICA
A37: 10.1 | B37: Fabricacion y montaje de carteles de estacion (Incl. Pintura reflectiva en cenefa del refugio) | C37: gl | D37: 1 | F37: =+E37*D37 -> 0
A38: 11 | B38: COLOCACION DE ASIENTOS
A39: 11.1 | B39: Provision y colocacion asientos antivandalicos | C39: U | D39: 3 | F39: 0
A40: 12 | B40: CESTO DE RESIDUOS
A41: 12.1 | B41: Fabricacion y montaje de cestos de residuos | C41: U | D41: 4 | F41: 0
A42: 13 | B42: PINTURA
A43: 13.1 | B43: Pintura( incl. Liquido fijador para paredes y pintura anticorrosiva para el refugio) | C43: gl | D43: 1 | F43: 0
B44: SUBTOTAL SIN IVA | F44: =SUM(F18:F37) -> 0
...

Sheet Ap. GÜEMES
A4: OBRA: | B4: =+#REF! -> #REF!
B5: APEADERO GÜEMES
B6: PUERTO TIROL - RESISTENCIA - PUERTO VILELAS
B7: LÍNEA BELGRANO
A8: PLANILLA DE COTIZACIÓN
A10: Item | B10: Rubro | C10: Unid. | D10: Cantidad | E10: Precio Unitario | F10: Precio Total
A11: 1 | B11: TAREAS PREVIAS
A12: 1.1 | B12: Obrador | C12: gl | D12: 1 | F12: =+D12*E12 -> 0
A13: 1.2 | B13: Limpieza, demoliciones, vallado, señalización | C13: gl | D13: 1 | F13: =+D13*E13 -> 0
A14: 2 | B14: INGENIERÍA DE OBRA, PROYECTO EJECUTIVO
A15: 2.1 | B15: Proyecto Ejecutivo | C15: gl | D15: 1 | F15: =+D15*E15 -> 0
A16: 2.2 | B16: Documentación Conforme a Obra | C16: gl | D16: 1 | F16: =+D16*E16 -> 0
A17: 3 | B17: PINTURA
A18: 3.1 | B18: Pintura( incl. Liquido fijador para paredes y pintura anticorrosiva para el refugio) | C18: gl | D18: 1 | F18: 0
A19: 4 | B19: ANDEN
A20: 4.1 | B20: Construcción de anden nuevo | C20: ml | D20: 60 | F20: =+D20*E20 -> 0
A21: 4.2 | B21: Bordes y solados reglamentarios en anden | C21: ml | D21: 60 | F21: =+D21*E21 -> 0
A22: 4.3 | B22: Colocación equipamiento y señaletica | C22: gl | D22: 1 | F22: =+D22*E22 -> 0
A23: 4.4 | B23: Instalacion de Baranda perimetral | C23: ml | D23: 76 | F23: =+D23*E23 -> 0
A24: 4.5 | B24: Demolicion de anden existente (Inc.Transporte y disposición de escombros) | C24: gl | D24: 1 | F24: =+D24*E24 -> 0
A25: 5 | B25: INSTALACIÓN ELÉCTRICA E ILUMINACIÓN
A26: 5.1 | B26: Provisión y colocación de columnas y artefactos de iluminación en andenes | C26: U | D26: 3 | F26: =+D26*E26 -> 0
A27: 5.3 | B27: Provision y colocación de columnas y artefactos de iluminación en rampa de acceso | C27: U | D27: 1 | F27: =+D27*E27 -> 0
A28: 5.4 | B28: Cableado y Tablero Central | C28: gl | D28: 1 | F28: =+D28*E28 -> 0
A29: 6 | B29: ACCESOS
A30: 6.1 | B30: Ejecución de caminos de acceso | C30: m2 | D30: =4.5*1.5 -> 6.75 | F30: =+E30*D30 -> 0
A31: 6.2 | B31: Ejecución rampa para personas con movilidad reducida | C31: U | D31: 1 | F31: =+E31*D31 -> 0
A32: 6.3 | B32: Reacondicionamiento de desagües | C32: gl | D32: 1 | F32: =+E32*D32 -> 0
B33: SUBTOTAL SIN IVA | F33: 0
B34: IVA 21% | F34: =0.21*F33 -> 0
B35: TOTAL | F35: =+F33+F34 -> 0

Sheet Ap. CACIQUE PELAYO
A4: OBRA: | B4: =+#REF! -> #REF!
B5: CACIQUE PELAYO
B6: PUERTO TIROL - RESISTENCIA - PUERTO VILELAS
B7: LÍNEA BELGRANO
A8: PLANILLA DE COTIZACIÓN
A10: Item | B10: Rubro | C10: Unid. | D10: Cantidad | E10: Precio Unitario | F10: Precio Total
A11: 1 | B11: TAREAS PREVIAS
A12: 1.1 | B12: Obrador | C12: gl | D12: 1 | F12: =+D12*E12 -> 0
A13: 1.2 | B13: Limpieza, demoliciones, vallado, señalización | C13: gl | D13: 1 | F13: =+D13*E13 -> 0
A14: 2 | B14: INGENIERÍA DE OBRA, PROYECTO EJECUTIVO
A15: 2.1 | B15: Proyecto Ejecutivo | C15: gl | D15: 1 | F15: =+D15*E15 -> 0
A16: 2.2 | B16: Documentación Conforme a Obra | C16: gl | D16: 1 | F16: =+D16*E16 -> 0
A17: 3 | B17: PINTURA
A18: 3.1 | B18: Pintura( incl. Liquido fijador para paredes y pintura anticorrosiva para el refugio) | C18: gl | D18: 1 | F18: 0
A19: 4 | B19: ANDEN
A20: 4.1 | B20: Construcción de anden nuevo | C20: ml | D20: 60 | F20: =+D20*E20 -> 0
A21: 4.2 | B21: Bordes y solados reglamentarios en anden | C21: ml | D21: 60 | F21: =+D21*E21 -> 0
A22: 4.3 | B22: Colocación equipamiento y señaletica | C22: gl | D22: 1 | F22: =+D22*E22 -> 0
A23: 4.4 | B23: Instalacion de Baranda perimetral | C23: ml | D23: 72 | F23: =+D23*E23 -> 0
A24: 4.5 | B24: Demolicion de anden existente (Inc.Transporte y disposición de escombros) | C24: gl | D24: 1 | F24: =+D24*E24 -> 0
A25: 5 | B25: INSTALACIÓN ELÉCTRICA E ILUMINACIÓN
A26: 5.1 | B26: Provisión y colocación de columnas y artefactos de iluminación en andenes | C26: U | D26: 3 | F26: =+D26*E26 -> 0
A27: 5.3 | B27: Provision y colocación de columnas y artefactos de iluminación en rampa de acceso | C27: U | D27: 1 | F27: =+D27*E27 -> 0
A28: 5.4 | B28: Cableado y Tablero Central | C28: gl | D28: 1 | F28: =+D28*E28 -> 0
A29: 6 | B29: ACCESOS
A30: 6.1 | B30: Ejecución de caminos de acceso | C30: m2 | D30: 20 | F30: =+E30*D30 -> 0
A31: 6.2 | B31: Ejecución rampa para personas con movilidad reducida | C31: U | D31: 1 | F31: =+E31*D31 -> 0
A32: 6.3 | B32: Reacondicionamiento de desagües | C32: gl | D32: 1 | F32: =+E32*D32 -> 0
B33: SUBTOTAL SIN IVA | F33: 0
B34: IVA 21% | F34: =0.21*F33 -> 0
B35: TOTAL | F35: =+F33+F34 -> 0

Sheet S1 (6)
B3: OBRA: | C3: =+'Ap. RUTA NACIONAL 16'!B4 -> CONSTRUCCIÓN DE APEADEROS DEL SERVICIO SAENZ PEÑA - CHOROTIS
C4: GRUPO V
C5: =+#REF! -> #REF!
B7: PLANILLA TOTALIZADORA
B9: # | C9: APEADERO | D9: Precio Total con IVA
B10: 1 | C10: =+'Ap. SIERRAS DE CORDOBA'!B5 -> SIERRAS DE CORDOBA | D10: 0
B11: 2 | C11: =+'Ap. FOTHERINGAN'!B5 -> FOTHERINGAN | D11: 0
B12: 3 | C12: =+'Ap. FRAY ROSSI'!B5 -> FRAY ROSSI | D12: 0
B13: 4 | C13: =+'Ap. HERNANDARIAS'!B5 -> HERNANDARIAS | D13: 0
B14: 5 | C14: =+'Ap. BELGRANO'!B5 -> BELGRANO | D14: 0
B15: 6 | C15: =+'Ap. ALBERDI'!B5 -> ALBERDI | D15: 0
B16: 7 | C16: =+'Ap. SAN MARTIN'!B5 -> SAN MARTIN | D16: 0
C17: VALOR TOTAL - GRUPO V | D17: 0
B20: SON Pesos …………………………………………….…………………………………………………………….IVA INCLUIDO.
D29: Firma Apoderado del Oferente

Sheet Ap. SIERRAS DE CORDOBA
A4: OBRA: | B4: =+#REF! -> #REF!
B5: SIERRAS DE CORDOBA
B6: PUERTO TIROL - RESISTENCIA - PUERTO VILELAS
B7: LÍNEA BELGRANO
A8: PLANILLA DE COTIZACIÓN
A10: Item | B10: Rubro | C10: Unid. | D10: Cantidad | E10: Precio Unitario | F10: Precio Total
A11: 1 | B11: TAREAS PREVIAS
A12: 1.1 | B12: Obrador | C12: gl | D12: 1 | F12: =+D12*E12 -> 0
A13: 1.2 | B13: Limpieza, demoliciones, vallado, señalización | C13: gl | D13: 1 | F13: =+D13*E13 -> 0
A14: 2 | B14: INGENIERÍA DE OBRA, PROYECTO EJECUTIVO
A15: 2.1 | B15: Proyecto Ejecutivo | C15: gl | D15: 1 | F15: =+D15*E15 -> 0
A16: 2.2 | B16: Documentación Conforme a Obra | C16: gl | D16: 1 | F16: =+D16*E16 -> 0
A17: 3 | B17: PROLONGACION DE ANDEN
A18: 3.1 | B18: Construcción de anden nuevo (incl. Mamposteria perimetral, Hormigon de limpieza, Movimiento de suelos, Revoque y Aislacion hidrofuga horizontal) | C18: ml | D18: 20 | F18: =+D18*E18 -> 0
A19: 3.2 | B19: Relleno, compactación y ejecución de suelo seleccionado | C19: ml | D19: 20
A20: 3.4 | B20: Bordes y solados reglamentarios en andenes | C20: ml | D20: 20 | F20: =+D20*E20 -> 0
A21: 4 | B21: REPARACION DE ANDEN EXISTENTE
A22: 4.1 | B22: Construcción de losa de anden nueva | C22: ml | D22: 40 | F22: =+D22*E22 -> 0
A23: 4.2 | B23: Bordes y solados reglamentarios en anden | C23: ml | D23: 40 | F23: =+D23*E23 -> 0
A24: 4.3 | B24: Relleno, compactación y ejecución de suelo seleccionado | C24: ml | D24: 40
A25: 4.5 | B25: Demolicion de losa de anden existente (Inc.Transporte y disposición de escombros y suelos) | C25: gl | D25: 1 | F25: =+D25*E25 -> 0
A26: 5 | B26: ILUMINACION
A27: 5.1 | B27: Iluminacion(Incl. Tendido Electrico, Puesta a Tierra, columna y artefacto completo) | C27: U | D27: 1 | F27: =+D27*E27 -> 0
A28: 6 | B28: RECONVERSION LUMINICA
A29: 6.1 | B29: Reconversion Luminica(Incl. Tendido Electrico, Puesta a Tierra y artefacto completo) | C29: U | D29: 2 | F29: =+D29*E29 -> 0
A30: 7 | B30: ADECUACION DE RAMPAS DE ACCESO
A31: 7.1 | B31: Adecuacion de Rampas de Acceso (Incl. Estructura soporte, movimiento de suelos, Solados completos y Barandas) | C31: U | D31: 1 | F31: =+D31*E31 -> 0
A32: 8 | B32: BARANDAS LATERALES Y POSTERIORES
A33: 8.1 | B33: Fabricacion y montaje de las barandas perimetrales de anden | C33: ml | D33: 72 | F33: =+D33*E33 -> 0
A34: 9 | B34: SEÑALETICA
A35: 9.1 | B35: Fabricacion y montaje de carteles de estacion (Incl. Pintura reflectiva en cenefa del refugio) | C35: gl | D35: 1 | F35: =+E35*D35 -> 0
A36: 10 | B36: COLOCACION DE ASIENTOS
A37: 10.1 | B37: Provision y colocacion asientos antivandalicos | C37: U | D37: 3 | F37: 0
A38: 11 | B38: CESTO DE RESIDUOS
A39: 11.1 | B39: Fabricacion y montaje de cestos de residuos | C39: U | D39: 4 | F39: 0
A40: 12 | B40: PINTURA
A41: 12.1 | B41: Pintura( incl. Liquido fijador para paredes y pintura anticorrosiva para el refugio) | C41: gl | D41: 1 | F41: 0
B42: SUBTOTAL SIN IVA | F42: =SUM(F26:F35) -> 0
B43: IVA 21% | F43: =0.21*F42 -> 0
B44: TOTAL | F44: =+F42+F43 -> 0

Sheet Ap. FOTHERINGAN
A4: OBRA: | B4: =+#REF! -> #REF!
B5: FOTHERINGAN
B6: PUERTO TIROL - RESISTENCIA - PUERTO VILELAS
B7: LÍNEA BELGRANO
A8: PLANILLA DE COTIZACIÓN
A10: Item | B10: Rubro | C10: Unid. | D10: Cantidad | E10: Precio Unitario | F10: Precio Total
A11: 1 | B11: TAREAS PREVIAS
A12: 1.1 | B12: Obrador | C12: gl | D12: 1 | F12: =+D12*E12 -> 0
A13: 1.2 | B13: Limpieza, demoliciones, vallado, señalización | C13: gl | D13: 1 | F13: =+D13*E13 -> 0
A14: 2 | B14: INGENIERÍA DE OBRA, PROYECTO EJECUTIVO
A15: 2.1 | B15: Proyecto Ejecutivo | C15: gl | D15: 1 | F15: =+D15*E15 -> 0
A16: 2.2 | B16: Documentación Conforme a Obra | C16: gl | D16: 1 | F16: =+D16*E16 -> 0
A17: 3 | B17: PROLONGACION DE ANDEN
A18: 3.1 | B18: Construcción de anden nuevo (incl. Mamposteria perimetral, Hormigon de limpieza, Movimiento de suelos, Revoque y Aislacion hidrofuga horizontal) | C18: ml | D18: 40 | F18: =+D18*E18 -> 0
A19: 3.2 | B19: Relleno, compactación y ejecución de suelo seleccionado | C19: ml | D19: 40
A20: 3.3 | B20: Bordes y solados reglamentarios en andenes | C20: ml | D20: 40 | F20: =+D20*E20 -> 0
A21: 4 | B21: REPARACION DE ANDEN EXISTENTE
A22: 4.1 | B22: Construcción de losa de anden nueva | C22: ml | D22: 20 | F22: =+D22*E22 -> 0
A23: 4.2 | B23: Bordes y solados reglamentarios en anden | C23: ml | D23: 20 | F23: =+D23*E23 -> 0
A24: 4.3 | B24: Relleno, compactación y ejecución de suelo seleccionado | C24: ml | D24: 20
A25: 4.4 | B25: Demolicion de losa de anden existente (Inc.Transporte y disposición de escombros y suelos) | C25: gl | D25: 1 | F25: =+D25*E25 -> 0
A26: 5 | B26: ILUMINACION
A27: 5.1 | B27: Iluminacion(Incl. Tendido Electrico, Puesta a Tierra, columna y artefacto completo) | C27: U | D27: 1 | F27: =+D27*E27 -> 0
A28: 6 | B28: RECONVERSION LUMINICA
A29: 6.1 | B29: Reconversion Luminica(Incl. Tendido Electrico, Puesta a Tierra y artefacto completo) | C29: U | D29: 2 | F29: =+D29*E29 -> 0
A30: 7 | B30: BARANDAS LATERALES Y POSTERIORES
A31: 7.1 | B31: Fabricacion y montaje de las barandas perimetrales de anden | C31: ml | D31: 72 | F31: =+D31*E31 -> 0
A32: 8 | B32: ADECUACION DE RAMPAS DE ACCESO
A33: 8.1 | B33: Adecuacion de Rampas de Acceso (Incl. Estructura soporte, movimiento de suelos, Solados completos y Barandas) | C33: U | D33: 1 | F33: =+D33*E33 -> 0
A34: 9 | B34: SEÑALETICA
A35: 9.1 | B35: Fabricacion y montaje de carteles de estacion (Incl. Pintura reflectiva en cenefa del refugio) | C35: gl | D35: 1 | F35: =+E35*D35 -> 0
A36: 10 | B36: COLOCACION DE ASIENTOS
A37: 10.1 | B37: Provision y colocacion asientos antivandalicos | C37: U | D37: 3 | F37: 0
A38: 11 | B38: CESTO DE RESIDUOS
A39: 11.1 | B39: Fabricacion y montaje de cestos de residuos | C39: U | D39: 4 | F39: 0
A40: 12 | B40: PINTURA
A41: 12.1 | B41: Pintura( incl. Liquido fijador para paredes y pintura anticorrosiva para el refugio) | C41: gl | D41: 1 | F41: 0
B42: SUBTOTAL SIN IVA | F42: =SUM(F26:F35) -> 0
B43: IVA 21% | F43: =0.21*F42 -> 0
B44: TOTAL | F44: =+F42+F43 -> 0

Sheet Ap. FRAY ROSSI
A4: OBRA: | B4: =+#REF! -> #REF!
B5: FRAY ROSSI
B6: PUERTO TIROL - RESISTENCIA - PUERTO VILELAS
B7: LÍNEA BELGRANO
A8: PLANILLA DE COTIZACIÓN
A10: Item | B10: Rubro | C10: Unid. | D10: Cantidad | E10: Precio Unitario | F10: Precio Total
A11: 1 | B11: TAREAS PREVIAS
A12: 1.1 | B12: Obrador | C12: gl | D12: 1 | F12: =+D12*E12 -> 0
A13: 1.2 | B13: Limpieza, demoliciones, vallado, señalización | C13: gl | D13: 1 | F13: =+D13*E13 -> 0
A14: 2 | B14: INGENIERÍA DE OBRA, PROYECTO EJECUTIVO
A15: 2.1 | B15: Proyecto Ejecutivo | C15: gl | D15: 1 | F15: =+D15*E15 -> 0
A16: 2.2 | B16: Documentación Conforme a Obra | C16: gl | D16: 1 | F16: =+D16*E16 -> 0
A17: 3 | B17: PROLONGACION DE ANDEN
A18: 3.1 | B18: Construcción de anden nuevo (incl. Mamposteria perimetral, Hormigon de limpieza, Movimiento de suelos, Revoque y Aislacion hidrofuga horizontal) | C18: ml | D18: 40 | F18: =+D18*E18 -> 0
A19: 3.2 | B19: Relleno, compactación y ejecución de suelo seleccionado | C19: ml | D19: 40
A20: 3.3 | B20: Bordes y solados reglamentarios en andenes | C20: ml | D20: 40 | F20: =+D20*E20 -> 0
A21: 4 | B21: REPARACION DE ANDEN EXISTENTE
A22: 4.1 | B22: Construcción de losa de anden nueva | C22: ml | D22: 80 | F22: =+D22*E22 -> 0
A23: 4.2 | B23: Bordes y solados reglamentarios en anden | C23: ml | D23: 80 | F23: =+D23*E23 -> 0
A24: 4.3 | B24: Relleno, compactación y ejecución de suelo seleccionado | C24: ml | D24: 80
A25: 4.4 | B25: Demolicion de losa de anden existente (Inc.Transporte y disposición de escombros y suelos) | C25: gl | D25: 1 | F25: =+D25*E25 -> 0
A26: 5 | B26: ILUMINACION
A27: 5.1 | B27: Iluminacion(Incl. Tendido Electrico, Puesta a Tierra, columna y artefacto completo) | C27: U | D27: 5 | F27: =+D27*E27 -> 0
A28: 6 | B28: ADECUACION DE RAMPAS DE ACCESO
A29: 6.1 | B29: Adecuacion de Rampas de Acceso (Incl. Estructura soporte, movimiento de suelos, Solados completos y Barandas) | C29: U | D29: 2 | F29: =+D29*E29 -> 0
A30: 7 | B30: EJECUCION DE VEREDAS DE ACCESO A ANDEN
A31: 7.1 | B31: Ejecucion de veredas de acceso a anden (Incl. Solado, contrapiso y movimento de suelos) | C31: m2 | D31: =20*1.5+10*1.5*2 -> 60 | F31: =+D31*E31 -> 0
A32: 7.2 | B32: Ejecucion de Pasos Peatonales y Laberintos | C32: U | D32: 1 | F32: 0
A33: 8 | B33: BARANDAS LATERALES Y POSTERIORES
A34: 8.1 | B34: Fabricacion y montaje de las barandas perimetrales de anden | C34: ml | D34: =72*2 -> 144 | F34: =+D34*E34 -> 0
A35: 9 | B35: SEÑALETICA
A36: 9.1 | B36: Fabricacion y montaje de carteles de estacion (Incl. Pintura reflectiva en cenefa del refugio) | C36: gl | D36: 1 | F36: =+E36*D36 -> 0
A37: 10 | B37: COLOCACION DE ASIENTOS
A38: 10.1 | B38: Provision y colocacion asientos antivandalicos | C38: U | D38: 5 | F38: 0
A39: 11 | B39: CESTO DE RESIDUOS
A40: 11.1 | B40: Fabricacion y montaje de cestos de residuos | C40: U | D40: 6 | F40: 0
A41: 12 | B41: PINTURA
A42: 12.1 | B42: Pintura( incl. Liquido fijador para paredes y pintura anticorrosiva para el refugio) | C42: gl | D42: 1 | F42: 0
A43: 13 | B43: REFUGIO
A44: 13.1 | B44: Fabricacion y montaje del refugio de pasajeros(incl. Pintura) | C44: U | D44: 1 | F44: 0
...

Sheet Ap. HERNANDARIAS
A4: OBRA: | B4: =+#REF! -> #REF!
B5: HERNANDARIAS
B6: PUERTO TIROL - RESISTENCIA - PUERTO VILELAS
B7: LÍNEA BELGRANO
A8: PLANILLA DE COTIZACIÓN
A10: Item | B10: Rubro | C10: Unid. | D10: Cantidad | E10: Precio Unitario | F10: Precio Total
A11: 1 | B11: TAREAS PREVIAS
A12: 1.1 | B12: Obrador | C12: gl | D12: 1 | F12: =+D12*E12 -> 0
A13: 1.2 | B13: Limpieza, demoliciones, vallado, señalización | C13: gl | D13: 1 | F13: =+D13*E13 -> 0
A14: 2 | B14: INGENIERÍA DE OBRA, PROYECTO EJECUTIVO
A15: 2.1 | B15: Proyecto Ejecutivo | C15: gl | D15: 1 | F15: =+D15*E15 -> 0
A16: 2.2 | B16: Documentación Conforme a Obra | C16: gl | D16: 1 | F16: =+D16*E16 -> 0
A17: 3 | B17: PROLONGACION DE ANDEN
A18: 3.1 | B18: Construcción de anden nuevo (incl. Mamposteria perimetral, Hormigon de limpieza, Movimiento de suelos, Revoque y Aislacion hidrofuga horizontal) | C18: ml | D18: 20 | F18: =+D18*E18 -> 0
A19: 3.2 | B19: Relleno, compactación y ejecución de suelo seleccionado | C19: ml | D19: 20
A20: 3.3 | B20: Bordes y solados reglamentarios en andenes | C20: ml | D20: 20 | F20: =+D20*E20 -> 0
A21: 4 | B21: REPARACION DE ANDEN EXISTENTE
A22: 4.1 | B22: Construcción de losa de anden nueva | C22: ml | D22: 40 | F22: =+D22*E22 -> 0
