Workbook

Sheet ANEXO A- Planilla Nacional
B2: ANEXO A - PLANILLA COTIZACIÓN BIENES DE ORIGEN NACIONAL / NACIONALIZADOS
B5: Contratación Directa N°: | D5: =+'Completar SOFSE'!B5 -> 21/2020 | H5: DETALLE PROVEEDOR
B6: Clase de Contratación: | D6: =+'Completar SOFSE'!B6 -> Directa por Compulsa Abreviada | H6: Razón Social
B7: Expediente: | D7: =+'Completar SOFSE'!B7 -> EX-2020-32019725- -APN-SG#SOFSE
B8: Objeto: | D8: =+'Completar SOFSE'!B8 -> ADQUISICIÓN DE EJES DE PAR MONTADO DE EMU CSR | H8: C.U.I.T.
H9: Tel.:
H10: E-Mail:
B11: Adjudicación : | D11: =+'Completar SOFSE'!B11 -> Por Renglón | H11: Moneda:
B13: Renglón | C13: Cantidad | D13: U/M | E13: Código | F13: Descripción | G13: Referencia de Fábrica | H13: Precio Unitario | I13: I.V.A. | J13: Subtotal I.V.A. $ | K13: Subtotal
B15: =+'Completar SOFSE'!A21 -> 1 | C15: =VLOOKUP(B15,'Completar SOFSE'!$A$19:$E$483,2,0) -> 48 | D15: =VLOOKUP(B15,'Completar SOFSE'!$A$19:$E$483,3,0) -> C/U | E15: =VLOOKUP(B15,'Completar SOFSE'!$A$19:$E$483,4,0) -> NUM96100000120N | F15: =VLOOKUP(B15,'Completar SOFSE'!$A$19:$E$483,5,0) -> EJE DE PAR MONTADO. BOGIE MOTRIZ. COCHES ELECTRICOS CSR | G15: =VLOOKUP(B15,'Completar SOFSE'!$A$19:$F$483,6,0) -> ALTERNATIVA #1: 34002100003 (CSR) ALTERNATIVA#2: PLANO: 4.40.1.02.0100 ESP. TÉCNICA: ET-DNT-1052-V1.0 “EJE MOTRIZ PARA COCHES ELECTRICOS. COCHE CSRMITSUBISHI | J15: =+(C15*H15)*I15 -> 0 | K15: =+C15*H15 -> 0
B16: =+B15+1 -> 2 | C16: =VLOOKUP(B16,'Completar SOFSE'!$A$19:$E$483,2,0) -> 24 | D16: =VLOOKUP(B16,'Completar SOFSE'!$A$19:$E$483,3,0) -> C/U | E16: =VLOOKUP(B16,'Completar SOFSE'!$A$19:$E$483,4,0) -> NUM96100000130N | F16: =VLOOKUP(B16,'Completar SOFSE'!$A$19:$E$483,5,0) -> EJE DE PAR MONTADO. BOGIE. REMOLCADO. COCHES ELECTRICOS CSR | G16: =VLOOKUP(B16,'Completar SOFSE'!$A$19:$F$483,6,0) -> ALTERNATIVA #1: 34012100001 (CSR) ALTERNATIVA#2: PLANO: 4.40.1.02.1100 ESP. TÉCNICA ET-DNT-1047-V1.0 “EJE PARA COCHES ELECTRICOS REMOLCADOS. COCHE CSR-MITSUBISHI” | J16: =+(C16*H16)*I16 -> 0 | K16: =+C16*H16 -> 0
B17: =+#REF!+1 -> #REF! | C17: =VLOOKUP(B17,'Completar SOFSE'!$A$19:$E$483,2,0) -> #REF! | D17: =VLOOKUP(B17,'Completar SOFSE'!$A$19:$E$483,3,0) -> #REF! | E17: =VLOOKUP(B17,'Completar SOFSE'!$A$19:$E$483,4,0) -> #REF! | F17: =VLOOKUP(B17,'Completar SOFSE'!$A$19:$E$483,5,0) -> #REF! | G17: =VLOOKUP(B17,'Completar SOFSE'!$A$19:$F$483,6,0) -> #REF! | J17: =+(C17*H17)*I17 -> #REF! | K17: =+C17*H17 -> #REF!
B18: =+B17+1 -> #REF! | C18: =VLOOKUP(B18,'Completar SOFSE'!$A$19:$E$483,2,0) -> #REF! | D18: =VLOOKUP(B18,'Completar SOFSE'!$A$19:$E$483,3,0) -> #REF! | E18: =VLOOKUP(B18,'Completar SOFSE'!$A$19:$E$483,4,0) -> #REF! | F18: =VLOOKUP(B18,'Completar SOFSE'!$A$19:$E$483,5,0) -> #REF! | G18: =VLOOKUP(B18,'Completar SOFSE'!$A$19:$F$483,6,0) -> #REF! | J18: =+(C18*H18)*I18 -> #REF! | K18: =+C18*H18 -> #REF!
B19: =+B18+1 -> #REF! | C19: =VLOOKUP(B19,'Completar SOFSE'!$A$19:$E$483,2,0) -> #REF! | D19: =VLOOKUP(B19,'Completar SOFSE'!$A$19:$E$483,3,0) -> #REF! | E19: =VLOOKUP(B19,'Completar SOFSE'!$A$19:$E$483,4,0) -> #REF! | F19: =VLOOKUP(B19,'Completar SOFSE'!$A$19:$E$483,5,0) -> #REF! | G19: =VLOOKUP(B19,'Completar SOFSE'!$A$19:$F$483,6,0) -> #REF! | J19: =+(C19*H19)*I19 -> #REF! | K19: =+C19*H19 -> #REF!
B20: =+B19+1 -> #REF! | C20: =VLOOKUP(B20,'Completar SOFSE'!$A$19:$E$483,2,0) -> #REF! | D20: =VLOOKUP(B20,'Completar SOFSE'!$A$19:$E$483,3,0) -> #REF! | E20: =VLOOKUP(B20,'Completar SOFSE'!$A$19:$E$483,4,0) -> #REF! | F20: =VLOOKUP(B20,'Completar SOFSE'!$A$19:$E$483,5,0) -> #REF! | G20: =VLOOKUP(B20,'Completar SOFSE'!$A$19:$F$483,6,0) -> #REF! | J20: =+(C20*H20)*I20 -> #REF! | K20: =+C20*H20 -> #REF!
B21: =+'Completar SOFSE'!A28 -> 8 | C21: =+'Completar SOFSE'!B28 -> 0 | D21: =+'Completar SOFSE'!C28 -> 0 | E21: =+'Completar SOFSE'!D28 -> 0 | F21: =+'Completar SOFSE'!E28 -> 0 | J21: =+(C21*H21)*I21 -> 0 | K21: =+C21*H21 -> 0
B22: =+'Completar SOFSE'!A29 -> 9 | C22: =+'Completar SOFSE'!B29 -> 0 | D22: =+'Completar SOFSE'!C29 -> 0 | E22: =+'Completar SOFSE'!D29 -> 0 | F22: =+'Completar SOFSE'!E29 -> 0 | J22: =+(C22*H22)*I22 -> 0 | K22: =+C22*H22 -> 0
B23: =+'Completar SOFSE'!A30 -> 10 | C23: =+'Completar SOFSE'!B30 -> 0 | D23: =+'Completar SOFSE'!C30 -> 0 | E23: =+'Completar SOFSE'!D30 -> 0 | F23: =+'Completar SOFSE'!E30 -> 0 | J23: =+(C23*H23)*I23 -> 0 | K23: =+C23*H23 -> 0
B24: Subtotal | J24: =SUM(J15:J16) -> 0 | K24: =SUM(K15:K16) -> 0
B25: I.V.A. | K25: =+J24 -> 0
B26: TOTAL | K26: =+K24+K25 -> 0
B27: Condición de pago: | D27: =+'Completar SOFSE'!B12 -> Según Artículo 33 del PCP.
B28: Plazo de entrega: | D28: =+'Completar SOFSE'!B13 -> Según Artículo 7 del PCP.
B29: Lugar de entrega: | D29: =+'Completar SOFSE'!B14 -> Según Artículo 8 del PCP.
B30: Mantenimiento de oferta: | D30: =+'Completar SOFSE'!B15 -> 60 días corridos. (Según Artículo 95 del RCC.)

Sheet ANEXO B- Planilla Extranjero
B3: ANEXO B - PLANILLA COTIZACIÓN BIENES DE ORIGEN EXTRANJERO
B5: Contratación Directa N°: | D5: =+'Completar SOFSE'!B5 -> 21/2020 | I5: DETALLE PROVEEDOR
B6: Clase de Contratación: | D6: =+'Completar SOFSE'!B6 -> Directa por Compulsa Abreviada | I6: Razón Social
B7: Expediente: | D7: =+'Completar SOFSE'!B7 -> EX-2020-32019725- -APN-SG#SOFSE
B8: Objeto: | D8: =+'Completar SOFSE'!B8 -> ADQUISICIÓN DE EJES DE PAR MONTADO DE EMU CSR | I8: Identificación Tributaria
I9: Tel.:
I10: E-Mail:
B11: Adjudicación : | D11: =+'Completar SOFSE'!B11 -> Por Renglón | I11: Moneda:
B13: Inconterm | C13: Renglón | D13: Cantidad | E13: U/M | F13: Código | G13: Descripción | H13: Referencia de Fábrica | I13: Precio
I14: Unitario | J14: Flete | K14: Seguro | L14: Subtotal
B15: EXW | C15: =+'Completar SOFSE'!A21 -> 1 | D15: =VLOOKUP(C15,'Completar SOFSE'!$A$19:$E$483,2,0) -> 48 | E15: =VLOOKUP(C15,'Completar SOFSE'!$A$19:$E$483,3,0) -> C/U | F15: =VLOOKUP(C15,'Completar SOFSE'!$A$19:$E$483,4,0) -> NUM96100000120N | G15: =VLOOKUP(C15,'Completar SOFSE'!$A$19:$E$483,5,0) -> EJE DE PAR MONTADO. BOGIE MOTRIZ. COCHES ELECTRICOS CSR | H15: =VLOOKUP(C15,'Completar SOFSE'!$A$19:$F$483,6,0) -> ALTERNATIVA #1: 34002100003 (CSR) ALTERNATIVA#2: PLANO: 4.40.1.02.0100 ESP. TÉCNICA: ET-DNT-1052-V1.0 “EJE MOTRIZ PARA COCHES ELECTRICOS. COCHE CSRMITSUBISHI | L15: =I15*$D$15+J15*$D$15+K15*$D$15 -> 0
B16: FCA | L16: =I16*$D$15+J16*$D$15+K16*$D$15 -> 0
B17: FOB | L17: =I17*$D$15+J17*$D$15+K17*$D$15 -> 0
B18: CFR | L18: =I18*$D$15+J18*$D$15+K18*$D$15 -> 0
B19: CIF | L19: =I19*$D$15+J19*$D$15+K19*$D$15 -> 0
B20: EXW | C20: =+C15+1 -> 2 | D20: =VLOOKUP(C20,'Completar SOFSE'!$A$19:$E$483,2,0) -> 24 | E20: =VLOOKUP(C20,'Completar SOFSE'!$A$19:$E$483,3,0) -> C/U | F20: =VLOOKUP(C20,'Completar SOFSE'!$A$19:$E$483,4,0) -> NUM96100000130N | G20: =VLOOKUP(C20,'Completar SOFSE'!$A$19:$E$483,5,0) -> EJE DE PAR MONTADO. BOGIE. REMOLCADO. COCHES ELECTRICOS CSR | H20: =VLOOKUP(C20,'Completar SOFSE'!$A$19:$F$483,6,0) -> ALTERNATIVA #1: 34012100001 (CSR) ALTERNATIVA#2: PLANO: 4.40.1.02.1100 ESP. TÉCNICA ET-DNT-1047-V1.0 “EJE PARA COCHES ELECTRICOS REMOLCADOS. COCHE CSR-MITSUBISHI” | L20: =I20*$D$20+J20*$D$20+K20*$D$20 -> 0
B21: FCA | L21: =I21*$D$20+J21*$D$20+K21*$D$20 -> 0
B22: FOB | L22: =I22*$D$20+J22*$D$20+K22*$D$20 -> 0
B23: CFR | L23: =I23*$D$20+J23*$D$20+K23*$D$20 -> 0
B24: CIF | L24: =I24*$D$20+J24*$D$20+K24*$D$20 -> 0
B25: Total | I25: =SUM(L15:L24) -> 0
B26: Lugar de cumplimiento de Incoterm (Ciudad/País):
B27: Condición de Pago: | D27: =+'Completar SOFSE'!D12 -> Según Artículo 34 del PCP.
B28: Plazo de Entrega: | D28: =+'Completar SOFSE'!B13 -> Según Artículo 7 del PCP.
B29: Mantenimiento de Oferta: | D29: =+'Completar SOFSE'!B15 -> 60 días corridos. (Según Artículo 95 del RCC.)

Sheet Completar SOFSE
A3: Datos del proveedor a completar
A5: Contratación Directa N°: | B5: 21/2020 | H5: Moneda | I5: Pesos Argentinos | K5: I.V.A. | L5: 0.105
A6: Clase de Contratación: | B6: Directa por Compulsa Abreviada | I6: Dólares Estadounidenses | L6: 0.21
A7: Expendiente: | B7: EX-2020-32019725- -APN-SG#SOFSE | I7: Euros | L7: 0.27
A8: Objeto: | B8: ADQUISICIÓN DE EJES DE PAR MONTADO DE EMU CSR | I8: Otra
A10: Según Pliego:
A11: Adjudicación: | B11: Por Renglón
A12: Condición de pago: | B12: Según Artículo 33 del PCP. | D12: Según Artículo 34 del PCP.
A13: Plazo de entrega: | B13: Según Artículo 7 del PCP.
A14: Lugar de entrega: | B14: Según Artículo 8 del PCP.
A15: Mantenimiento de oferta: | B15: 60 días corridos. (Según Artículo 95 del RCC.)
A17: Items a cotizar:
A19: Item | B19: Cantidad | C19: U/M | D19: Código | E19: Descripción | F19: Refencia de Fábrica
A21: 1 | B21: 48 | C21: C/U | D21: NUM96100000120N | E21: EJE DE PAR MONTADO. BOGIE MOTRIZ. COCHES ELECTRICOS CSR | F21: ALTERNATIVA #1: 34002100003 (CSR) ALTERNATIVA#2: PLANO: 4.40.1.02.0100 ESP. TÉCNICA: ET-DNT-1052-V1.0 “EJE MOTRIZ PARA COCHES ELECTRICOS. COCHE CSRMITSUBISHI
A22: =+A21+1 -> 2 | B22: 24 | C22: C/U | D22: NUM96100000130N | E22: EJE DE PAR MONTADO. BOGIE. REMOLCADO. COCHES ELECTRICOS CSR | F22: ALTERNATIVA #1: 34012100001 (CSR) ALTERNATIVA#2: PLANO: 4.40.1.02.1100 ESP. TÉCNICA ET-DNT-1047-V1.0 “EJE PARA COCHES ELECTRICOS REMOLCADOS. COCHE CSR-MITSUBISHI”
A23: =+A22+1 -> 3
A24: =+A23+1 -> 4
A25: =+A24+1 -> 5
A26: =+A25+1 -> 6
A27: =+A26+1 -> 7
A28: =+A27+1 -> 8
A29: =+A28+1 -> 9
A30: =+A29+1 -> 10
