Workbook

Sheet Planilla Nacional
B2: PLANILLA COTIZACIÓN BIENES DE ORIGEN NACIONAL / NACIONALIZADOS
B5: Contratación Directa N°: | D5: =+'Completar SOFSE'!B5 -> 100/2018 | H5: DETALLE PROVEEDOR
B6: Clase de Contratación: | D6: =+'Completar SOFSE'!B6 -> Por Compulsa Abreviada | H6: Razón Social
B7: Expediente: | D7: =+'Completar SOFSE'!B7 -> TRE-SOF-SOFS-1585/2018
B8: Objeto: | D8: =+'Completar SOFSE'!B8 -> ADQUISICIÓN DE REPUESTOS PARA LOCOMOTORAS GENERAL MOTORS – LÍNEA ROCA | H8: C.U.I.T.
H9: Tel.:
H10: E-Mail:
B11: Adjudicación : | D11: =+'Completar SOFSE'!B11 -> Total | H11: Moneda:
B13: Renglón | C13: Cantidad | D13: U/M | E13: Referencia de Fábrica | F13: Descripción | G13: Referencia de Fábrica | H13: Precio Unitario | I13: I.V.A. | J13: Subtotal I.V.A. $ | K13: Subtotal
B15: =+'Completar SOFSE'!A21 -> 1 | C15: =VLOOKUP(B15,'Completar SOFSE'!$A$19:$E$501,2,0) -> 1 | D15: =VLOOKUP(B15,'Completar SOFSE'!$A$19:$E$501,3,0) -> Unid | E15: =VLOOKUP(B15,'Completar SOFSE'!$A$19:$E$501,4,0) -> 9544888 | F15: =VLOOKUP(B15,'Completar SOFSE'!$A$19:$E$501,5,0) -> ACOPLAMIENTO DE EMBRAGUE COMPLETO. | G15: =VLOOKUP(B15,'Completar SOFSE'!$A$19:$E$501,6,0) -> #REF! | J15: =+(C15*H15)*I15 -> 0 | K15: =+C15*H15 -> 0
B16: =+B15+1 -> 2 | C16: =VLOOKUP(B16,'Completar SOFSE'!$A$19:$E$501,2,0) -> 2 | D16: =VLOOKUP(B16,'Completar SOFSE'!$A$19:$E$501,3,0) -> Unid | E16: =VLOOKUP(B16,'Completar SOFSE'!$A$19:$E$501,4,0) -> 8432575 | F16: =VLOOKUP(B16,'Completar SOFSE'!$A$19:$E$501,5,0) -> PLACA DE LEVAS - CAMPLATE - LOCOMOTORA GM | G16: =VLOOKUP(B16,'Completar SOFSE'!$A$19:$E$501,6,0) -> #REF! | J16: =+(C16*H16)*I16 -> 0 | K16: =+C16*H16 -> 0
B17: =+B16+1 -> 3 | C17: =VLOOKUP(B17,'Completar SOFSE'!$A$19:$E$501,2,0) -> 12 | D17: =VLOOKUP(B17,'Completar SOFSE'!$A$19:$E$501,3,0) -> Unid | E17: =VLOOKUP(B17,'Completar SOFSE'!$A$19:$E$501,4,0) -> 8358383 | F17: =VLOOKUP(B17,'Completar SOFSE'!$A$19:$E$501,5,0) -> RESORTE DEL RODILLO DE EMBRAGUE DE TURBINA, PARA TURBO DE MD 12-645-E3/E3C DE LOCS. GM | G17: =VLOOKUP(B17,'Completar SOFSE'!$A$19:$E$501,6,0) -> #REF! | J17: =+(C17*H17)*I17 -> 0 | K17: =+C17*H17 -> 0
B18: =+B17+1 -> 4 | C18: =VLOOKUP(B18,'Completar SOFSE'!$A$19:$E$501,2,0) -> 3 | D18: =VLOOKUP(B18,'Completar SOFSE'!$A$19:$E$501,3,0) -> Unid | E18: =VLOOKUP(B18,'Completar SOFSE'!$A$19:$E$501,4,0) -> 8261090 | F18: =VLOOKUP(B18,'Completar SOFSE'!$A$19:$E$501,5,0) -> ARANDELA ESPECIAL DE EMPUJE | G18: =VLOOKUP(B18,'Completar SOFSE'!$A$19:$E$501,6,0) -> #REF! | J18: =+(C18*H18)*I18 -> 0 | K18: =+C18*H18 -> 0
B19: =+B18+1 -> 5 | C19: =VLOOKUP(B19,'Completar SOFSE'!$A$19:$E$501,2,0) -> 2 | D19: =VLOOKUP(B19,'Completar SOFSE'!$A$19:$E$501,3,0) -> Unid | E19: =VLOOKUP(B19,'Completar SOFSE'!$A$19:$E$501,4,0) -> 8261210 | F19: =VLOOKUP(B19,'Completar SOFSE'!$A$19:$E$501,5,0) -> ENGRANAJE PLANETARIO DEL EMBRAGUE DE LA TURBINA, PARA TURBO DE MD 12-645-E3 DE LOCOMOTORAS GM | G19: =VLOOKUP(B19,'Completar SOFSE'!$A$19:$E$501,6,0) -> #REF! | J19: =+(C19*H19)*I19 -> 0 | K19: =+C19*H19 -> 0
B20: =+B19+1 -> 6 | C20: =VLOOKUP(B20,'Completar SOFSE'!$A$19:$E$501,2,0) -> 2 | D20: =VLOOKUP(B20,'Completar SOFSE'!$A$19:$E$501,3,0) -> Unid | E20: =VLOOKUP(B20,'Completar SOFSE'!$A$19:$E$501,4,0) -> 9503273 | F20: =VLOOKUP(B20,'Completar SOFSE'!$A$19:$E$501,5,0) -> EJE DE COMANDO DE TURBINA DE ESCAPE, PARA TURBO DE MD 12-645-E3C DE LOCOMOTORAS GM | G20: =VLOOKUP(B20,'Completar SOFSE'!$A$19:$E$501,6,0) -> #REF! | J20: =+(C20*H20)*I20 -> 0 | K20: =+C20*H20 -> 0
B21: =+B20+1 -> 7 | C21: =VLOOKUP(B21,'Completar SOFSE'!$A$19:$E$501,2,0) -> 6 | D21: =VLOOKUP(B21,'Completar SOFSE'!$A$19:$E$501,3,0) -> Unid | E21: =VLOOKUP(B21,'Completar SOFSE'!$A$19:$E$501,4,0) -> 8456547 | F21: =VLOOKUP(B21,'Completar SOFSE'!$A$19:$E$501,5,0) -> ANILLO DE SELLO DE ESCAPE, PRIMERA SUBMEDIDA, PARA TURBO DE MD 12-645-E3/E3C DE LOCOMOTORAS GM | G21: =VLOOKUP(B21,'Completar SOFSE'!$A$19:$E$501,6,0) -> #REF! | J21: =+(C21*H21)*I21 -> 0 | K21: =+C21*H21 -> 0
B22: =+'Completar SOFSE'!A28 -> 8 | C22: =+'Completar SOFSE'!B28 -> 2 | D22: =+'Completar SOFSE'!C28 -> Unid | E22: =+'Completar SOFSE'!D28 -> 8358578 | F22: =+'Completar SOFSE'!E28 -> ENGRANAJE INTERMEDIARIO O CORONA LIBRE - IDLER - LOCOMOTORA GM | J22: =+(C22*H22)*I22 -> 0 | K22: =+C22*H22 -> 0
B23: =+'Completar SOFSE'!A29 -> 9 | C23: =+'Completar SOFSE'!B29 -> 2 | D23: =+'Completar SOFSE'!C29 -> Unid | E23: =+'Completar SOFSE'!D29 -> 8358574 | F23: =+'Completar SOFSE'!E29 -> PLACA DE RETENCIÓN DEL EJE DEL ENGRANAJE IMPULSOR, PARA TURBO DE MD 12-645-E3 DE LOCOMOTORAS GM | J23: =+(C23*H23)*I23 -> 0 | K23: =+C23*H23 -> 0
B24: =+'Completar SOFSE'!A30 -> 10 | C24: =+'Completar SOFSE'!B30 -> 4 | D24: =+'Completar SOFSE'!C30 -> Unid | E24: =+'Completar SOFSE'!D30 -> 9580582 | F24: =+'Completar SOFSE'!E30 -> JUNTA ENTRE CARCASA PRINCIPAL Y SOPORTE COJINETE COMPRESOR | J24: =+(C24*H24)*I24 -> 0 | K24: =+C24*H24 -> 0
B25: =+'Completar SOFSE'!A31 -> 11 | C25: =+'Completar SOFSE'!B31 -> 36 | D25: =+'Completar SOFSE'!C31 -> Unid | E25: =+'Completar SOFSE'!D31 -> 8315689 | F25: =+'Completar SOFSE'!E31 -> COPA DEL RESORTE DEL RODILLO DE EMBRAGUE DE TURBINA, PARA TURBO DE MD 12-645-E3/E3C DE LOCS. GM | J25: =+(C25*H25)*I25 -> 0 | K25: =+C25*H25 -> 0
B26: =+'Completar SOFSE'!A32 -> 12 | C26: =+'Completar SOFSE'!B32 -> 2 | D26: =+'Completar SOFSE'!C32 -> Unid | E26: =+'Completar SOFSE'!D32 -> 8491714 | F26: =+'Completar SOFSE'!E32 -> SEGURO DE PLACA DE LEVAS DEL EMBRAGUE DE TURBINA, PARA TURBO DE MD 12-645-E3/E3C DE LOCOMOTORAS GM | J26: =+(C26*H26)*I26 -> 0 | K26: =+C26*H26 -> 0
B27: =+'Completar SOFSE'!A33 -> 13 | C27: =+'Completar SOFSE'!B33 -> 3 | D27: =+'Completar SOFSE'!C33 -> Unid | E27: =+'Completar SOFSE'!D33 -> 8491707 | F27: =+'Completar SOFSE'!E33 -> ENGRANAJE PLANETARIO DE EMBRAGUE DE TURBINA, PARA TURBO DE MD 12-645-E3C DE LOCOMOTORAS GM | J27: =+(C27*H27)*I27 -> 0 | K27: =+C27*H27 -> 0
B28: =+'Completar SOFSE'!A34 -> 14 | C28: =+'Completar SOFSE'!B34 -> 2 | D28: =+'Completar SOFSE'!C34 -> Unid | E28: =+'Completar SOFSE'!D34 -> 8405512 | F28: =+'Completar SOFSE'!E34 -> DEFLECTOR DE ALUMINIO DE COMPRESOR LOCOMOTORA GM | J28: =+(C28*H28)*I28 -> 0 | K28: =+C28*H28 -> 0
B29: =+'Completar SOFSE'!A35 -> 15 | C29: =+'Completar SOFSE'!B35 -> 2 | D29: =+'Completar SOFSE'!C35 -> Unid | E29: =+'Completar SOFSE'!D35 -> 8498467 | F29: =+'Completar SOFSE'!E35 -> ROTOR COMPRESOR. | J29: =+(C29*H29)*I29 -> 0 | K29: =+C29*H29 -> 0
B30: =+'Completar SOFSE'!A36 -> 16 | C30: =+'Completar SOFSE'!B36 -> 2 | D30: =+'Completar SOFSE'!C36 -> Unid | E30: =+'Completar SOFSE'!D36 -> 8337614 | F30: =+'Completar SOFSE'!E36 -> EJE DEL CARRIER - LOCOMOTORA GM | J30: =+(C30*H30)*I30 -> 0 | K30: =+C30*H30 -> 0
B31: =+'Completar SOFSE'!A37 -> 17 | C31: =+'Completar SOFSE'!B37 -> 6 | D31: =+'Completar SOFSE'!C37 -> Unid | E31: =+'Completar SOFSE'!D37 -> 8477995 | F31: =+'Completar SOFSE'!E37 -> JUNTA ENTRE CARCASA PRINCIPAL Y SOPORTE COJINETE COMPRESOR | J31: =+(C31*H31)*I31 -> 0 | K31: =+C31*H31 -> 0
B32: =+'Completar SOFSE'!A38 -> 18 | C32: =+'Completar SOFSE'!B38 -> 6 | D32: =+'Completar SOFSE'!C38 -> Unid | E32: =+'Completar SOFSE'!D38 -> 8477996 | F32: =+'Completar SOFSE'!E38 -> JUNTA ENTRE CARCASA PRINCIPAL Y SOPORTE COJINETE COMPRESOR | J32: =+(C32*H32)*I32 -> 0 | K32: =+C32*H32 -> 0
B33: =+'Completar SOFSE'!A39 -> 19 | C33: =+'Completar SOFSE'!B39 -> 24 | D33: =+'Completar SOFSE'!C39 -> Unid | E33: =+'Completar SOFSE'!D39 -> 8366272 | F33: =+'Completar SOFSE'!E39 -> RODILLO - CAM PLATE. | J33: =+(C33*H33)*I33 -> 0 | K33: =+C33*H33 -> 0
... B35: =+'Completar SOFSE'!A41 -> 21 | C35: =+'Completar SOFSE'!B41 -> 1 | D35: =+'Completar SOFSE'!C41 -> Unid | E35: =+'Completar SOFSE'!D41 -> 8366274 | F35: =+'Completar SOFSE'!E41 -> CARCASA DEL EMBRAGUE DE LA TURBINA, PARA TURBO DE MD 12-645-E3 DE LOCOMOTORAS GM | J35: =+(C35*H35)*I35 -> 0 | K35: =+C35*H35 -> 0
B36: Subtotal | J36: =SUM(J15:J35) -> 0 | K36: =SUM(K15:K35) -> 0
B37: I.V.A. | K37: =+J36 -> 0
B38: TOTAL | K38: =+K36+K37 -> 0
B39: Condición de pago: | D39: =+'Completar SOFSE'!B12 -> 60 días
B40: Plazo de entrega: | D40: =+'Completar SOFSE'!B13 -> 120 días
B41: Lugar de entrega: | D41: =+'Completar SOFSE'!B14 -> Almacén 4101 de Locomotoras del Taller de Remedios de Escalada, sito en calle 29 de septiembre Nº 3501 de la localidad de Lanús, provincia de Buenos Aires
B42: Mantenimiento de oferta: | D42: =+'Completar SOFSE'!B15 -> 60 días

Sheet Planilla Extranjero
B3: PLANILLA COTIZACIÓN BIENES DE ORIGEN EXTRANJERO
B5: Contratación Directa N°: | D5: =+'Completar SOFSE'!B5 -> 100/2018 | I5: DETALLE PROVEEDOR
B6: Clase de Contratación: | D6: =+'Completar SOFSE'!B6 -> Por Compulsa Abreviada | I6: Razón Social
B7: Expediente: | D7: =+'Completar SOFSE'!B7 -> TRE-SOF-SOFS-1585/2018
B8: Objeto: | D8: =+'Completar SOFSE'!B8 -> ADQUISICIÓN DE REPUESTOS PARA LOCOMOTORAS GENERAL MOTORS – LÍNEA ROCA | I8: Identificación Tributaria
I9: Tel.:
I10: E-Mail:
B11: Adjudicación : | D11: =+'Completar SOFSE'!B11 -> Total | I11: Moneda:
B13: Inconterm | C13: Renglón | D13: Cantidad | E13: U/M | F13: Referencia de Fábrica | G13: Descripción | I13: Precio
I14: Unitario | J14: Flete | K14: Seguro | L14: Subtotal
B15: EXW | C15: =+'Completar SOFSE'!A21 -> 1 | D15: =VLOOKUP(C15,'Completar SOFSE'!$A$19:$E$501,2,0) -> 1 | E15: =VLOOKUP(C15,'Completar SOFSE'!$A$19:$E$501,3,0) -> Unid | F15: =VLOOKUP(C15,'Completar SOFSE'!$A$19:$E$501,4,0) -> 9544888 | G15: =VLOOKUP(C15,'Completar SOFSE'!$A$19:$E$501,5,0) -> ACOPLAMIENTO DE EMBRAGUE COMPLETO. | H15: =VLOOKUP(C15,'Completar SOFSE'!$A$19:$E$501,6,0) -> #REF! | L15: =I15*$D$15+J15*$D$15+K15*$D$15 -> 0
B16: FCA | L16: =I16*$D$15+J16*$D$15+K16*$D$15 -> 0
B17: FOB | L17: =I17*$D$15+J17*$D$15+K17*$D$15 -> 0
B18: CFR | L18: =I18*$D$15+J18*$D$15+K18*$D$15 -> 0
B19: CIF | L19: =I19*$D$15+J19*$D$15+K19*$D$15 -> 0
B20: EXW | C20: =+C15+1 -> 2 | D20: =VLOOKUP(C20,'Completar SOFSE'!$A$19:$E$501,2,0) -> 2 | E20: =VLOOKUP(C20,'Completar SOFSE'!$A$19:$E$501,3,0) -> Unid | F20: =VLOOKUP(C20,'Completar SOFSE'!$A$19:$E$501,4,0) -> 8432575 | G20: =VLOOKUP(C20,'Completar SOFSE'!$A$19:$E$501,5,0) -> PLACA DE LEVAS - CAMPLATE - LOCOMOTORA GM | H20: =VLOOKUP(C20,'Completar SOFSE'!$A$19:$E$501,6,0) -> #REF! | L20: =I20*$D$20+J20*$D$20+K20*$D$20 -> 0
B21: FCA | L21: =I21*$D$20+J21*$D$20+K21*$D$20 -> 0
B22: FOB | L22: =I22*$D$20+J22*$D$20+K22*$D$20 -> 0
B23: CFR | L23: =I23*$D$20+J23*$D$20+K23*$D$20 -> 0
B24: CIF | L24: =I24*$D$20+J24*$D$20+K24*$D$20 -> 0
B25: EXW | C25: =+C20+1 -> 3 | D25: =VLOOKUP(C25,'Completar SOFSE'!$A$19:$E$501,2,0) -> 12 | E25: =VLOOKUP(C25,'Completar SOFSE'!$A$19:$E$501,3,0) -> Unid | F25: =VLOOKUP(C25,'Completar SOFSE'!$A$19:$E$501,4,0) -> 8358383 | G25: =VLOOKUP(C25,'Completar SOFSE'!$A$19:$E$501,5,0) -> RESORTE DEL RODILLO DE EMBRAGUE DE TURBINA, PARA TURBO DE MD 12-645-E3/E3C DE LOCS. GM | H25: =VLOOKUP(C25,'Completar SOFSE'!$A$19:$E$501,6,0) -> #REF! | L25: =I25*$D$25+J25*$D$25+K25*$D$25 -> 0
B26: FCA | L26: =I26*$D$25+J26*$D$25+K26*$D$25 -> 0
B27: FOB | L27: =I27*$D$25+J27*$D$25+K27*$D$25 -> 0
B28: CFR | L28: =I28*$D$25+J28*$D$25+K28*$D$25 -> 0
B29: CIF | L29: =I29*$D$25+J29*$D$25+K29*$D$25 -> 0
B30: EXW | C30: =+C25+1 -> 4 | D30: =VLOOKUP(C30,'Completar SOFSE'!$A$19:$E$501,2,0) -> 3 | E30: =VLOOKUP(C30,'Completar SOFSE'!$A$19:$E$501,3,0) -> Unid | F30: =VLOOKUP(C30,'Completar SOFSE'!$A$19:$E$501,4,0) -> 8261090 | G30: =VLOOKUP(C30,'Completar SOFSE'!$A$19:$E$501,5,0) -> ARANDELA ESPECIAL DE EMPUJE | H30: =VLOOKUP(C30,'Completar SOFSE'!$A$19:$E$501,6,0) -> #REF! | L30: =I30*$D$30+J30*$D$30+K30*$D$30 -> 0
B31: FCA | L31: =I31*$D$30+J31*$D$30+K31*$D$30 -> 0
B32: FOB | L32: =I32*$D$30+J32*$D$30+K32*$D$30 -> 0
B33: CFR | L33: =I33*$D$30+J33*$D$30+K33*$D$30 -> 0
B34: CIF | L34: =I34*$D$30+J34*$D$30+K34*$D$30 -> 0
B35: EXW | C35: =+C30+1 -> 5 | D35: =VLOOKUP(C35,'Completar SOFSE'!$A$19:$E$501,2,0) -> 2 | E35: =VLOOKUP(C35,'Completar SOFSE'!$A$19:$E$501,3,0) -> Unid | F35: =VLOOKUP(C35,'Completar SOFSE'!$A$19:$E$501,4,0) -> 8261210 | G35: =VLOOKUP(C35,'Completar SOFSE'!$A$19:$E$501,5,0) -> ENGRANAJE PLANETARIO DEL EMBRAGUE DE LA TURBINA, PARA TURBO DE MD 12-645-E3 DE LOCOMOTORAS GM | H35: =VLOOKUP(C35,'Completar SOFSE'!$A$19:$E$501,6,0) -> #REF! | L35: =I35*$D$35+J35*$D$35+K35*$D$35 -> 0
B36: FCA | L36: =I36*$D$35+J36*$D$35+K36*$D$35 -> 0
B37: FOB | L37: =I37*$D$35+J37*$D$35+K37*$D$35 -> 0
B38: CFR | L38: =I38*$D$35+J38*$D$35+K38*$D$35 -> 0
B39: CIF | L39: =I39*$D$35+J39*$D$35+K39*$D$35 -> 0
B40: EXW | C40: =+C35+1 -> 6 | D40: =VLOOKUP(C40,'Completar SOFSE'!$A$19:$E$501,2,0) -> 2 | E40: =VLOOKUP(C40,'Completar SOFSE'!$A$19:$E$501,3,0) -> Unid | F40: =VLOOKUP(C40,'Completar SOFSE'!$A$19:$E$501,4,0) -> 9503273 | G40: =VLOOKUP(C40,'Completar SOFSE'!$A$19:$E$501,5,0) -> EJE DE COMANDO DE TURBINA DE ESCAPE, PARA TURBO DE MD 12-645-E3C DE LOCOMOTORAS GM | H40: =VLOOKUP(C40,'Completar SOFSE'!$A$19:$E$501,6,0) -> #REF! | L40: =I40*$D$40+J40*$D$40+K40*$D$40 -> 0
B41: FCA | L41: =I41*$D$40+J41*$D$40+K41*$D$40 -> 0
B42: FOB | L42: =I42*$D$40+J42*$D$40+K42*$D$40 -> 0
B43: CFR | L43: =I43*$D$40+J43*$D$40+K43*$D$40 -> 0
B44: CIF | L44: =I44*$D$40+J44*$D$40+K44*$D$40 -> 0
...

Sheet Completar SOFSE
A3: Datos del proveedor a completar
A5: Contratación Directa N°: | B5: 100/2018 | G5: Moneda | H5: Pesos Argentinos | J5: I.V.A. | K5: 0.105
A6: Clase de Contratación: | B6: Por Compulsa Abreviada | H6: Dólares Estadounidenses | K6: 0.21
A7: Expendiente: | B7: TRE-SOF-SOFS-1585/2018 | H7: Euros | K7: 0.27
A8: Objeto: | B8: ADQUISICIÓN DE REPUESTOS PARA LOCOMOTORAS GENERAL MOTORS – LÍNEA ROCA | H8: Otra
A10: Según Pliego:
A11: Adjudicación: | B11: Total
A12: Condición de pago: | B12: 60 días
A13: Plazo de entrega: | B13: 120 días
A14: Lugar de entrega: | B14: Almacén 4101 de Locomotoras del Taller de Remedios de Escalada, sito en calle 29 de septiembre Nº 3501 de la localidad de Lanús, provincia de Buenos Aires
A15: Mantenimiento de oferta: | B15: 60 días
A17: Items a cotizar:
A19: Item | B19: Cantidad | C19: U/M | D19: Refencia de Fábrica | E19: Descripción
A21: 1 | B21: 1 | C21: Unid | D21: 9544888 | E21: ACOPLAMIENTO DE EMBRAGUE COMPLETO.
A22: =+A21+1 -> 2 | B22: 2 | C22: Unid | D22: 8432575 | E22: PLACA DE LEVAS - CAMPLATE - LOCOMOTORA GM
A23: =+A22+1 -> 3 | B23: 12 | C23: Unid | D23: 8358383 | E23: RESORTE DEL RODILLO DE EMBRAGUE DE TURBINA, PARA TURBO DE MD 12-645-E3/E3C DE LOCS. GM
A24: =+A23+1 -> 4 | B24: 3 | C24: Unid | D24: 8261090 | E24: ARANDELA ESPECIAL DE EMPUJE
A25: =+A24+1 -> 5 | B25: 2 | C25: Unid | D25: 8261210 | E25: ENGRANAJE PLANETARIO DEL EMBRAGUE DE LA TURBINA, PARA TURBO DE MD 12-645-E3 DE LOCOMOTORAS GM
A26: =+A25+1 -> 6 | B26: 2 | C26: Unid | D26: 9503273 | E26: EJE DE COMANDO DE TURBINA DE ESCAPE, PARA TURBO DE MD 12-645-E3C DE LOCOMOTORAS GM
A27: =+A26+1 -> 7 | B27: 6 | C27: Unid | D27: 8456547 | E27: ANILLO DE SELLO DE ESCAPE, PRIMERA SUBMEDIDA, PARA TURBO DE MD 12-645-E3/E3C DE LOCOMOTORAS GM
A28: =+A27+1 -> 8 | B28: 2 | C28: Unid | D28: 8358578 | E28: ENGRANAJE INTERMEDIARIO O CORONA LIBRE - IDLER - LOCOMOTORA GM
A29: =+A28+1 -> 9 | B29: 2 | C29: Unid | D29: 8358574 | E29: PLACA DE RETENCIÓN DEL EJE DEL ENGRANAJE IMPULSOR, PARA TURBO DE MD 12-645-E3 DE LOCOMOTORAS GM
A30: =+A29+1 -> 10 | B30: 4 | C30: Unid | D30: 9580582 | E30: JUNTA ENTRE CARCASA PRINCIPAL Y SOPORTE COJINETE COMPRESOR
A31: =+A30+1 -> 11 | B31: 36 | C31: Unid | D31: 8315689 | E31: COPA DEL RESORTE DEL RODILLO DE EMBRAGUE DE TURBINA, PARA TURBO DE MD 12-645-E3/E3C DE LOCS. GM
A32: =+A31+1 -> 12 | B32: 2 | C32: Unid | D32: 8491714 | E32: SEGURO DE PLACA DE LEVAS DEL EMBRAGUE DE TURBINA, PARA TURBO DE MD 12-645-E3/E3C DE LOCOMOTORAS GM
A33: =+A32+1 -> 13 | B33: 3 | C33: Unid | D33: 8491707 | E33: ENGRANAJE PLANETARIO DE EMBRAGUE DE TURBINA, PARA TURBO DE MD 12-645-E3C DE LOCOMOTORAS GM
... A41: =+A40+1 -> 21 | B41: 1 | C41: Unid | D41: 8366274 | E41: CARCASA DEL EMBRAGUE DE LA TURBINA, PARA TURBO DE MD 12-645-E3 DE LOCOMOTORAS GM
A42: =+A41+1 -> 22
A43: =+A42+1 -> 23
A44: =+A43+1 -> 24
A45: =+A44+1 -> 25
A46: =+A45+1 -> 26
A47: =+A46+1 -> 27
A48: =+A47+1 -> 28
