Workbook

Sheet Completar
A1: Item | B1: U/M | C1: Código SAP | D1: Link | E1: NOMENCLADOR | F1: RF | G1: Plano / ET | H1: Descripción | I1: Cant.
A2: 1 | B2: C/U | C2: 1000000223 | D2: SAP | E2: NUM00810103710N | F2: 8197691 | G2: 9-04-98-EC | H2: BUJE D. 31,75X41,27MM; 25,4MM 8197691 P/ | I2: 80
A3: =+A2+1 -> 2 | B3: C/U | C3: 1000000296 | D3: SAP | E3: NUM00810106630N | F3: 4993721 | G3: -- | H3: AMORT P/SUSP DER IZQ BOGIE 4993721 P/LOC | I3: 49
A4: =+A3+1 -> 3 | B4: C/U | C4: 1000000335 | D4: SAP | E4: NUM00810108410N | F4: 8362027 | G4: 008101DTMR0456-EA | H4: ABRAZA P/SELLO 8362027 ,008101DTMR0456 P | I4: 26
A5: =+A4+1 -> 4 | B5: C/U | C5: 1000000410 | D5: SAP | E5: NUM00810110390N | F5: 8359762 | G5: 0-08-1-7079-E3 | H5: GRILLETE E/LEV CILI FREN LEV PORTAZAP 83 | I5: 34
A6: =+A5+1 -> 5 | B6: C/U | C6: 1000000635 | D6: SAP | E6: NUM00820201050N | F6: 8203089 | G6: -- | H6: CERRAD P/PUERTA CARROC 8203089 P/LOCOMOT | I6: 92
A7: =+A6+1 -> 6 | B7: C/U | C7: 1000000758 | D7: SAP | E7: NUM00820260200N | F7: -- | G7: 008202DTMR0277-EA | H7: NERV REFUER/REP P/COLIS NERV D/REFUER RE | I7: 20
A8: =+A7+1 -> 7 | B8: C/U | C8: 1000001100 | D8: SAP | E8: NUM00830403410N | F8: 8039674 | G8: -- | H8: BUJE P/EJE IMPULSOR 8039674 P/GM | I8: 59
A9: =+A8+1 -> 8 | B9: C/U | C9: 1000001103 | D9: SAP | E9: NUM00830403570N | F9: 8028238 | G9: -- | H9: ENGRANAJE CONICO P/REGUL WOODWARD 802823 | I9: 9
A10: =+A9+1 -> 9 | B10: C/U | C10: 1000001104 | D10: SAP | E10: NUM00830403590N | F10: 8028499 | G10: -- | H10: ENGRAN P/REGUL WOODWARD 8028499 P/LOCOMO | I10: 9
A11: =+A10+1 -> 10 | B11: C/U | C11: 1000001106 | D11: SAP | E11: NUM00830403670N | F11: 127711 | G11: -- | H11: TUERCA SEGURO P/REGUL WOODWARD 127711 | I11: 1
A12: =+A11+1 -> 11 | B12: C/U | C12: 1000001567 | D12: SAP | E12: NUM00830602970N | F12: 8443643 | G12: -- | H12: COJIN D/EJE CTROL INYEC; P/MOTOR 12-567- | I12: 45
A13: =+A12+1 -> 12 | B13: C/U | C13: 1000002152 | D13: SAP | E13: NUM00830819710N | F13: 8471160 | G13: -- | H13: CONJ ACOPL FLEXIBLE P/TUBOS 8471160 P/LO | I13: 17
A14: =+A13+1 -> 13 | B14: C/U | C14: 1000002355 | D14: SAP | E14: NUM00850105890N | F14: 8345331 | G14: -- | H14: PIST BAJA PRES Y VACIO (0,01"); DATOS VE | I14: 21
A15: =+A14+1 -> 14 | B15: C/U | C15: 1000002589 | D15: SAP | E15: NUM00850317730N | F15: 9558117 | G15: 008503DTMR0132-EC | H15: RESOR P/AFLOJE CIL FRENO UAH 9X8" | I15: 39
A16: =+A15+1 -> 15 | B16: C/U | C16: 1000003885 | D16: SAP | E16: NUM00870813560N | F16: 9534910 | G16: BSMR 407/2-E1 | H16: COJIN JGO 9534910 GM,PLANO | I16: 1
A17: =+A16+1 -> 16 | B17: C/U | C17: 1000003886 | D17: SAP | E17: NUM00870813580N | F17: 9534911 | G17: BSMR 407/3-E1 | H17: JGO COJINETE P/SUSP MOT TRAC 9534911 | I17: 1
A18: =+A17+1 -> 17 | B18: C/U | C18: 1000003887 | D18: SAP | E18: NUM00870813600N | F18: -- | G18: BSMR 407/4-E1 | H18: JGO COJINETE P/SUSP MOT TRAC PLANO: | I18: 1
A19: =+A18+1 -> 18 | B19: C/U | C19: 1000021261 | D19: SAP | E19: NUM90062470000N | F19: 8062832 | G19: 008503DTMR0362-EA | H19: COPA DE PISTON P/CIL D/FRENO 8062832 P/L | I19: 1
A20: =+A19+1 -> 19 | B20: C/U | C20: 1000022236 | D20: SAP | E20: NUM90505630000N | F20: 8101930 | G20: NEFA 574-E4 | H20: CLAVIJA P/ZAP FRENO BOGIE 8101930 | I20: 219
A21: =+A20+1 -> 20 | B21: C/U | C21: 1000022389 | D21: SAP | E21: NUM90640020000N | F21: 8197960 | G21: DE 10-01-24-E5 | H21: BUJE D. 31,75X41,27MM; 19,05MM 8197960 P | I21: 153
A22: =+A21+1 -> 21 | B22: C/U | C22: 1000023164 | D22: SAP | E22: NUM91315080000N | F22: 9085368 | G22: -- | H22: PLACA DESG P/CTRO D/BOGIE 9085368 P/GM | I22: 1
A23: =+A22+1 -> 22 | B23: C/U | C23: 1000024473 | D23: SAP | E23: NUM90516530000N | F23: -- | G23: FA 8 001/7.1 | H23: CHAVETA P/PERNO ENGAN IRAM FAL 70-07.2 P | I23: 14
A24: =+A23+1 -> 23 | B24: C/U | C24: 1000025798 | D24: SAP | E24: NUM00810108500N | F24: 9330489 | G24: -- | H24: MEDIALUNA DE DESGASTE P/CTRO D/BOGIE | I24: 1
A25: =+A24+1 -> 24 | B25: C/U | C25: 1000027178 | D25: SAP | E25: NUM00810106610N | F25: 273921 | G25: -- | H25: PERNO GUIA P/CIL D/FRENO 273921 GM | I25: 1
A26: =+A25+1 -> 25 | B26: C/U | C26: 1000030320 | D26: SAP | E26: NUM00810110230N | F26: 8157958 | G26: -- | H26: RESOR P/PERNO 8157958 P/GM G22CU | I26: 1
A27: =+A26+1 -> 26 | B27: C/U | C27: 1000030391 | D27: SAP | E27: NUM00830705900N | F27: 9531700 | G27: -- | H27: MANGA DE ACEITE 9531700 P/LOC GM GM | I27: 20
A28: =+A27+1 -> 27 | B28: C/U | C28: 1000030927 | D28: SAP | E28: NUM91310150000N | F28: 8177278 | G28: -- | H28: ASIENTO RES P/SUSP SECUND 8177278 P/BOGI | I28: 16
A29: =+A28+1 -> 28 | B29: C/U
A30: =+A29+1 -> 29 | B30: C/U
A31: =+A30+1 -> 30 | B31: C/U
A32: =+A31+1 -> 31 | B32: C/U
A33: =+A32+1 -> 32 | B33: C/U
A34: =+A33+1 -> 33 | B34: C/U
A35: =+A34+1 -> 34 | B35: C/U
A36: =+A35+1 -> 35 | B36: C/U
A37: =+A36+1 -> 36 | B37: C/U
A38: =+A37+1 -> 37 | B38: C/U
A39: =+A38+1 -> 38 | B39: C/U
A40: =+A39+1 -> 39 | B40: C/U
...

Sheet Nacional
B2: ANEXO A - PLANILLA COTIZACIÓN BIENES DE ORIGEN NACIONAL / NACIONALIZADOS
B5: Contratación Directa N°: | D5: 68-2022 | J5: DETALLE PROVEEDOR
B6: Clase de Contratación: | D6: CD-CA | J6: Razón Social
B7: Expediente: | D7: 2022-38713483
B8: Objeto: | D8: ADQUISICIÓN REPUESTOS GM | J8: C.U.I.T.
J9: Tel.:
J10: E-Mail:
B11: Adjudicación : | D11: POR RENGLON | J11: Moneda:
B13: Renglón | C13: Cant. | D13: U/M | E13: Código SAP | F13: Nomenclador | G13: Descripción SAP | H13: Ref. Fábrica | I13: Plano / ET | J13: Precio Unitario | K13: I.V.A. (%) | L13: Subtotal I.V.A. $ | M13: Subtotal (sin I.V.A.)
B15: 1 | C15: =VLOOKUP(B15,Completar!$A$2:$I$176,9,FALSE) -> 80 | D15: =VLOOKUP(B15,Completar!$A$2:$I$176,2,FALSE) -> C/U | E15: =VLOOKUP(B15,Completar!$A$2:$I$176,3,FALSE) -> 1000000223 | F15: =VLOOKUP(B15,Completar!$A$2:$I$176,5,FALSE) -> NUM00810103710N | G15: =VLOOKUP(B15,Completar!$A$2:$I$176,8,FALSE) -> BUJE D. 31,75X41,27MM; 25,4MM 8197691 P/ | H15: =VLOOKUP(B15,Completar!$A$2:$I$176,6,FALSE) -> 8197691 | I15: =VLOOKUP(B15,Completar!$A$2:$I$176,7,FALSE) -> 9-04-98-EC | L15: =+(C15*J15)*K15 -> 0 | M15: =+C15*J15 -> 0
B16: 2 | C16: =VLOOKUP(B16,Completar!$A$2:$I$176,9,FALSE) -> 49 | D16: =VLOOKUP(B16,Completar!$A$2:$I$176,2,FALSE) -> C/U | E16: =VLOOKUP(B16,Completar!$A$2:$I$176,3,FALSE) -> 1000000296 | F16: =VLOOKUP(B16,Completar!$A$2:$I$176,5,FALSE) -> NUM00810106630N | G16: =VLOOKUP(B16,Completar!$A$2:$I$176,8,FALSE) -> AMORT P/SUSP DER IZQ BOGIE 4993721 P/LOC | H16: =VLOOKUP(B16,Completar!$A$2:$I$176,6,FALSE) -> 4993721 | I16: =VLOOKUP(B16,Completar!$A$2:$I$176,7,FALSE) -> -- | L16: =+(C16*J16)*K16 -> 0 | M16: =+C16*J16 -> 0
B17: 3 | C17: =VLOOKUP(B17,Completar!$A$2:$I$176,9,FALSE) -> 26 | D17: =VLOOKUP(B17,Completar!$A$2:$I$176,2,FALSE) -> C/U | E17: =VLOOKUP(B17,Completar!$A$2:$I$176,3,FALSE) -> 1000000335 | F17: =VLOOKUP(B17,Completar!$A$2:$I$176,5,FALSE) -> NUM00810108410N | G17: =VLOOKUP(B17,Completar!$A$2:$I$176,8,FALSE) -> ABRAZA P/SELLO 8362027 ,008101DTMR0456 P | H17: =VLOOKUP(B17,Completar!$A$2:$I$176,6,FALSE) -> 8362027 | I17: =VLOOKUP(B17,Completar!$A$2:$I$176,7,FALSE) -> 008101DTMR0456-EA | L17: =+(C17*J17)*K17 -> 0 | M17: =+C17*J17 -> 0
B18: 4 | C18: =VLOOKUP(B18,Completar!$A$2:$I$176,9,FALSE) -> 34 | D18: =VLOOKUP(B18,Completar!$A$2:$I$176,2,FALSE) -> C/U | E18: =VLOOKUP(B18,Completar!$A$2:$I$176,3,FALSE) -> 1000000410 | F18: =VLOOKUP(B18,Completar!$A$2:$I$176,5,FALSE) -> NUM00810110390N | G18: =VLOOKUP(B18,Completar!$A$2:$I$176,8,FALSE) -> GRILLETE E/LEV CILI FREN LEV PORTAZAP 83 | H18: =VLOOKUP(B18,Completar!$A$2:$I$176,6,FALSE) -> 8359762 | I18: =VLOOKUP(B18,Completar!$A$2:$I$176,7,FALSE) -> 0-08-1-7079-E3 | L18: =+(C18*J18)*K18 -> 0 | M18: =+C18*J18 -> 0
B19: 5 | C19: =VLOOKUP(B19,Completar!$A$2:$I$176,9,FALSE) -> 92 | D19: =VLOOKUP(B19,Completar!$A$2:$I$176,2,FALSE) -> C/U | E19: =VLOOKUP(B19,Completar!$A$2:$I$176,3,FALSE) -> 1000000635 | F19: =VLOOKUP(B19,Completar!$A$2:$I$176,5,FALSE) -> NUM00820201050N | G19: =VLOOKUP(B19,Completar!$A$2:$I$176,8,FALSE) -> CERRAD P/PUERTA CARROC 8203089 P/LOCOMOT | H19: =VLOOKUP(B19,Completar!$A$2:$I$176,6,FALSE) -> 8203089 | I19: =VLOOKUP(B19,Completar!$A$2:$I$176,7,FALSE) -> -- | L19: =+(C19*J19)*K19 -> 0 | M19: =+C19*J19 -> 0
B20: 6 | C20: =VLOOKUP(B20,Completar!$A$2:$I$176,9,FALSE) -> 20 | D20: =VLOOKUP(B20,Completar!$A$2:$I$176,2,FALSE) -> C/U | E20: =VLOOKUP(B20,Completar!$A$2:$I$176,3,FALSE) -> 1000000758 | F20: =VLOOKUP(B20,Completar!$A$2:$I$176,5,FALSE) -> NUM00820260200N | G20: =VLOOKUP(B20,Completar!$A$2:$I$176,8,FALSE) -> NERV REFUER/REP P/COLIS NERV D/REFUER RE | H20: =VLOOKUP(B20,Completar!$A$2:$I$176,6,FALSE) -> -- | I20: =VLOOKUP(B20,Completar!$A$2:$I$176,7,FALSE) -> 008202DTMR0277-EA | L20: =+(C20*J20)*K20 -> 0 | M20: =+C20*J20 -> 0
B21: 7 | C21: =VLOOKUP(B21,Completar!$A$2:$I$176,9,FALSE) -> 59 | D21: =VLOOKUP(B21,Completar!$A$2:$I$176,2,FALSE) -> C/U | E21: =VLOOKUP(B21,Completar!$A$2:$I$176,3,FALSE) -> 1000001100 | F21: =VLOOKUP(B21,Completar!$A$2:$I$176,5,FALSE) -> NUM00830403410N | G21: =VLOOKUP(B21,Completar!$A$2:$I$176,8,FALSE) -> BUJE P/EJE IMPULSOR 8039674 P/GM | H21: =VLOOKUP(B21,Completar!$A$2:$I$176,6,FALSE) -> 8039674 | I21: =VLOOKUP(B21,Completar!$A$2:$I$176,7,FALSE) -> -- | L21: =+(C21*J21)*K21 -> 0 | M21: =+C21*J21 -> 0
B22: 8 | C22: =VLOOKUP(B22,Completar!$A$2:$I$176,9,FALSE) -> 9 | D22: =VLOOKUP(B22,Completar!$A$2:$I$176,2,FALSE) -> C/U | E22: =VLOOKUP(B22,Completar!$A$2:$I$176,3,FALSE) -> 1000001103 | F22: =VLOOKUP(B22,Completar!$A$2:$I$176,5,FALSE) -> NUM00830403570N | G22: =VLOOKUP(B22,Completar!$A$2:$I$176,8,FALSE) -> ENGRANAJE CONICO P/REGUL WOODWARD 802823 | H22: =VLOOKUP(B22,Completar!$A$2:$I$176,6,FALSE) -> 8028238 | I22: =VLOOKUP(B22,Completar!$A$2:$I$176,7,FALSE) -> -- | L22: =+(C22*J22)*K22 -> 0 | M22: =+C22*J22 -> 0
B23: 9 | C23: =VLOOKUP(B23,Completar!$A$2:$I$176,9,FALSE) -> 9 | D23: =VLOOKUP(B23,Completar!$A$2:$I$176,2,FALSE) -> C/U | E23: =VLOOKUP(B23,Completar!$A$2:$I$176,3,FALSE) -> 1000001104 | F23: =VLOOKUP(B23,Completar!$A$2:$I$176,5,FALSE) -> NUM00830403590N | G23: =VLOOKUP(B23,Completar!$A$2:$I$176,8,FALSE) -> ENGRAN P/REGUL WOODWARD 8028499 P/LOCOMO | H23: =VLOOKUP(B23,Completar!$A$2:$I$176,6,FALSE) -> 8028499 | I23: =VLOOKUP(B23,Completar!$A$2:$I$176,7,FALSE) -> -- | L23: =+(C23*J23)*K23 -> 0 | M23: =+C23*J23 -> 0
B24: 10 | C24: =VLOOKUP(B24,Completar!$A$2:$I$176,9,FALSE) -> 1 | D24: =VLOOKUP(B24,Completar!$A$2:$I$176,2,FALSE) -> C/U | E24: =VLOOKUP(B24,Completar!$A$2:$I$176,3,FALSE) -> 1000001106 | F24: =VLOOKUP(B24,Completar!$A$2:$I$176,5,FALSE) -> NUM00830403670N | G24: =VLOOKUP(B24,Completar!$A$2:$I$176,8,FALSE) -> TUERCA SEGURO P/REGUL WOODWARD 127711 | H24: =VLOOKUP(B24,Completar!$A$2:$I$176,6,FALSE) -> 127711 | I24: =VLOOKUP(B24,Completar!$A$2:$I$176,7,FALSE) -> -- | L24: =+(C24*J24)*K24 -> 0 | M24: =+C24*J24 -> 0
B25: 11 | C25: =VLOOKUP(B25,Completar!$A$2:$I$176,9,FALSE) -> 45 | D25: =VLOOKUP(B25,Completar!$A$2:$I$176,2,FALSE) -> C/U | E25: =VLOOKUP(B25,Completar!$A$2:$I$176,3,FALSE) -> 1000001567 | F25: =VLOOKUP(B25,Completar!$A$2:$I$176,5,FALSE) -> NUM00830602970N | G25: =VLOOKUP(B25,Completar!$A$2:$I$176,8,FALSE) -> COJIN D/EJE CTROL INYEC; P/MOTOR 12-567- | H25: =VLOOKUP(B25,Completar!$A$2:$I$176,6,FALSE) -> 8443643 | I25: =VLOOKUP(B25,Completar!$A$2:$I$176,7,FALSE) -> -- | L25: =+(C25*J25)*K25 -> 0 | M25: =+C25*J25 -> 0
B26: 12 | C26: =VLOOKUP(B26,Completar!$A$2:$I$176,9,FALSE) -> 17 | D26: =VLOOKUP(B26,Completar!$A$2:$I$176,2,FALSE) -> C/U | E26: =VLOOKUP(B26,Completar!$A$2:$I$176,3,FALSE) -> 1000002152 | F26: =VLOOKUP(B26,Completar!$A$2:$I$176,5,FALSE) -> NUM00830819710N | G26: =VLOOKUP(B26,Completar!$A$2:$I$176,8,FALSE) -> CONJ ACOPL FLEXIBLE P/TUBOS 8471160 P/LO | H26: =VLOOKUP(B26,Completar!$A$2:$I$176,6,FALSE) -> 8471160 | I26: =VLOOKUP(B26,Completar!$A$2:$I$176,7,FALSE) -> -- | L26: =+(C26*J26)*K26 -> 0 | M26: =+C26*J26 -> 0
... B39: 25 | C39: =VLOOKUP(B39,Completar!$A$2:$I$176,9,FALSE) -> 1 | D39: =VLOOKUP(B39,Completar!$A$2:$I$176,2,FALSE) -> C/U | E39: =VLOOKUP(B39,Completar!$A$2:$I$176,3,FALSE) -> 1000030320 | F39: =VLOOKUP(B39,Completar!$A$2:$I$176,5,FALSE) -> NUM00810110230N | G39: =VLOOKUP(B39,Completar!$A$2:$I$176,8,FALSE) -> RESOR P/PERNO 8157958 P/GM G22CU | H39: =VLOOKUP(B39,Completar!$A$2:$I$176,6,FALSE) -> 8157958 | I39: =VLOOKUP(B39,Completar!$A$2:$I$176,7,FALSE) -> -- | L39: =+(C39*J39)*K39 -> 0 | M39: =+C39*J39 -> 0
B40: 26 | C40: =VLOOKUP(B40,Completar!$A$2:$I$176,9,FALSE) -> 20 | D40: =VLOOKUP(B40,Completar!$A$2:$I$176,2,FALSE) -> C/U | E40: =VLOOKUP(B40,Completar!$A$2:$I$176,3,FALSE) -> 1000030391 | F40: =VLOOKUP(B40,Completar!$A$2:$I$176,5,FALSE) -> NUM00830705900N | G40: =VLOOKUP(B40,Completar!$A$2:$I$176,8,FALSE) -> MANGA DE ACEITE 9531700 P/LOC GM GM | H40: =VLOOKUP(B40,Completar!$A$2:$I$176,6,FALSE) -> 9531700 | I40: =VLOOKUP(B40,Completar!$A$2:$I$176,7,FALSE) -> --
B41: 27 | C41: =VLOOKUP(B41,Completar!$A$2:$I$176,9,FALSE) -> 16 | D41: =VLOOKUP(B41,Completar!$A$2:$I$176,2,FALSE) -> C/U | E41: =VLOOKUP(B41,Completar!$A$2:$I$176,3,FALSE) -> 1000030927 | F41: =VLOOKUP(B41,Completar!$A$2:$I$176,5,FALSE) -> NUM91310150000N | G41: =VLOOKUP(B41,Completar!$A$2:$I$176,8,FALSE) -> ASIENTO RES P/SUSP SECUND 8177278 P/BOGI | H41: =VLOOKUP(B41,Completar!$A$2:$I$176,6,FALSE) -> 8177278 | I41: =VLOOKUP(B41,Completar!$A$2:$I$176,7,FALSE) -> --
B42: Subtotal (sin I.V.A.) | L42: =SUM(L15:L18) -> 0 | M42: =SUM(M15:M18) -> 0
B43: I.V.A. | M43: =L42 -> 0
B44: Total (con I.V.A.) | M44: =+M42+M43 -> 0
G45: Total letras
B46: Condición de pago: | D46: Según Pliego
B47: Plazo de entrega: | D47: Según Pliego
B48: Lugar de entrega: | D48: Según Pliego
B49: Mantenimiento de oferta: | D49: Según Pliego

Sheet Extranjero
B3: ANEXO B - PLANILLA COTIZACIÓN BIENES DE ORIGEN EXTRANJERO
B5: Contratación Directa N°: | K5: DETALLE PROVEEDOR
B6: Clase de Contratación: | K6: Razón Social
B7: Expediente:
B8: Objeto: | K8: Identificación Tributaria
K9: Tel.:
K10: E-Mail:
B11: Adjudicación : | K11: Moneda:
B13: Inconterm | C13: Renglón | D13: Cantidad | E13: U/M | F13: Código SAP | G13: NOMENCLADOR | H13: Descripción SAP | I13: Referencia de Fábrica | J13: Plano / ET | K13: Precio
K14: Unitario | L14: Flete | M14: Seguro | N14: Subtotal
B15: EXW | C15: 1 | D15: =VLOOKUP(C15,Completar!$A$2:$I$176,9,FALSE) -> 80 | E15: =VLOOKUP(C15,Completar!$A$2:$I$176,2,FALSE) -> C/U | F15: =VLOOKUP(C15,Completar!$A$2:$I$176,3,FALSE) -> 1000000223 | G15: =VLOOKUP(C15,Completar!$A$2:$I$176,5,FALSE) -> NUM00810103710N | H15: =VLOOKUP(C15,Completar!$A$2:$I$176,8,FALSE) -> BUJE D. 31,75X41,27MM; 25,4MM 8197691 P/ | I15: =VLOOKUP(C15,Completar!$A$2:$I$176,6,FALSE) -> 8197691 | J15: =VLOOKUP(C15,Completar!$A$2:$I$176,7,FALSE) -> 9-04-98-EC | N15: =K15*$D$15+L15*$D$15+M15*$D$15 -> 0
B16: FCA | N16: =K16*$D$15+L16*$D$15+M16*$D$15 -> 0
B17: FOB | N17: =K17*$D$15+L17*$D$15+M17*$D$15 -> 0
B18: CFR | N18: =K18*$D$15+L18*$D$15+M18*$D$15 -> 0
B19: CIF | N19: =K19*$D$15+L19*$D$15+M19*$D$15 -> 0
B20: EXW | C20: 2 | D20: =VLOOKUP(C20,Completar!$A$2:$I$176,9,FALSE) -> 49 | E20: =VLOOKUP(C20,Completar!$A$2:$I$176,2,FALSE) -> C/U | F20: =VLOOKUP(C20,Completar!$A$2:$I$176,3,FALSE) -> 1000000296 | G20: =VLOOKUP(C20,Completar!$A$2:$I$176,5,FALSE) -> NUM00810106630N | H20: =VLOOKUP(C20,Completar!$A$2:$I$176,8,FALSE) -> AMORT P/SUSP DER IZQ BOGIE 4993721 P/LOC | I20: =VLOOKUP(C20,Completar!$A$2:$I$176,6,FALSE) -> 4993721 | J20: =VLOOKUP(C20,Completar!$A$2:$I$176,7,FALSE) -> -- | N20: =K20*$D$20+L20*$D$20+M20*$D$20 -> 0
B21: FCA | N21: =K21*$D$20+L21*$D$20+M21*$D$20 -> 0
B22: FOB | N22: =K22*$D$20+L22*$D$20+M22*$D$20 -> 0
B23: CFR | N23: =K23*$D$20+L23*$D$20+M23*$D$20 -> 0
B24: CIF | N24: =K24*$D$20+L24*$D$20+M24*$D$20 -> 0
B25: EXW | C25: 3 | D25: =VLOOKUP(C25,Completar!$A$2:$I$176,9,FALSE) -> 26 | E25: =VLOOKUP(C25,Completar!$A$2:$I$176,2,FALSE) -> C/U | F25: =VLOOKUP(C25,Completar!$A$2:$I$176,3,FALSE) -> 1000000335 | G25: =VLOOKUP(C25,Completar!$A$2:$I$176,5,FALSE) -> NUM00810108410N | H25: =VLOOKUP(C25,Completar!$A$2:$I$176,8,FALSE) -> ABRAZA P/SELLO 8362027 ,008101DTMR0456 P | I25: =VLOOKUP(C25,Completar!$A$2:$I$176,6,FALSE) -> 8362027 | J25: =VLOOKUP(C25,Completar!$A$2:$I$176,7,FALSE) -> 008101DTMR0456-EA | N25: =K25*$D$25+L25*$D$25+M25*$D$25 -> 0
B26: FCA | N26: =K26*$D$25+L26*$D$25+M26*$D$25 -> 0
B27: FOB | N27: =K27*$D$25+L27*$D$25+M27*$D$25 -> 0
B28: CFR | N28: =K28*$D$25+L28*$D$25+M28*$D$25 -> 0
B29: CIF | N29: =K29*$D$25+L29*$D$25+M29*$D$25 -> 0
B30: EXW | C30: 4 | D30: =VLOOKUP(C30,Completar!$A$2:$I$176,9,FALSE) -> 34 | E30: =VLOOKUP(C30,Completar!$A$2:$I$176,2,FALSE) -> C/U | F30: =VLOOKUP(C30,Completar!$A$2:$I$176,3,FALSE) -> 1000000410 | G30: =VLOOKUP(C30,Completar!$A$2:$I$176,5,FALSE) -> NUM00810110390N | H30: =VLOOKUP(C30,Completar!$A$2:$I$176,8,FALSE) -> GRILLETE E/LEV CILI FREN LEV PORTAZAP 83 | I30: =VLOOKUP(C30,Completar!$A$2:$I$176,6,FALSE) -> 8359762 | J30: =VLOOKUP(C30,Completar!$A$2:$I$176,7,FALSE) -> 0-08-1-7079-E3 | N30: =K30*$D$30+L30*$D$30+M30*$D$30 -> 0
B31: FCA | N31: =K31*$D$30+L31*$D$30+M31*$D$30 -> 0
B32: FOB | N32: =K32*$D$30+L32*$D$30+M32*$D$30 -> 0
B33: CFR | N33: =K33*$D$30+L33*$D$30+M33*$D$30 -> 0
B34: CIF | N34: =K34*$D$30+L34*$D$30+M34*$D$30 -> 0
B35: EXW | C35: 5 | D35: =VLOOKUP(C35,Completar!$A$2:$I$176,9,FALSE) -> 92 | E35: =VLOOKUP(C35,Completar!$A$2:$I$176,2,FALSE) -> C/U | F35: =VLOOKUP(C35,Completar!$A$2:$I$176,3,FALSE) -> 1000000635 | G35: =VLOOKUP(C35,Completar!$A$2:$I$176,5,FALSE) -> NUM00820201050N | H35: =VLOOKUP(C35,Completar!$A$2:$I$176,8,FALSE) -> CERRAD P/PUERTA CARROC 8203089 P/LOCOMOT | I35: =VLOOKUP(C35,Completar!$A$2:$I$176,6,FALSE) -> 8203089 | J35: =VLOOKUP(C35,Completar!$A$2:$I$176,7,FALSE) -> -- | N35: =K35*$D$35+L35*$D$35+M35*$D$35 -> 0
B36: FCA | N36: =K36*$D$35+L36*$D$35+M36*$D$35 -> 0
B37: FOB | N37: =K37*$D$35+L37*$D$35+M37*$D$35 -> 0
B38: CFR | N38: =K38*$D$35+L38*$D$35+M38*$D$35 -> 0
B39: CIF | N39: =K39*$D$35+L39*$D$35+M39*$D$35 -> 0
B40: EXW | C40: 6 | D40: =VLOOKUP(C40,Completar!$A$2:$I$176,9,FALSE) -> 20 | E40: =VLOOKUP(C40,Completar!$A$2:$I$176,2,FALSE) -> C/U | F40: =VLOOKUP(C40,Completar!$A$2:$I$176,3,FALSE) -> 1000000758 | G40: =VLOOKUP(C40,Completar!$A$2:$I$176,5,FALSE) -> NUM00820260200N | H40: =VLOOKUP(C40,Completar!$A$2:$I$176,8,FALSE) -> NERV REFUER/REP P/COLIS NERV D/REFUER RE | I40: =VLOOKUP(C40,Completar!$A$2:$I$176,6,FALSE) -> -- | J40: =VLOOKUP(C40,Completar!$A$2:$I$176,7,FALSE) -> 008202DTMR0277-EA | N40: =K40*$D$40+L40*$D$40+M40*$D$40 -> 0
B41: FCA | N41: =K41*$D$40+L41*$D$40+M41*$D$40 -> 0
B42: FOB | N42: =K42*$D$40+L42*$D$40+M42*$D$40 -> 0
B43: CFR | N43: =K43*$D$40+L43*$D$40+M43*$D$40 -> 0
B44: CIF | N44: =K44*$D$40+L44*$D$40+M44*$D$40 -> 0
...
