Workbook

Sheet PLACOT_VI
C1: Obra: LABORATORIO DE CONTROL DE CALIDAD Y AMPLICION DE DEPENDENCIAS PARA PERSONAL DE MATERIAL RODANTE EN VICTORIA PCIA DE BA.
C2: LMT_OC_086
C3: PLANILLA DE COTIZACION
B5: ITEM | C5: DESCRIPCION | D5: U/Medida | E5: Cantidad | F5: Precio Unitario | G5: Actualización | H5: Precio Total | I5: Subtotal Ítem | K5: VALORE DE REFERENCIA
K6: FUENTE | L6: RUBRO | M6: AÑO/FECHA
B7: 21.1 | C7: TAREAS PRELIMINARES | I7: =+H8+H9+H10 -> 153772.7 | K7: =I7/$I$125 -> 0.038881526
B8: 21.1.1 | C8: Demoliciones y retiro de producido | D8: m3 | E8: 15 | F8: 378.18 | G8: 1 | H8: =+F8*E8*G8 -> 5672.7 | K8: Revista Vivienda | L8: 558 MOVIMIENTO SUELOS
B9: 21.1.2 | C9: Proyecto ejecutivo y Memoria Tecnica (Incluye replanteo) | D9: Gl. | E9: 1 | F9: 110000 | G9: 1 | H9: =+F9*E9*G9 -> 110000 | L9: ESTIMADO 3% DEL VALOR DEL CONTRATO
B10: 21.1.3 | C10: Obrador, vallado y señalizacion. | D10: Gl. | E10: 1 | F10: =7620*5 -> 38100 | G10: 1 | H10: =+F10*E10*G10 -> 38100 | K10: Revista Vivienda | L10: 182 OBRADOR 0080
B11: 21.2 | C11: MOVIMIENTOS DE SUELOS | I11: =SUM(H12:H12) -> 12378.3 | K11: =+I11/$I$125 -> 0.0031298611
B12: 21.2.1 | C12: Excavacion / Zanjeo para fundaciones | D12: m3 | E12: 30 | F12: 412.61 | G12: 1 | H12: =+F12*E12*G12 -> 12378.3 | K12: Revista vivienda | L12: 558 MOV SUELOS
B13: 21.3 | C13: HORMIGON ARMADO / CONTRAPISO | I13: =SUM(H15:H22) -> 668004.44 | K13: =I13/I125 -> 0.16890535
B14: 21.3.1 | C14: ESTRUCTURA RESISTENTE
B15: 21.3.1.1 | C15: Bases (Incluye estudio de suelos y memoria de caluculo) | D15: m3 | E15: 10 | F15: =7133.71+3552.12 -> 10685.83 | G15: 1 | H15: =+F15*E15*G15 -> 106858.3 | K15: Revista Vivienda | L15: 544 HORMIGONES 0330 | M15: 43282
B16: 21.3.1.2 | C16: Vigas de Fundacion (Incluye presntacion de memoria de calculo) | D16: m3 | E16: 6 | F16: 19262.67 | G16: 1 | H16: =+F16*E16*G16 -> 115576.02 | K16: Revista Vivienda | L16: 544 HORMIGONES 0290 | M16: 43282
B17: 21.3.1.3 | C17: Columnas (Incluye presntacion de memoria de calculo) | D17: m3 | E17: 6 | F17: 14113.67 | G17: 1 | H17: =+F17*E17*G17 -> 84682.02 | K17: Revista Vivienda | L17: 544 HORMIGONES 0410 | M17: 43282
B18: 21.3.1.4 | C18: Vigas (Incluye presntacion de memoria de calculo) | D18: m3 | E18: 8 | F18: 19247.57 | G18: 1 | H18: =+F18*E18*G18 -> 153980.56 | K18: Revista Vivienda | L18: 544 HORMIGONES 0350 | M18: 43282
B19: 21.3.1.5 | C19: Losas entrepiso (Incluye presntacion de memoria de calculo) | D19: m3 | E19: 11.5 | F19: 12439.04 | G19: 1 | H19: =+F19*E19*G19 -> 143048.96 | K19: Revista Vivienda | L19: 544 HORMIGONES 0370 | M19: 43282
B20: 21.3.1.7 | C20: Platea de Acceso de Hormigon | D20: m3 | E20: 1.2 | F20: 10685.83 | G20: 1 | H20: =+F20*E20*G20 -> 12822.996 | K20: Revista Vivienda | L20: 544 HORMIGONES 0330 | M20: 43282
B21: 21.3.1.8 | C21: Escalera (Incluye presentacion de memoria de calculo) | D21: esc | E21: 22 | F21: 2164.66 | G21: 1 | H21: =+F21*E21*G21 -> 47622.52 | K21: Revista Vivienda | L21: 534 Hormigones 0220 | M21: 43282
B22: 21.3.1.6 | C22: Contrapisos de hormigon de cascotes (Incluye presntacion de memoria de calculo) | D22: m3 | E22: 14 | F22: 243.79 | G22: 1 | H22: 3413.06 | K22: Revista vivienda | L22: 522 CONTRAPISO 0040 | M22: 43282
B23: 21.4 | C23: MAMPOSTERIA | I23: =SUM(H24:H26) -> 337668 | K23: =I23/$I$125 -> 0.085379571
B24: 21.4.1 | C24: Mamposteria de bloques de hormigon | D24: m2 | E24: 285 | F24: 892.7 | G24: 1 | H24: =+F24*E24*G24 -> 254419.5 | K24: Revista vivienda | L24: 554 mamposteria 0270 | M24: 43282
B25: 21.4.2 | C25: Mamposteria de 12cm de espesor ladrillo ceramico hueco | D25: m2 | E25: 120 | F25: 554.79 | G25: 1 | H25: =+F25*E25*G25 -> 66574.8 | K25: Revista Vivienda | L25: 554 mamposteria 0150 | M25: 43282
B26: 21.4.3 | C26: Mamposteria de 8 cm de esp de ladrillo ceramico hueco | D26: m2 | E26: 30 | F26: 555.79 | G26: 1 | H26: =+F26*E26*G26 -> 16673.7 | K26: Revista vivienda | L26: 554 mamposteria 0130 | M26: 43282
B27: 21.5 | C27: AISLACIONES HIDROFUGAS | I27: =SUM(H28:H29) -> 10958 | K27: =I27/$I$125 -> 0.0027707373
B28: 21..5.1 | C28: Cajón Hidrofugos en muros | D28: m2 | E28: 50 | F28: 177.91 | G28: 1 | H28: =+F28*E28*G28 -> 8895.5 | K28: Revista Vivienda | L28: 508 CAPAS AISLADORAS 0020 | M28: 43282
B29: 21..5.2 | C29: Aislacion hidrofuga Horizontal (Film 200 µm) | D29: m2 | E29: 100 | F29: =13.75*1.5 -> 20.625 | G29: 1 | H29: =+F29*E29*G29 -> 2062.5 | L29: https://articulo.mercadolibre.com.ar/MLA-651701972-rollo-50-mt-nylon-polietileno-negro-200-micrones-4-mt-ancho-_JM
B30: 21.6 | C30: CUBIERTAS | I30: =SUM(H31:H32) -> 221900.27 | K30: =I30/$I$125 -> 0.056107626
B31: 21.6.1 | C31: De perfiles de hierro laminado y chapa galvanizada ondulada tipo cincalum | D31: m2 | E31: 90 | F31: =1806.27*1.3 -> 2348.151 | G31: 1 | H31: =+F31*E31*G31 -> 211333.59 | K31: Revista Vivienda | L31: 536 ESTRUCTURAS 0050 | M31: 43282
B32: 21.6.2 | C32: Desagüe pluvial | D32: gl | E32: 1 | F32: =0.05*H31 -> 10566.68 | G32: 1 | H32: =+F32*E32*G32 -> 10566.68 | K32: 5% de estructuras de cubierta metalica
B33: 21.7 | C33: DESAGÚES Y DRENAJES | I33: =SUM(H34:H34) -> 1452.618 | K33: =I33/$I$125 -> 0.00036729539
B34: 21.7.1 | C34: Perfilado de zanja | D34: m3 | E34: =10*0.3*0.6 -> 1.8 | F34: 807.01 | G34: 1 | H34: =+F34*E34*G34 -> 1452.618 | K34: Revista ViVienda | L34: c1 558 MOVI. SUELOS 0310 | M34: 43282
B35: 21.8 | C35: REVOQUES | I35: =SUM(H36:H38) -> 260821.34 | K35: =I35/$I$125 -> 0.065948843
B36: 21.8.1 | C36: Impermeable | D36: m2 | E36: 260 | F36: 109.38 | G36: 1 | H36: =F36*E36 -> 28438.8 | K36: Revista ViVienda | L36: 578 REVOQUES 0070 | M36: 43282
B37: 21.8.2 | C37: Jaharro | D37: m2 | E37: 502 | F37: 234.72 | G37: 1 | H37: =E37*F37 -> 117829.44 | K37: Revista ViVienda | L37: 578 REVOQUES 0130 | M37: 43282
B38: 21.8.3 | C38: Enlucido | D38: m2 | E38: 470 | F38: 243.73 | G38: 1 | H38: =+F38*E38*G41 -> 114553.1 | K38: Revista ViVienda | L38: 578 REVOQUES 0240 | M38: 43282
B39: 21.9 | C39: CONSTRUCCCION EN SECO | I39: =SUM(H41)+H43 -> 120969.3 | K39: =I39/I125 -> 0.030587165
C40: CIELORRASO
B41: 21.9.1 | C41: Cielorraso desmontable | D41: m2 | E41: 120 | F41: 432.64 | G41: 1 | H41: =+F41*E41*G41 -> 51916.8 | K41: Revista Vivienda | L41: 521 construccion en seco 0300 | M41: 43282
...

Sheet GRAFICOS
A2: Participacion Porcentual por Rubro
A4: RUBRO | B4: DESCRIPCION
A7: 1 | B7: TAREAS PRELIMINARES | C7: =+PLACOT_VI!K7 -> 0.038881526
A9: 2 | B9: MOVIMIENTOS DE SUELOS | C9: =+PLACOT_VI!K11 -> 0.0031298611
A11: 3 | B11: HORMIGON ARMADO / CONTRAPISO | C11: =+PLACOT_VI!K13 -> 0.16890535
A13: 4 | B13: MAMPOSTERIA | C13: =+PLACOT_VI!K23 -> 0.085379571 | D13: 0.083603212 | E13: 0.083603212 | F13: 0.083603212 | G13: 0.083603212
A15: 5 | B15: AISLACIONES HIDROFUGAS | C15: =+PLACOT_VI!K27 -> 0.0027707373
A17: 6 | B17: CUBIERTAS | C17: =+PLACOT_VI!K30 -> 0.056107626
A19: 7 | B19: DESAGÚES Y DRENAJES | C19: =+PLACOT_VI!K33 -> 0.00036729539
A21: 8 | B21: REVOQUES | C21: =+PLACOT_VI!K35 -> 0.065948843
A23: 9 | B23: CONSTRUCCCION EN SECO | C23: =+PLACOT_VI!K39 -> 0.030587165
A25: 10 | B25: REVESTIMIENTOS | C25: =+PLACOT_VI!K44 -> 0.0066134729
A27: 11 | B27: SOLADOS | C27: =+PLACOT_VI!K47 -> 0.020540353
A29: 12 | B29: ZOCALOS | C29: =+PLACOT_VI!K50 -> 0.0019468766
A31: 13 | B31: CARPINTERÍA | C31: =+PLACOT_VI!K52 -> 0.076402
A33: 14 | B33: INSTALACIÓN ELÉCTRICA | C33: =+PLACOT_VI!K64 -> 0.12599419
A35: 15 | B35: PINTURA | C35: =+PLACOT_VI!K75 -> 0.075829943
A37: 16 | B37: EQUIPAMIENTO/ MESADAS | C37: =+PLACOT_VI!K80 -> 0.023495877
A39: 17 | B39: INSTALACIÓN SANITARIA | C39: =+PLACOT_VI!K89 -> 0.083154621
A41: 18 | B41: VENTILACION TERMOMECANICA | C41: =+PLACOT_VI!K107 -> 0.027119749
A43: 19 | B43: SISTEMA DE DETECCION DE INCENDIO | C43: =+PLACOT_VI!K110 -> 0.0024273662
A45: 20 | B45: PIPING AIRE COMPRIMIDO | C45: =+PLACOT_VI!K112 -> 0.036012253
A47: 21 | B47: LIMPIEZA GENERAL DE OBRA | C47: =+PLACOT_VI!K117 -> 0.024987178
A49: 22 | B49: VARIOS | C49: =+PLACOT_VI!K120 -> 0.043398146
B51: TOTAL | C51: =SUM(C7:C50) -> 1

Sheet GI
E1: Obra: LABORATORIO DE CONTROL DE CALIDAD Y AMPLICION DE DEPENDENCIAS PARA PERSONAL DE MATERIAL RODANTE EN VICTORIA PCIA DE BA.
E2: LMT_OC_086
E3: PLANILLA DE GASTOS INDIRECTOS
E5: Referencias MO | G5: Basico | H5: Aportes | J5: TOTAL H
D6: 1 | E6: Oficial especializado | G6: 102.43 | H6: 2.2 | J6: =G6*H6 -> 225.346
D7: 2 | E7: 1/2 OFICIAL | G7: 80.47 | H7: 2.2 | J7: =G7*H7 -> 177.034
D8: 3 | E8: Ayudante | G8: 73.88 | H8: 2.2 | J8: =G8*H8 -> 162.536
B10: =SUM(B12:B131) -> 1124367 | D10: ITEM | E10: Costo indirecto | F10: Cant | G10: Precio | H10: Coef. Aporte | I10: Meses | J10: Monto Basico
A12: =+B12/$B$10 -> 0.51202142 | B12: =SUM(J13:J22) -> 575700 | D12: 1 | E12: Supervision de Obra | I12: 6 | J12: =+SUM(J13:J22) -> 575700
D13: 1.1 | E13: Jefe de Obra | F13: 1 | G13: 71500 | H13: 0.3 | I13: 6 | J13: =+G13*H13*I13 -> 128700
D14: 1.2 | E14: Jefe de Obra C.Soc. | F14: 1 | G14: 14300 | H14: 0.3 | I14: 6 | J14: =+G14*H14*I14 -> 25740
D15: 1.3 | E15: Estacionam | F15: 0 | G15: 300 | H15: 0 | I15: 0 | J15: =+G15*H15*I15 -> 0
D16: 1.5 | E16: Oficina tecnica | F16: 0 | G16: 18000 | H16: 0 | I16: 0 | J16: =+G16*H16*I16 -> 0
D17: 1.6 | E17: Viajes J.de O.+viatico | F17: 0 | G17: 500 | H17: 0 | I17: 0 | J17: =+G17*H17*I17 -> 0
D18: 1.7 | E18: Capataz | F18: 1 | G18: 30175 | H18: 1 | I18: 6 | J18: =+G18*H18*I18 -> 181050
D19: 1.8 | E19: Capataz de Obra C.Soc. | F19: 1 | G19: 6035 | H19: 1 | I19: 6 | J19: =+G19*H19*I19 -> 36210
D20: 1.9 | E20: Oficina Central | F20: 1 | G20: 300000 | H20: 0.1 | I20: 6 | J20: =+G20*H20*I20 -> 180000
D21: 1.10 | E21: Viajes a obra Gte. | F21: 0 | G21: 500 | H21: 0 | I21: 1 | J21: =+G21*H21*I21 -> 0
D22: 1.11 | E22: Contador | F22: 1 | G22: 40000 | H22: 0.1 | I22: 6 | J22: =+G22*H22*I22 -> 24000
A24: =+B24/$B$10 -> 0.12489507 | B24: =SUM(J25:J35) -> 140427.9 | D24: 2 | E24: Mano de Obra Indirecta y Directa | J24: =+SUM(J25:J35) -> 140427.9
D25: 2.1 | E25: Mano obra oficiales | F25: 0 | G25: 225.346 | H25: 0 | I25: 1 | J25: =+G25*H25*I25 -> 0
D26: 2.2 | E26: Mano obra ayudantes | F26: 0 | G26: 162.536 | H26: 0 | I26: 1 | J26: =+G26*H26*I26 -> 0
D27: 2.3 | E27: Limpieza de Obra | F27: 0 | G27: 85819.008 | H27: 0 | I27: 1 | J27: =+G27*H27*I27 -> 0
D28: 2.4 | E28: Limpieza de Obra Final | F28: 0 | G28: 85819.008 | H28: 0 | I28: 1 | J28: =+G28*H28*I28 -> 0
D29: 2.5 | E29: Insumos de limpieza Final | F29: 0 | G29: 5000 | H29: 0 | I29: 1 | J29: =+G29*H29*I29 -> 0
D30: 2.6 | E30: Gruista | F30: 0 | G30: 1500 | H30: 0 | I30: 1 | J30: =+G30*H30*I30 -> 0
D31: 2.7 | E31: Pañolero | F31: 0 | G31: 9152 | H31: 0 | I31: 1 | J31: =+G31*H31*I31 -> 0
D32: 2.8 | E32: Mantenimiento equipos | F32: 1 | G32: 40000 | H32: 0.2 | I32: 6 | J32: =+G32*H32*I32 -> 48000
D33: 2.9 | E33: Mantenimiento mano de obra | F33: 0 | G33: 9152 | H33: 0 | I33: 1 | J33: =+G33*H33*I33 -> 0
D34: 2.10 | E34: UOCRA/Policia | F34: 1 | G34: 2000 | H34: 1 | I34: 6 | J34: =+G34*H34*I34 -> 12000
D35: 2.11 | E35: Sereno | F35: 1 | G35: 13404.65 | H35: 1 | I35: 6 | J35: =+G35*H35*I35 -> 80427.9
A37: =+B37/$B$10 -> 0.031792434 | B37: =SUM(J38:J65) -> 35746.364 | D37: 3 | E37: Instalaciones de Obra | J37: =+SUM(J38:J65) -> 35746.364
D38: 3.1 | E38: Cartel de Obra | F38: 1 | G38: 10346.364 | H38: 1 | I38: 1 | J38: =+G38*H38*I38 -> 10346.364
D39: 3.2 | E39: Gastos funcionamiento e inspección de obra ART. 2,7,11 | F39: 0 | G39: 15000 | H39: 0 | I39: 1 | J39: =+G39*H39*I39 -> 0
D40: 3.3 | E40: Oficina Jefe de Obra /capataz (a compartir c/inspec) | F40: 0 | G40: 5733.3333 | H40: 0 | I40: 1 | J40: =+G40*H40*I40 -> 0
D41: 3.4 | E41: Almacen | F41: 0 | G41: 4916.6667 | H41: 0 | I41: 1 | J41: =+G41*H41*I41 -> 0
D42: 3.5 | E42: Aseos (Baño individual quimico s/ ducha) | F42: 0 | G42: =3*1133.33333333333 -> 3400 | H42: 1 | I42: 6 | J42: =+G42*H42*I42 -> 20400
D43: 3.6 | E43: Vestuario | F43: 0 | G43: 4533.3333 | H43: 0 | I43: 1 | J43: =+G43*H43*I43 -> 0
D44: 3.7 | E44: Traslados containers + gruas | F44: 2 | G44: 2500 | H44: 1 | I44: 2 | J44: =+G44*H44*I44 -> 5000
D45: 3.8 | E45: Alquiler vivienda+ gastos | F45: 0 | G45: 1 | H45: 0 | I45: 1 | J45: =+G45*H45*I45 -> 0
...

Sheet PLACOT
C1: Obra: LABORATORIO DE CONTROL DE CALIDAD Y AMPLICION DE DEPENDENCIAS PARA PERSONAL DE MATERIAL RODANTE EN VICTORIA PCIA DE BA.
C2: LMT_OC_086
C3: PLANILLA DE COTIZACION
B5: ITEM | C5: DESCRIPCION | D5: U/Medida | E5: Cantidad | F5: Precio Unitario | G5: Precio Total | H5: Subtotal Ítem
B7: 21.1 | C7: TAREAS PRELIMINARES | H7: =+G8+G9+G10 -> 0
B8: 21.1.1 | C8: Demoliciones y retiro de producido | D8: m3 | E8: 15 | F8: 0 | G8: 0
B9: 21.1.2 | C9: Proyecto ejecutivo y Memoria Tecnica (Incluye replanteo) | D9: Gl. | E9: 1 | F9: 0 | G9: 0
B10: 21.1.3 | C10: Obrador, vallado y señalizacion. | D10: Gl. | E10: 1 | F10: 0 | G10: 0
B11: 21.2 | C11: MOVIMIENTO DE SUELOS | H11: =SUM(G12:G12) -> 0
B12: 21.2.1 | C12: Excavacion / Zanjeo para fundaciones | D12: m3 | E12: 30 | F12: 0 | G12: 0
B13: 21.3 | C13: HORMIGON ARMADO / CONTRAPISO | H13: =SUM(G15:G22) -> 0
B14: 21.3.1 | C14: ESTRUCTURA RESISTENTE
B15: 21.3.1.1 | C15: Bases (Incluye estudio de suelos y memoria de caluculo) | D15: m3 | E15: 10 | F15: 0 | G15: 0
B16: 21.3.1.2 | C16: Vigas de Fundacion (Incluye presntacion de memoria de calculo) | D16: m3 | E16: 6 | F16: 0 | G16: 0
B17: 21.3.1.3 | C17: Columnas (Incluye presntacion de memoria de calculo) | D17: m3 | E17: 6 | F17: 0 | G17: 0
B18: 21.3.1.4 | C18: Vigas (Incluye presntacion de memoria de calculo) | D18: m3 | E18: 8 | F18: 0 | G18: 0
B19: 21.3.1.5 | C19: Losas entrepiso (Incluye presntacion de memoria de calculo) | D19: m3 | E19: 11.5 | F19: 0 | G19: 0
B20: 21.3.1.7 | C20: Platea de Hormigon | D20: m3 | E20: 1.2 | F20: 0 | G20: 0
B21: 21.3.1.8 | C21: Escalera (Incluye presentacion de memoria de calculo) | D21: esc | E21: 22 | F21: 0 | G21: 0
B22: 21.3.1.6 | C22: Contrapisos de hormigon de cascotes (Incluye presntacion de memoria de calculo) | D22: m3 | E22: 14 | F22: 0 | G22: 0
B23: 21.4 | C23: MAMPOSTERIA | H23: =SUM(G24:G26) -> 0
B24: 21.4.1 | C24: Mamposteria de bloques de hormigon | D24: m2 | E24: 285 | F24: 0 | G24: 0
B25: 21.4.2 | C25: Mamposteria de 12cm de espesor ladrillo ceramico hueco | D25: m2 | E25: 120 | F25: 0 | G25: 0
B26: 21.4.3 | C26: Mamposteria de 8 cm de esp de ladrillo ceramico hueco | D26: m2 | E26: 30 | F26: 0 | G26: 0
B27: 21.5 | C27: AISLACIONES HIDROFUGAS | H27: =SUM(G28:G29) -> 0
B28: 21..5.1 | C28: Cajón Hidrofugos en muros | D28: m2 | E28: 50 | F28: 0 | G28: 0
B29: 21..5.2 | C29: Aislacion hidrofuga Horizontal (Film 200 µm) | D29: m2 | E29: 100 | F29: 0 | G29: 0
B30: 21.6 | C30: CUBIERTAS | H30: =SUM(G31:G32) -> 0
B31: 21.6.1 | C31: De perfiles de hierro laminado y chapa galvanizada ondulada tipo cincalum | D31: m2 | E31: 90 | F31: 0 | G31: 0
B32: 21.6.2 | C32: Desagüe pluvial | D32: gl | E32: 1 | F32: 0 | G32: 0
B33: 21.7 | C33: DESAGÚES Y DRENAJES | H33: =SUM(G34:G34) -> 0
B34: 21.7.1 | C34: Perfilado de zanja | D34: m3 | E34: =10*0.3*0.6 -> 1.8 | F34: 0 | G34: 0
B35: 21.8 | C35: REVOQUES | H35: =SUM(G36:G38) -> 0
B36: 21.8.1 | C36: Impermeable | D36: m2 | E36: 260 | F36: 0 | G36: 0
B37: 21.8.2 | C37: Jaharro | D37: m2 | E37: 502 | F37: 0 | G37: 0
B38: 21.8.3 | C38: Enlucido | D38: m2 | E38: 470 | F38: 0 | G38: 0
B39: 21.9 | C39: CONSTRUCCCION EN SECO | H39: =SUM(G41)+G43 -> 0
C40: CIELORRASO
B41: 21.9.1 | C41: Cielorraso desmontable | D41: m2 | E41: 120 | F41: 0 | G41: 0
C42: TABIQUES
...

Sheet Redeterminación de precios
B1: Anexo VII. Metodología para la Redeterminación de Precios.
B3: I. Expresiones Generales de Aplicación.
B6: I.1- Fórmula General del Precio Redeterminado de la Obra Faltante.
C8: Pi = P0 x [Af x (0,10 + 0,9 x Fra) + (1 - Af) x (0,10 + 0.9 x Fri)]
B11: Donde:
B12: Pi | C12: Precio de la obra faltante redeterminado (I: nueva redeterminación)
B13: P0 | C13: Precio de la obra faltante al momento de la redeterminación, expresada en valores básicos de contrato.
B14: Af | C14: Anticipo financiero expresado en tanto por uno.
B15: Fri | C15: Factor de reajuste de la redeterminación identificada como "i".
B16: Fra | C16: Factor de reajuste en la redeterminación vigente al momento de la certificación del anticipo, completar en números con dos decimales. Si el anticipo no se hubiera certificado al momento de la redeterminación de precios, será reemplazado por Fri.
B20: I.2- Fórmula General del Factor de Reajuste.
C22: Fri = [αM x FMi + αEM x FEMi + αM0 x (MOi / MO0) + αT x (Ti / T0) + αCL x (CLi / CL0)] x {1 + k x (CFi - CF0 / CF0)}
B26: Donde:
B28: Fmi | C28: Factor de variación de precios del componente Materiales.
C29: Mediante la expresión matemática que se desarrolla, pondera las variaciones de los precios de los principales materiales de cada obra.
B30: FEMi | C30: Factor de variación de precios del componente Equipos y Máquinas.
C31: Mediante la expresión matemática que se desarrolla, pondera la variación de los precios correspondientes a utilización de equipo de construcción (amortización, repuestos y reparaciones)
B32: MOi / MO0 | C32: Factor de variación de precios del componente Mano de Obra
C33: Es la relación entre el indicador de precio correspondiente al mes de la redeterminación (MOi) y el indicador de precio al mes Base (MO0)
B34: Ti / T0 | C34: Factor de variación de precios del componente Transporte Carretero
C35: Es la relación entre el indicador de precio correspondiente al mes de la redeterminación (Ti) y el indicador de precio al mes Base (T0)
B36: CLi / CL0 | C36: Factor de variación de precios del componente Combustible y Lubricantes
C37: Es la relación entre el indicador de precio correspondiente al mes de la redeterminación (CLi) y el indicador de precio al mes Base (CL0)
B38: α | C38: Coeficientes de ponderación
C39: Representan la incidencia del costo de los componentes en el costo directo total de la obra. Costo directo es el precio total menos los impuestos, la utilidad, el costo financiero, los gastos indirectos y los gastos generales.
B41: CFi - CF0 / CF0 | C41: Factor de variación del componente Costo Financiero
C42: Se calcula según las siguientes expresiones:
C43: CFi = (1 + ii / 12)^n/30 - 1 | F43: CFi = (1 + ii / 12)^n/30 - 1
B44: ii | C44: Indicador correspondiente al Costo Financiero
C45: Es la Tasa Nominal Anual Activa a 30 días del Banco de la Nación Argentina expresada en coeficiente, considerando el valor del día 15 del mes de la redeterminación, o en su defecto el día hábil posterior.
B46: i0 | C46: Idem anterior, considerando el valor del día 15 del mes Base del Contrato, o en su defecto el día hábil posterior.
B47: n | C47: Días de plazo establecidos para el pago de los certificados.
B48: K | C48: Coeficiente de ponderación del costo financiero. Se adopta 0,01
B50: I.3- Fórmula General de la Variación de precios del componente Materiales
C52: FMi = βM1 x (M1i / M10) + βM2 x (M2i / M20) + βM3 x (M3i / M30) + … + βMn x (Mni / Mn0)
B56: Donde:
B58: M1; M2; … Mn | C58: Precios o indicadores de precios de los distintos materiales considerados
C59: Según corresponda, del mes de redeterminación "i" o del mes básico "0"
B60: βM1; βM2; … βMn1 | C60: Coeficientes de ponderación de los materiales
C61: Representan la incidencia de los n materiales más representativos en el costo-costo total del componente materiales.
...
