Workbook

Sheet Planilla Nacional
B2: PLANILLA COTIZACIÓN - NACIONAL
B5: Procedimiento de Selección N°: | I5: DETALLE PROVEEDOR
I6: Razón Social
B7: Clase de Contratación: | I7: C.U.I.T.
I8: Tel.:
B9: Expediente: | I9: E-Mail:
I10: Moneda:
B12: Renglón | C12: Cantidad | D12: U/M | E12: Código SAP | F12: Descripción | G12: Referencia de Fábrica | H12: Plano | I12: Precio Unitario | J12: I.V.A. (%) | K12: Subtotal I.V.A. $ | L12: Subtotal (sin I.V.A.)
B14: 1 | C14: =VLOOKUP(B14,'Completar SOFSE'!$A$6:$H$105,2,FALSE) -> 4 | D14: =VLOOKUP(B14,'Completar SOFSE'!$A$6:$H$105,3,FALSE) -> C/U | E14: =VLOOKUP(B14,'Completar SOFSE'!$A$6:$H$105,4,FALSE) -> 1000001272 | F14: =VLOOKUP(B14,'Completar SOFSE'!$A$6:$H$105,6,FALSE) -> CONJUNTO TURBINA ROTOR DINAMICAMENTE EQ. | G14: =VLOOKUP(B14,'Completar SOFSE'!$A$6:$H$105,7,FALSE) -> GM:9548308 | H14: =VLOOKUP(B14,'Completar SOFSE'!$A$6:$H$105,8,FALSE) -> - | K14: =+(C14*I14)*J14 -> 0 | L14: =+C14*I14 -> 0
B15: 2 | C15: =VLOOKUP(B15,'Completar SOFSE'!$A$6:$H$105,2,FALSE) -> 4 | D15: =VLOOKUP(B15,'Completar SOFSE'!$A$6:$H$105,3,FALSE) -> C/U | E15: =VLOOKUP(B15,'Completar SOFSE'!$A$6:$H$105,4,FALSE) -> 1000001274 | F15: =VLOOKUP(B15,'Completar SOFSE'!$A$6:$H$105,6,FALSE) -> CONJUNTO DE TURBINA Y ROTOR | G15: =VLOOKUP(B15,'Completar SOFSE'!$A$6:$H$105,7,FALSE) -> GM:9550717 | H15: =VLOOKUP(B15,'Completar SOFSE'!$A$6:$H$105,8,FALSE) -> - | K15: =+(C15*I15)*J15 -> 0 | L15: =+C15*I15 -> 0
B16: 3 | C16: =VLOOKUP(B16,'Completar SOFSE'!$A$6:$H$105,2,FALSE) -> 6 | D16: =VLOOKUP(B16,'Completar SOFSE'!$A$6:$H$105,3,FALSE) -> C/U | E16: =VLOOKUP(B16,'Completar SOFSE'!$A$6:$H$105,4,FALSE) -> 1000001262 | F16: =VLOOKUP(B16,'Completar SOFSE'!$A$6:$H$105,6,FALSE) -> ARO DIFUSOR DE AIRE | G16: =VLOOKUP(B16,'Completar SOFSE'!$A$6:$H$105,7,FALSE) -> GM:9570957 | H16: =VLOOKUP(B16,'Completar SOFSE'!$A$6:$H$105,8,FALSE) -> - | K16: =+(C16*I16)*J16 -> 0 | L16: =+C16*I16 -> 0
B17: 4 | C17: =VLOOKUP(B17,'Completar SOFSE'!$A$6:$H$105,2,FALSE) -> 6 | D17: =VLOOKUP(B17,'Completar SOFSE'!$A$6:$H$105,3,FALSE) -> C/U | E17: =VLOOKUP(B17,'Completar SOFSE'!$A$6:$H$105,4,FALSE) -> 1000031157 | F17: =VLOOKUP(B17,'Completar SOFSE'!$A$6:$H$105,6,FALSE) -> TUERCA ESPECIAL ALOJAMIENTO PARA BOGIE | G17: =VLOOKUP(B17,'Completar SOFSE'!$A$6:$H$105,7,FALSE) -> GM:8099553 | H17: =VLOOKUP(B17,'Completar SOFSE'!$A$6:$H$105,8,FALSE) -> - | K17: =+(C17*I17)*J17 -> 0 | L17: =+C17*I17 -> 0
B18: 5 | C18: =VLOOKUP(B18,'Completar SOFSE'!$A$6:$H$105,2,FALSE) -> 5 | D18: =VLOOKUP(B18,'Completar SOFSE'!$A$6:$H$105,3,FALSE) -> C/U | E18: =VLOOKUP(B18,'Completar SOFSE'!$A$6:$H$105,4,FALSE) -> 1000001302 | F18: =VLOOKUP(B18,'Completar SOFSE'!$A$6:$H$105,6,FALSE) -> COJINETE COMPRESOR ASIENTO ESFERICO | G18: =VLOOKUP(B18,'Completar SOFSE'!$A$6:$H$105,7,FALSE) -> GM:8329489 | H18: =VLOOKUP(B18,'Completar SOFSE'!$A$6:$H$105,8,FALSE) -> - | K18: =+(C18*I18)*J18 -> 0 | L18: =+C18*I18 -> 0
B19: 6 | C19: =VLOOKUP(B19,'Completar SOFSE'!$A$6:$H$105,2,FALSE) -> 8 | D19: =VLOOKUP(B19,'Completar SOFSE'!$A$6:$H$105,3,FALSE) -> C/U | E19: =VLOOKUP(B19,'Completar SOFSE'!$A$6:$H$105,4,FALSE) -> 1000001303 | F19: =VLOOKUP(B19,'Completar SOFSE'!$A$6:$H$105,6,FALSE) -> COJINETE DE EJE DE TURBINA DE ESCAPE | G19: =VLOOKUP(B19,'Completar SOFSE'!$A$6:$H$105,7,FALSE) -> GM:40061562 | H19: =VLOOKUP(B19,'Completar SOFSE'!$A$6:$H$105,8,FALSE) -> - | K19: =+(C19*I19)*J19 -> 0 | L19: =+C19*I19 -> 0
B20: 7 | C20: =VLOOKUP(B20,'Completar SOFSE'!$A$6:$H$105,2,FALSE) -> 1 | D20: =VLOOKUP(B20,'Completar SOFSE'!$A$6:$H$105,3,FALSE) -> C/U | E20: =VLOOKUP(B20,'Completar SOFSE'!$A$6:$H$105,4,FALSE) -> 1000000471 | F20: =VLOOKUP(B20,'Completar SOFSE'!$A$6:$H$105,6,FALSE) -> PERNO PARA ESLABON DE SEGURIDAD | G20: =VLOOKUP(B20,'Completar SOFSE'!$A$6:$H$105,7,FALSE) -> GM:8241781 | H20: =VLOOKUP(B20,'Completar SOFSE'!$A$6:$H$105,8,FALSE) -> - | K20: =+(C20*I20)*J20 -> 0 | L20: =+C20*I20 -> 0
B21: 8 | C21: =VLOOKUP(B21,'Completar SOFSE'!$A$6:$H$105,2,FALSE) -> 8 | D21: =VLOOKUP(B21,'Completar SOFSE'!$A$6:$H$105,3,FALSE) -> C/U | E21: =VLOOKUP(B21,'Completar SOFSE'!$A$6:$H$105,4,FALSE) -> 1000001304 | F21: =VLOOKUP(B21,'Completar SOFSE'!$A$6:$H$105,6,FALSE) -> COJINETE DE EMPUJE DE EJE DE TURBINA DE ESCAPE | G21: =VLOOKUP(B21,'Completar SOFSE'!$A$6:$H$105,7,FALSE) -> GM:9540818 | H21: =VLOOKUP(B21,'Completar SOFSE'!$A$6:$H$105,8,FALSE) -> - | K21: =+(C21*I21)*J21 -> 0 | L21: =+C21*I21 -> 0
B22: 9 | C22: =VLOOKUP(B22,'Completar SOFSE'!$A$6:$H$105,2,FALSE) -> 2 | D22: =VLOOKUP(B22,'Completar SOFSE'!$A$6:$H$105,3,FALSE) -> C/U | E22: =VLOOKUP(B22,'Completar SOFSE'!$A$6:$H$105,4,FALSE) -> 1000001407 | F22: =VLOOKUP(B22,'Completar SOFSE'!$A$6:$H$105,6,FALSE) -> SEPARADOR DE RODAMIENTO TRASERO | G22: =VLOOKUP(B22,'Completar SOFSE'!$A$6:$H$105,7,FALSE) -> GM:8358582 | H22: =VLOOKUP(B22,'Completar SOFSE'!$A$6:$H$105,8,FALSE) -> - | K22: =+(C22*I22)*J22 -> 0 | L22: =+C22*I22 -> 0
B23: 10 | C23: =VLOOKUP(B23,'Completar SOFSE'!$A$6:$H$105,2,FALSE) -> 195 | D23: =VLOOKUP(B23,'Completar SOFSE'!$A$6:$H$105,3,FALSE) -> C/U | E23: =VLOOKUP(B23,'Completar SOFSE'!$A$6:$H$105,4,FALSE) -> 1000022344 | F23: =VLOOKUP(B23,'Completar SOFSE'!$A$6:$H$105,6,FALSE) -> JUNTA VALVULA DE SUCCION BAJA PRESION | G23: =VLOOKUP(B23,'Completar SOFSE'!$A$6:$H$105,7,FALSE) -> GM:8083592 | H23: =VLOOKUP(B23,'Completar SOFSE'!$A$6:$H$105,8,FALSE) -> 008501DTMR0411 - EM. A | K23: =+(C23*I23)*J23 -> 0 | L23: =+C23*I23 -> 0
B24: 11 | C24: =VLOOKUP(B24,'Completar SOFSE'!$A$6:$H$105,2,FALSE) -> 3 | D24: =VLOOKUP(B24,'Completar SOFSE'!$A$6:$H$105,3,FALSE) -> C/U | E24: =VLOOKUP(B24,'Completar SOFSE'!$A$6:$H$105,4,FALSE) -> 1000001337 | F24: =VLOOKUP(B24,'Completar SOFSE'!$A$6:$H$105,6,FALSE) -> SELLO ESPIRALADO | G24: =VLOOKUP(B24,'Completar SOFSE'!$A$6:$H$105,7,FALSE) -> GM:9579526 | H24: =VLOOKUP(B24,'Completar SOFSE'!$A$6:$H$105,8,FALSE) -> - | K24: =+(C24*I24)*J24 -> 0 | L24: =+C24*I24 -> 0
B25: 12 | C25: =VLOOKUP(B25,'Completar SOFSE'!$A$6:$H$105,2,FALSE) -> 17 | D25: =VLOOKUP(B25,'Completar SOFSE'!$A$6:$H$105,3,FALSE) -> C/U | E25: =VLOOKUP(B25,'Completar SOFSE'!$A$6:$H$105,4,FALSE) -> 1000001320 | F25: =VLOOKUP(B25,'Completar SOFSE'!$A$6:$H$105,6,FALSE) -> RETENEDOR DE DIFUSOR | G25: =VLOOKUP(B25,'Completar SOFSE'!$A$6:$H$105,7,FALSE) -> GM:8474749 | H25: =VLOOKUP(B25,'Completar SOFSE'!$A$6:$H$105,8,FALSE) -> - | K25: =+(C25*I25)*J25 -> 0 | L25: =+C25*I25 -> 0
... B34: 21 | C34: =VLOOKUP(B34,'Completar SOFSE'!$A$6:$H$105,2,FALSE) -> 10 | D34: =VLOOKUP(B34,'Completar SOFSE'!$A$6:$H$105,3,FALSE) -> C/U | E34: =VLOOKUP(B34,'Completar SOFSE'!$A$6:$H$105,4,FALSE) -> 1000001312 | F34: =VLOOKUP(B34,'Completar SOFSE'!$A$6:$H$105,6,FALSE) -> JUNTA ESPIRALADA METALICA | G34: =VLOOKUP(B34,'Completar SOFSE'!$A$6:$H$105,7,FALSE) -> GM:9579526 | H34: =VLOOKUP(B34,'Completar SOFSE'!$A$6:$H$105,8,FALSE) -> - | K34: =+(C34*I34)*J34 -> 0 | L34: =+C34*I34 -> 0
B35: Subtotal (sin I.V.A.) | K35: =SUM(K14:K34) -> 0 | L35: =SUM(L14:L34) -> 0
B36: I.V.A. | L36: =K35 -> 0
B37: Total (con I.V.A.) | L37: =+L35+L36 -> 0
F38: Total letras
B39: Condición de pago: Según pliego
B40: Plazo de entrega: Según pliego
B41: Lugar de entrega: Según pliego
B42: Mantenimiento de oferta: Según pliego

Sheet Planilla Extranjero
B3: PLANILLA COTIZACIÓN - EXTRANJERO
B5: Procedimiento de Selección N°: | J5: DETALLE PROVEEDOR
J6: Razón Social
B7: Clase de Contratación: | J7: Identificación Tributaria
J8: Tel.:
B9: Expediente: | J9: E-Mail:
J10: Moneda:
B12: Inconterm | C12: Renglón | D12: Cantidad | E12: U/M | F12: Código SAP | G12: Descripción | H12: Referencia de Fábrica | I12: Plano | J12: Precio
J13: Unitario | K13: Flete | L13: Seguro | M13: Subtotal
B14: EXW | C14: 1 | D14: =VLOOKUP(C14,'Completar SOFSE'!$A$6:$H$105,2,FALSE) -> 4 | E14: =VLOOKUP(C14,'Completar SOFSE'!$A$6:$H$105,3,FALSE) -> C/U | F14: =VLOOKUP(C14,'Completar SOFSE'!$A$6:$H$105,4,FALSE) -> 1000001272 | G14: =VLOOKUP(C14,'Completar SOFSE'!$A$6:$H$105,6,FALSE) -> CONJUNTO TURBINA ROTOR DINAMICAMENTE EQ. | H14: =VLOOKUP(C14,'Completar SOFSE'!$A$6:$H$105,7,FALSE) -> GM:9548308 | I14: =VLOOKUP(C14,'Completar SOFSE'!$A$6:$H$105,8,FALSE) -> - | M14: =J14*D14 -> 0
B15: FCA | M15: =J15*D14 -> 0
B16: FOB | M16: =J16*D14 -> 0
B17: CFR | M17: =(J17+K17)*D14 -> 0
B18: CIF | M18: =(J18+K18+L18)*D14 -> 0
B19: EXW | C19: 2 | D19: =VLOOKUP(C19,'Completar SOFSE'!$A$6:$H$105,2,FALSE) -> 4 | E19: =VLOOKUP(C19,'Completar SOFSE'!$A$6:$H$105,3,FALSE) -> C/U | F19: =VLOOKUP(C19,'Completar SOFSE'!$A$6:$H$105,4,FALSE) -> 1000001274 | G19: =VLOOKUP(C19,'Completar SOFSE'!$A$6:$H$105,6,FALSE) -> CONJUNTO DE TURBINA Y ROTOR | H19: =VLOOKUP(C19,'Completar SOFSE'!$A$6:$H$105,7,FALSE) -> GM:9550717 | I19: =VLOOKUP(C19,'Completar SOFSE'!$A$6:$H$105,8,FALSE) -> - | M19: =J19*D19 -> 0
B20: FCA | M20: =J20*D19 -> 0
B21: FOB | M21: =J21*D19 -> 0
B22: CFR | M22: =(J22+K22)*D19 -> 0
B23: CIF | M23: =(J23+K23+L23)*D19 -> 0
B24: EXW | C24: 3 | D24: =VLOOKUP(C24,'Completar SOFSE'!$A$6:$H$105,2,FALSE) -> 6 | E24: =VLOOKUP(C24,'Completar SOFSE'!$A$6:$H$105,3,FALSE) -> C/U | F24: =VLOOKUP(C24,'Completar SOFSE'!$A$6:$H$105,4,FALSE) -> 1000001262 | G24: =VLOOKUP(C24,'Completar SOFSE'!$A$6:$H$105,6,FALSE) -> ARO DIFUSOR DE AIRE | H24: =VLOOKUP(C24,'Completar SOFSE'!$A$6:$H$105,7,FALSE) -> GM:9570957 | I24: =VLOOKUP(C24,'Completar SOFSE'!$A$6:$H$105,8,FALSE) -> - | M24: =J24*D24 -> 0
B25: FCA | M25: =J25*D24 -> 0
B26: FOB | M26: =J26*D24 -> 0
B27: CFR | M27: =(J27+K27)*D24 -> 0
B28: CIF | M28: =(J28+K28+L28)*D24 -> 0
B29: EXW | C29: 4 | D29: =VLOOKUP(C29,'Completar SOFSE'!$A$6:$H$105,2,FALSE) -> 6 | E29: =VLOOKUP(C29,'Completar SOFSE'!$A$6:$H$105,3,FALSE) -> C/U | F29: =VLOOKUP(C29,'Completar SOFSE'!$A$6:$H$105,4,FALSE) -> 1000031157 | G29: =VLOOKUP(C29,'Completar SOFSE'!$A$6:$H$105,6,FALSE) -> TUERCA ESPECIAL ALOJAMIENTO PARA BOGIE | H29: =VLOOKUP(C29,'Completar SOFSE'!$A$6:$H$105,7,FALSE) -> GM:8099553 | I29: =VLOOKUP(C29,'Completar SOFSE'!$A$6:$H$105,8,FALSE) -> - | M29: =J29*D29 -> 0
B30: FCA | M30: =J30*D29 -> 0
B31: FOB | M31: =J31*D29 -> 0
B32: CFR | M32: =(J32+K32)*D29 -> 0
B33: CIF | M33: =(J33+K33+L33)*D29 -> 0
B34: EXW | C34: 5 | D34: =VLOOKUP(C34,'Completar SOFSE'!$A$6:$H$105,2,FALSE) -> 5 | E34: =VLOOKUP(C34,'Completar SOFSE'!$A$6:$H$105,3,FALSE) -> C/U | F34: =VLOOKUP(C34,'Completar SOFSE'!$A$6:$H$105,4,FALSE) -> 1000001302 | G34: =VLOOKUP(C34,'Completar SOFSE'!$A$6:$H$105,6,FALSE) -> COJINETE COMPRESOR ASIENTO ESFERICO | H34: =VLOOKUP(C34,'Completar SOFSE'!$A$6:$H$105,7,FALSE) -> GM:8329489 | I34: =VLOOKUP(C34,'Completar SOFSE'!$A$6:$H$105,8,FALSE) -> - | M34: =J34*D34 -> 0
B35: FCA | M35: =J35*D34 -> 0
B36: FOB | M36: =J36*D34 -> 0
B37: CFR | M37: =(J37+K37)*D34 -> 0
B38: CIF | M38: =(J38+K38+L38)*D34 -> 0
B39: EXW | C39: 6 | D39: =VLOOKUP(C39,'Completar SOFSE'!$A$6:$H$105,2,FALSE) -> 8 | E39: =VLOOKUP(C39,'Completar SOFSE'!$A$6:$H$105,3,FALSE) -> C/U | F39: =VLOOKUP(C39,'Completar SOFSE'!$A$6:$H$105,4,FALSE) -> 1000001303 | G39: =VLOOKUP(C39,'Completar SOFSE'!$A$6:$H$105,6,FALSE) -> COJINETE DE EJE DE TURBINA DE ESCAPE | H39: =VLOOKUP(C39,'Completar SOFSE'!$A$6:$H$105,7,FALSE) -> GM:40061562 | I39: =VLOOKUP(C39,'Completar SOFSE'!$A$6:$H$105,8,FALSE) -> - | M39: =J39*D39 -> 0
B40: FCA | M40: =J40*D39 -> 0
B41: FOB | M41: =J41*D39 -> 0
B42: CFR | M42: =(J42+K42)*D39 -> 0
B43: CIF | M43: =(J43+K43+L43)*D39 -> 0
B44: EXW | C44: 7 | D44: =VLOOKUP(C44,'Completar SOFSE'!$A$6:$H$105,2,FALSE) -> 1 | E44: =VLOOKUP(C44,'Completar SOFSE'!$A$6:$H$105,3,FALSE) -> C/U | F44: =VLOOKUP(C44,'Completar SOFSE'!$A$6:$H$105,4,FALSE) -> 1000000471 | G44: =VLOOKUP(C44,'Completar SOFSE'!$A$6:$H$105,6,FALSE) -> PERNO PARA ESLABON DE SEGURIDAD | H44: =VLOOKUP(C44,'Completar SOFSE'!$A$6:$H$105,7,FALSE) -> GM:8241781 | I44: =VLOOKUP(C44,'Completar SOFSE'!$A$6:$H$105,8,FALSE) -> - | M44: =J44*D44 -> 0
...

Sheet Completar SOFSE
A2: Items a cotizar:
A4: Item | B4: Cantidad | C4: U/M | D4: Código SAP | E4: NOMENCLADOR | F4: Descripción | G4: Refencia de Fábrica | H4: Plano / ET
A6: 1 | B6: 4 | C6: C/U | D6: 1000001272 | F6: CONJUNTO TURBINA ROTOR DINAMICAMENTE EQ. | G6: GM:9548308 | H6: ="-" -> -
A7: =+A6+1 -> 2 | B7: 4 | C7: C/U | D7: 1000001274 | F7: CONJUNTO DE TURBINA Y ROTOR | G7: GM:9550717 | H7: ="-" -> -
A8: =+A7+1 -> 3 | B8: 6 | C8: C/U | D8: 1000001262 | F8: ARO DIFUSOR DE AIRE | G8: GM:9570957 | H8: ="-" -> -
A9: =+A8+1 -> 4 | B9: 6 | C9: C/U | D9: 1000031157 | F9: TUERCA ESPECIAL ALOJAMIENTO PARA BOGIE | G9: GM:8099553 | H9: ="-" -> -
A10: =+A9+1 -> 5 | B10: 5 | C10: C/U | D10: 1000001302 | F10: COJINETE COMPRESOR ASIENTO ESFERICO | G10: GM:8329489 | H10: ="-" -> -
A11: =+A10+1 -> 6 | B11: 8 | C11: C/U | D11: 1000001303 | F11: COJINETE DE EJE DE TURBINA DE ESCAPE | G11: GM:40061562 | H11: ="-" -> -
A12: =+A11+1 -> 7 | B12: 1 | C12: C/U | D12: 1000000471 | F12: PERNO PARA ESLABON DE SEGURIDAD | G12: GM:8241781 | H12: ="-" -> -
A13: =+A12+1 -> 8 | B13: 8 | C13: C/U | D13: 1000001304 | F13: COJINETE DE EMPUJE DE EJE DE TURBINA DE ESCAPE | G13: GM:9540818 | H13: ="-" -> -
A14: =+A13+1 -> 9 | B14: 2 | C14: C/U | D14: 1000001407 | F14: SEPARADOR DE RODAMIENTO TRASERO | G14: GM:8358582 | H14: ="-" -> -
A15: =+A14+1 -> 10 | B15: 195 | C15: C/U | D15: 1000022344 | F15: JUNTA VALVULA DE SUCCION BAJA PRESION | G15: GM:8083592 | H15: 008501DTMR0411 - EM. A
A16: =+A15+1 -> 11 | B16: 3 | C16: C/U | D16: 1000001337 | F16: SELLO ESPIRALADO | G16: GM:9579526 | H16: ="-" -> -
A17: =+A16+1 -> 12 | B17: 17 | C17: C/U | D17: 1000001320 | F17: RETENEDOR DE DIFUSOR | G17: GM:8474749 | H17: ="-" -> -
A18: =+A17+1 -> 13 | B18: 2 | C18: C/U | D18: 1000002763 | F18: JUNTA ENTRE CUERPO Y TAPA DEL CILINDRO DE OPERACION DE PERSIANA | G18: GM:9570849 | H18: 008560DTMR0447 - REV A
A19: =+A18+1 -> 14 | B19: 5 | C19: C/U | D19: 1000001355 | F19: CONJUNTO EMBRAGUE CON CORONA | G19: GM:8491711 | H19: ="-" -> -
A20: =+A19+1 -> 15 | B20: 141 | C20: C/U | D20: 1000001281 | F20: ALABE DE TURBINA ESCAPE | G20: GM:9518646 | H20: ="-" -> -
A21: =+A20+1 -> 16 | B21: 141 | C21: C/U | D21: 1000001282 | F21: ALABE DE TURBINA ESCAPE | G21: GM:9518647 | H21: ="-" -> -
A22: =+A21+1 -> 17 | B22: 5 | C22: C/U | D22: 1000001321 | F22: ANILLO SOPORTE DE SELLO DE ESCAPE DE TURBO | G22: GM:9319935 | H22: ="-" -> -
A23: =+A22+1 -> 18 | B23: 58 | C23: C/U | D23: 1000002412 | F23: JUNTA ENTRE MULTIPLE SUPERIOR Y NUCLEO | G23: GM:8433087 | H23: ="-" -> -
A24: =+A23+1 -> 19 | B24: 6 | C24: C/U | D24: 1000001296 | F24: ARANDELA DE EMPUJE | G24: GM:9503272 | H24: ="-" -> -
A25: =+A24+1 -> 20 | B25: 1 | C25: C/U | D25: 1000001292 | F25: ARANDELA RETENEDORA DEL ROTOR | G25: GM:9528218 | H25: ="-" -> -
A26: =+A25+1 -> 21 | B26: 10 | C26: C/U | D26: 1000001312 | F26: JUNTA ESPIRALADA METALICA | G26: GM:9579526 | H26: ="-" -> -
A27: =+A26+1 -> 22 | C27: C/U
A28: =+A27+1 -> 23 | C28: C/U
A29: =+A28+1 -> 24 | C29: C/U
A30: =+A29+1 -> 25 | C30: C/U
A31: =+A30+1 -> 26 | C31: C/U
A32: =+A31+1 -> 27 | C32: C/U
A33: =+A32+1 -> 28 | C33: C/U
A34: =+A33+1 -> 29 | C34: C/U
A35: =+A34+1 -> 30 | C35: C/U
A36: =+A35+1 -> 31 | C36: C/U
A37: =+A36+1 -> 32 | C37: C/U
A38: =+A37+1 -> 33 | C38: C/U
... A111: =+A110+1 -> 106 | C111: C/U
