Workbook

Sheet Centralizacion primera etapa
A15: EX-2018-40767504- -APN-GCYL#SOFSE
A17: PLANILLA DE COTIZACION
A18: RAZON SOCIAL: | E18: FORMA DE PAGO: | F18: 60 Dias | G18: FECHA | J18: LOGO
A19: CUIT: | E19: MANTENIMIENTO DE OFERTA: | F19: 30 Dias | G19: MONEDA
A20: Requerimiento | B20: Ítem | C20: Código | D20: Descripción | E20: Especificaciones | F20: U. Mda. | G20: Cantidad | H20: Precio Unitario | I20: Precio Total por Item | J20: Alicuota de IVA | K20: Lugar de Entrega | L20: Observaciones por parte del Proveedor Marca/Modelo
A21: 30089 | B21: 1 | C21: NUM88974010100N | D21: TARJETAS PERSONALES 90 X 54 MM (x 100 unidades) | E21: 500 cajas de tarjetas personales (100 unidades por caja) Características Tarjetas _ Papel 350 gr _ Medida 9x5 cm _ Doble Faz _ Cortes rectos _ Terminación: Laminado (mate, brilloso o barnizado). El diseño será enviado por SOFSE. (se adjunta modelo) Aclaraciones: La compra deberá ser "abierta". Los pedidos se irían haciendo en tandas y el proveedor deberá entregar los mismos hasta agotar stock o hasta el vencimiento del plazo que se acuerde (3 meses), pudiendo la empresa consumir el 100 % de lo contratado o menos, facturando el Proveedor solo lo efectivamente consumido. | F21: C/U | G21: 500 | I21: =G21*H21 -> 0 | K21: Leandro N. Alem 1110, piso 9 – Retiro
B22: 2 | F22: C/U | I22: =G22*H22 -> 0
B23: 3 | F23: C/U | I23: =G23*H23 -> 0
B24: 4 | F24: C/U | I24: =G24*H24 -> 0
B25: 5 | F25: C/U | I25: =G25*H25 -> 0
B26: 1 | F26: C/U | I26: =G26*H26 -> 0
B27: 2 | F27: C/U | I27: =G27*H27 -> 0
B28: 3 | F28: C/U | I28: =G28*H28 -> 0
B29: 4 | F29: C/U | I29: =G29*H29 -> 0
B30: 5 | F30: C/U | I30: =G30*H30 -> 0
B31: 6 | F31: C/U | I31: =G31*H31 -> 0
B32: 7 | F32: C/U | I32: =G32*H32 -> 0
B33: 8 | F33: C/U | I33: =G33*H33 -> 0
... B74: 16 | F74: C/U | I74: =G74*H74 -> 0
A75: Consignar el precio unitario y el total, en letras y en números. | F75: TOTAL: | I75: =SUM(I21:I74) -> 0

Sheet Hoja2
M2: OPERADORA FERROVIARIA S.E.
M3: CUIT: 30-71068177-1
B6: SOLICITUD DE COTIZACIÓN DIRECTA POR COMPULSA ABREVIADA
B8: * Comprador: | E8: Carlina Pondepeyre | H8: EXPEDIENTE: EX-2019- 14268669--APN-GCYL#SOFSE - EMPALMES -RC 32846
B10: * Tel: | C10: 011-2150-9300 Interno 26379 | E10: 26281
B12: * E-mail para presentar la cotizacion: carlina.pondepeyre@trenesargentinos.gob.ar
B15: ESTIMADO PROVEEDOR, ANTES DE REALIZAR LA OFERTA TENGA A BIEN LEER EL ARCHIVO “CLAUSULAS DE COTIZACIÓN”, YA QUE EL MISMO LE PROVEERÁ LA INFORMACIÓN REQUERIDA PARA PRESENTAR LA COTIZACIÓN.
B18: PLANILLA DE COTIZACION
B19: RAZON SOCIAL: | F19: FORMA DE PAGO: | G19: 60 DFF unicamente | H19: FECHA | K19: LOGO
B20: CUIT: | F20: MANTENIMIENTO DE OFERTA: | G20: 30 Dias minimo | H20: MONEDA
B21: Requerimiento | C21: Ítem | D21: Código | E21: Descripción | F21: Especificaciones | G21: U. Mda. | H21: Cantidad | I21: Precio Unitario | J21: Precio Total por Item | K21: Alicuota de IVA | L21: Lugar de Entrega | M21: Observaciones por parte del Proveedor Marca/Modelo
B22: 32846 | C22: 1 | D22: NUM85299921410N | E22: KIT DE EMPALME RECTO DE RESINA POLIURETANICA - N° 1 | G22: C/U | H22: 100 | I22: 0 | J22: =H22*I22 -> 0 | L22: Av 29 de Septiembre 3501
B23: 32846 | C23: 2 | D23: NUM85299921430N | E23: KIT DE EMPALME RECTO DE RESINA POLIURETANICA - N° 3 | G23: C/U | H23: 80 | I23: 0 | J23: =H23*I23 -> 0 | L23: Av 29 de Septiembre 3501
B24: 32846 | C24: 3 | D24: NUM85299921440N | E24: KIT DE EMPALME RECTO DE RESINA POLIURETANICA - N° 4 | G24: C/U | H24: 80 | I24: 0 | J24: =H24*I24 -> 0 | L24: Av 29 de Septiembre 3501
E25: DE RESINA | G25: C/U | H25: 6 | I25: 0 | J25: =H25*I25 -> 0 | L25: Responsables: base de Once: Dario Feldheim 2 Unidades Base Haedo: Franco Bacchiddu 2 Unidades. Base Francisco Alvarez: Marcelo Diaz 2 Unidades.
B26: 32793 | C26: 1 | E26: POLIURETANICA - N° 4 | G26: C/U | I26: 0 | J26: =H26*I26 -> 0
B27: 32793 | C27: 2 | G27: C/U | I27: 0 | J27: =H27*I27 -> 0
B28: 32793 | C28: 3 | G28: C/U | I28: 0 | J28: =H30*I28 -> 0
B29: 32793 | C29: 4 | G29: C/U | I29: 0 | J29: =H29*I29 -> 0
B30: 32793 | C30: 9 | G30: C/U | H30: 8 | I30: 0 | J30: =#REF!*I30 -> #REF! | L30: Ramos Mejia 1400
B31: 32793 | C31: 10 | G31: C/U | H31: 8 | I31: 0 | J31: =H31*I31 -> 0 | L31: Ramos Mejia 1400
B32: 32793 | C32: 11 | D32: NUM83233210340N | G32: C/U | H32: 8 | I32: 0 | J32: =H32*I32 -> 0 | L32: Ramos Mejia 1400
B33: 32793 | F33: PLASTICO REFORZADO - 1° CALIDAD.- CAPACIDAD: 1 LITRO | G33: C/U | H33: 8 | I33: 0 | J33: =H33*I33 -> 0
B34: 32793 | G34: C/U | H34: 8 | I34: 0 | J34: =H34*I34 -> 0
B35: 32793 | G35: C/U | H35: 8 | I35: 0 | J35: =H35*I35 -> 0
B36: 32793 | G36: LTRS | H36: 8 | I36: 0 | J36: =H36*I36 -> 0
B37: 32793 | G37: C/U | H37: 8 | I37: 0 | J37: =H37*I37 -> 0
B38: 32793 | G38: C/U | H38: 8 | I38: 0 | J38: =H38*I38 -> 0
B39: 32793 | G39: C/U | H39: 8 | I39: 0 | J39: =H39*I39 -> 0
B40: 32793 | G40: C/U | H40: 8 | I40: 0 | J40: =H40*I40 -> 0
B41: 32793 | G41: LTRS | H41: 8 | I41: 0 | J41: =H41*I41 -> 0
B42: 32793 | G42: C/U | H42: 8 | I42: 0 | J42: =H42*I42 -> 0
B43: 32793 | G43: C/U | H43: 8 | I43: 0 | J43: =H43*I43 -> 0
B44: 32793 | G44: C/U | H44: 8 | I44: 0 | J44: =H44*I44 -> 0
B45: 32793 | G45: C/U | H45: 8 | I45: 0 | J45: =H45*I45 -> 0
B46: 32793 | G46: C/U | H46: 8 | I46: 0 | J46: =H46*I46 -> 0
B47: 32793 | H47: 8 | I47: 0 | J47: =H47*I47 -> 0
B48: 32793 | H48: 8 | I48: 0 | J48: =H48*I48 -> 0
B49: 32793 | H49: 8 | I49: 0 | J49: =H49*I49 -> 0
B50: 32793 | H50: 8 | I50: 0 | J50: =H50*I50 -> 0
...

Sheet Hoja3
B2: ESCALERA TIJERA DE 6 PELDAÑOS.
B4: Perfilera robusta.
B5: Zapatas fijas con tacos de goma antideslizantes
B6: Peldaños planos antideslizantes - sección de apoyo 75 mm Escuadras de refuerzo antitorsión
B7: Tapa superior de aluminio
B8: Brazos laterales articulables - (anti - cierre) Bisagra superior de acero estampado
B9: Etiquetas con instrucciones de seguridad, uso de escaleras y capacidad de carga

Sheet Base de NUMS 
A1: Código | B1: Descripción | C1: Total | D1: EN ULTIMO CENTRAL
A2: ACT824-000038N | B2: MAQUINA DESTRUCTORA DE PAPEL | C2: 1 | E2: COMPRAR
A3: NUM83221311000N | B3: BROCHE PARA ABROCHADORA Nº 50 X 1000 UNIDADES | C3: 239 | D3: NUM83221311000N | E3: COMPRAR
A4: NUM83221350010N | B4: BROCHE PARA ABROCHADORA Nº 23/13 X 1000 UNIDADES | C4: 10 | D4: NUM83221350010N | E4: COMPRAR
A5: NUM83221350020N | B5: BROCHE PARA ABROCHADORA Nº 23/8 X 1000 UNIDADES | C5: 5 | D5: NUM83221350020N | E5: COMPRAR
A6: NUM83221350080N | B6: BROCHE PARA ABROCHADORA Nº 21/6 X 1000 UNIDADES | C6: 22 | D6: NUM83221350080N | E6: COMPRAR
A7: NUM83221350200N | B7: BROCHE PARA ABROCHADORA Nº 23/15 X 1000 UNIDADES | C7: 10 | D7: NUM83221350200N | E7: COMPRAR
A8: NUM83221370250N | B8: BROCHE APRIETA PAPELES 25 MM | C8: 32 | D8: NUM83221370250N | E8: COMPRAR
A9: NUM83221370260N | B9: BROCHE APRIETA PAPELES 19 MM | C9: 32 | D9: NUM83221370260N | E9: COMPRAR
A10: NUM83221370400N | B10: BROCHE APRIETA PAPELES 40 MM | C10: 32 | D10: NUM83221370400N | E10: COMPRAR
A11: NUM83221390000N | B11: BROCHES NEPACO PLASTICOS X 50 UNIDADES | C11: 1 | D11: NUM83221390000N | E11: COMPRAR
A12: NUM83221910350N | B12: CINTA ADHESIVA TRANSPARENTE DE EMBALAR - ANCHO 48 MM | C12: 28 | D12: NUM83221910350N | E12: COMPRAR
A13: NUM83222820010N | B13: BORRADOR PARA PIZARRA BLANCA | C13: 4 | D13: NUM83222820010N | E13: COMPRAR
A14: NUM83223030050N | B14: PIZARRA DE MADERA BLANCA CON MARCO PARA PARED DE 120 X 80 CM | C14: 2 | D14: NUM83223030050N | E14: COMPRAR
... A34: NUM83226512200N | B34: TIJERA DE OFICINA 22 CM | C34: 16 | D34: NUM83226512200N | E34: COMPRAR
A35: NUM83226610320N | B35: GUILLOTINA DE PAPEL ROTATIVA DE MESA LONGITUD DE CORTE 320 MM | C35: 1 | E35: COMPRAR
A36: NUM83227010000N | B36: ABROCHADORA INDUSTRIAL DE ESCRITORIO | C36: 1 | D36: NUM83227010000N | E36: COMPRAR
A37: NUM83227510680N | B37: TACO POST IT 760 X 760 MM | C37: 6 | D37: NUM83227510680N | E37: COMPRAR
A38: NUM83227511110N | B38: ADHESIVO EN BARRA POR 21 GRS | C38: 5 | D38: NUM83227511110N | E38: COMPRAR
A39: NUM83227511260N | B39: SOBRE BLANCO A4 | C39: 1 | D39: NUM83227511260N | E39: COMPRAR
A40: NUM83227511270N | B40: SOBRE MANILA 25 X 35 CM | C40: 115 | D40: NUM83227511270N | E40: COMPRAR
A41: NUM83227511900N | B41: ARANDELA DE CARTON CAJA X 500 UNIDADES | C41: 10 | D41: NUM83227511900N | E41: COMPRAR
A42: NUM83227512020N | B42: SOBRE OFICIO INGLES BLANCO 12 X 23.5 - 100 UNIDADES | C42: 1 | D42: NUM83227512020N | E42: COMPRAR
A43: NUM83228510010N | B43: TABLA SUJETA PAPELES - A4 - ACRILICO | C43: 10 | D43: NUM83228510010N | E43: COMPRAR
A44: NUM88971033000N | B44: PAPEL CARBONICO NEGRO - 210 X 297 MM - A4.- | C44: 4 | D44: NUM88971033000N | E44: COMPRAR
A45: NUM88971070000N | B45: BIBLIORATO PALANCA TAPA DURA - OFICIO 2 ANILLOS.- | C45: 10 | D45: NUM88971070000N | E45: COMPRAR
A46: NUM88971072000N | B46: BIBLIORATO - PALANCA TAPA DURA - A4 2 ANILLOS.- | C46: 100 | D46: NUM88971072000N | E46: COMPRAR
A47: NUM88971072050N | B47: BIBLIORATO - TAPA DURA - A4 - CON PALANCA - COLOR ROJO.- | C47: 20 | D47: NUM88971072050N | E47: COMPRAR
... A111: NUM83223030100N | B111: PIZARRA DE MADERA BLANCA CON MARCO PARA PARED DE 120 X 180 CM | C111: 2 | D111: NUM83223030100N | E111: COMPRAR
A115: Código | B115: Descripción | C115: Total | D115: EN ULTIMO CENTRAL | E115: accion
A116: ACT824-000038N | B116: MAQUINA DESTRUCTORA DE PAPEL | C116: 1 | D116: 2175 | E116: =+VLOOKUP(A116,#REF!,6,0) -> #REF!
A117: NUM02390500530N | B117: BANDA ELASTICA | C117: 7 | D117: 94 | E117: =+VLOOKUP(A117,#REF!,6,0) -> #REF!
A118: NUM81983010100N | B118: COFRE PORTAVALORES N°1 MEDIDAS 200 X 160 X 90 MM | C118: 2 | D118: 256.85 | E118: =+VLOOKUP(A118,#REF!,6,0) -> #REF!
A119: NUM83220311100N | B119: SACAGANCHO METALICO | C119: 10 | D119: 44.347 | E119: =+VLOOKUP(A119,#REF!,6,0) -> #REF!
A120: NUM83220320000N | B120: SACAGANCHO PLASTICO TIPO LAPIZ | C120: 10 | D120: 48 | E120: =+VLOOKUP(A120,#REF!,6,0) -> #REF!
A121: NUM83221311000N | B121: BROCHE PARA ABROCHADORA Nº 50 X 1000 UNIDADES | C121: 239 | D121: 133.337 | E121: =+VLOOKUP(A121,#REF!,6,0) -> #REF!
A122: NUM83221350010N | B122: BROCHE PARA ABROCHADORA Nº 23/13 X 1000 UNIDADES | C122: 10 | D122: 98 | E122: =+VLOOKUP(A122,#REF!,6,0) -> #REF!
A123: NUM83221350020N | B123: BROCHE PARA ABROCHADORA Nº 23/8 X 1000 UNIDADES | C123: 5 | D123: 122.31 | E123: =+VLOOKUP(A123,#REF!,6,0) -> #REF!
A124: NUM83221350080N | B124: BROCHE PARA ABROCHADORA Nº 21/6 X 1000 UNIDADES | C124: 22 | D124: 24 | E124: =+VLOOKUP(A124,#REF!,6,0) -> #REF!
A125: NUM83221350200N | B125: BROCHE PARA ABROCHADORA Nº 23/15 X 1000 UNIDADES | C125: 10 | D125: 95.29 | E125: =+VLOOKUP(A125,#REF!,6,0) -> #REF!
...

Sheet Hoja1
A1: CODIGO | B1: DESCRIPCION | C1: DESCRIPCION
A3: NUM83227010000N | B3: ABROCHADORA INDUSTRIAL DE ESCRITORIO | C3: ABROCHADORA INDUSTRIAL DE ESCRITORIO (ABROCHADORA TIPO INDUSTRIAL TIPO ETONA 260)
A4: NUM88973010000N | B4: ABROCHADORA PINZA TIPO MIT 50 PINTADA | C4: ABROCHADORA PINZA TIPO MIT 50 PINTADA (ABROCHADORA DE MANO Nº 10)
A6: NUM83226610010N | B6: GUILLOTINA DE PAPEL CON MESA LONGITUD DE CORTE 125 CM | C6: GUILLOTINA DE PAPEL CON MESA LONGITUD DE CORTE 300 MM
A7: NUM83226610300N | B7: GUILLOTINA DE PAPEL CON MESA LONGITUD DE CORTE 300 MM | C7: GUILLOTINA DE PAPEL CON MESA LONGITUD DE CORTE 125 CM
A8: NUM83226610100N | B8: GUILLOTINA DE PAPEL CON MESA LONGITUD DE CORTE 40 CM | C8: GUILLOTINA DE PAPEL CON MESA LONGITUD DE CORTE 40 CM
A10: NUM88973263100N | B10: PERFORADORA MANUAL - CON REGLA MULTIFORMATO - PARA 150 HOJAS.- | C10: PERFORADORA MANUAL - CON REGLA MULTIFORMATO - PARA 150 HOJAS.-
A11: NUM88973263000N | B11: PERFORADORA MANUAL - METALICA - CHICA.- | C11: PERFORADORA MANUAL - METALICA - CHICA.- (PERFORADORA DE PAPEL BASE MADERA REFORZADA - PARA 25/30 HOJAS)
A13: NUM88973070000N | B13: CESTO PAPELERO PLASTICO 28 X 22 CM | C13: CESTO PAPELERO PLASTICO 28 X 22 CM (NO USAR - NO HAY NUM SUSTITUTO - CESTO PAPELERO - TERMINACION PINTURA EPOXI)
A14: NUM88973163020N | B14: CINTA PORTA CREDENCIAL | C14: CINTA PORTA CREDENCIAL
A15: NUM88973111210N | B15: LLAVERO CON IDENTIFICADOR | C15: LLAVERO CON IDENTIFICADOR
A20: NUM88973027000N | B20: SACABROCHES.- | C20: SACABROCHES.- (SACAGANCHO METALICO)
... A507: NUM83226512200N | B507: TIJERA DE OFICINA 22 CM | C507: TIJERA DE OFICINA 22 CM (USAR NUM83226512200N - TIJERA GRANDE 9" (22 CM))

Sheet Hoja4
A1: Código | B1: Descripción | C1: Total | D1: EN ULTIMO CENTRAL
A2: ACT824-000038N | B2: MAQUINA DESTRUCTORA DE PAPEL | C2: 1
A3: NUM02390500530N | B3: BANDA ELASTICA | C3: 7 | D3: =+VLOOKUP(A3,Hoja1!$A$2:$C$509,1,0) -> #N/A | E3: NUM88973052500N | F3: BANDA ELASTICA
A4: NUM81983010100N | B4: COFRE PORTAVALORES N°1 MEDIDAS 200 X 160 X 90 MM | C4: 2 | D4: =+VLOOKUP(A4,Hoja1!$A$2:$C$509,1,0) -> #N/A
A5: NUM83220311100N | B5: SACAGANCHO METALICO | C5: 10 | D5: =+VLOOKUP(A5,Hoja1!$A$2:$C$509,1,0) -> #N/A | E5: NUM88973027000N | F5: SACABROCHES.-
A6: NUM83220320000N | B6: SACAGANCHO PLASTICO TIPO LAPIZ | C6: 10 | D6: =+VLOOKUP(A6,Hoja1!$A$2:$C$509,1,0) -> #N/A | E6: NUM88973027000N | F6: SACABROCHES.-
A7: NUM83221311000N | B7: BROCHE PARA ABROCHADORA Nº 50 X 1000 UNIDADES | C7: 239 | D7: =+VLOOKUP(A7,Hoja1!$A$2:$C$509,1,0) -> NUM83221311000N
A8: NUM83221350010N | B8: BROCHE PARA ABROCHADORA Nº 23/13 X 1000 UNIDADES | C8: 10 | D8: =+VLOOKUP(A8,Hoja1!$A$2:$C$509,1,0) -> NUM83221350010N
A9: NUM83221350020N | B9: BROCHE PARA ABROCHADORA Nº 23/8 X 1000 UNIDADES | C9: 5 | D9: =+VLOOKUP(A9,Hoja1!$A$2:$C$509,1,0) -> NUM83221350020N
A10: NUM83221350080N | B10: BROCHE PARA ABROCHADORA Nº 21/6 X 1000 UNIDADES | C10: 22 | D10: =+VLOOKUP(A10,Hoja1!$A$2:$C$509,1,0) -> NUM83221350080N
A11: NUM83221350200N | B11: BROCHE PARA ABROCHADORA Nº 23/15 X 1000 UNIDADES | C11: 10 | D11: =+VLOOKUP(A11,Hoja1!$A$2:$C$509,1,0) -> NUM83221350200N
A12: NUM83221370250N | B12: BROCHE APRIETA PAPELES 25 MM | C12: 32 | D12: =+VLOOKUP(A12,Hoja1!$A$2:$C$509,1,0) -> NUM83221370250N
A13: NUM83221370260N | B13: BROCHE APRIETA PAPELES 19 MM | C13: 32 | D13: =+VLOOKUP(A13,Hoja1!$A$2:$C$509,1,0) -> NUM83221370260N
A14: NUM83221370400N | B14: BROCHE APRIETA PAPELES 40 MM | C14: 32 | D14: =+VLOOKUP(A14,Hoja1!$A$2:$C$509,1,0) -> NUM83221370400N
A15: NUM83221390000N | B15: BROCHES NEPACO PLASTICOS X 50 UNIDADES | C15: 1 | D15: =+VLOOKUP(A15,Hoja1!$A$2:$C$509,1,0) -> NUM83221390000N
A16: NUM83221910250N | B16: CINTA ADHESIVA TRANSPARENTE 12 MM X 30 METROS | C16: 70 | D16: =+VLOOKUP(A16,Hoja1!$A$2:$C$509,1,0) -> #N/A | E16: NUM88973110000N | F16: CINTA ADHESIVA TRANSPARENTE 12 MM X 33 MTS.-
A17: NUM83221910350N | B17: CINTA ADHESIVA TRANSPARENTE DE EMBALAR - ANCHO 48 MM | C17: 28 | D17: =+VLOOKUP(A17,Hoja1!$A$2:$C$509,1,0) -> NUM83221910350N
A18: NUM83221920300N | B18: CINTA ADHESIVA BIFAZ ANCHO 5 CM X 10 METROS | C18: 8 | D18: =+VLOOKUP(A18,Hoja1!$A$2:$C$509,1,0) -> #N/A | E18: NUM83221920150N | F18: CINTA ADHESIVA BIFAZ ANCHO 1,5 CM X 10 METROS
A19: NUM83222820010N | B19: BORRADOR PARA PIZARRA BLANCA | C19: 4 | D19: =+VLOOKUP(A19,Hoja1!$A$2:$C$509,1,0) -> NUM83222820010N
A20: NUM83223030050N | B20: PIZARRA DE MADERA BLANCA CON MARCO PARA PARED DE 120 X 80 CM | C20: 2 | D20: =+VLOOKUP(A20,Hoja1!$A$2:$C$509,1,0) -> NUM83223030050N
A21: NUM83224110010N | B21: LAPIZ DE MADERA - NEGRO HB | C21: 152 | D21: =+VLOOKUP(A21,Hoja1!$A$2:$C$509,1,0) -> NUM83224110010N
A22: NUM83224110030N | B22: LAPIZ DE MADERA - NEGRO 2B | C22: 7 | D22: =+VLOOKUP(A22,Hoja1!$A$2:$C$509,1,0) -> NUM83224110030N
A23: NUM83224210000N | B23: TUBO DE MINAS 0,5 MM HB | C23: 10 | D23: =+VLOOKUP(A23,Hoja1!$A$2:$C$509,1,0) -> NUM83224210000N
A24: NUM83224310530N | B24: LAPICERA COMUN AZUL | C24: 105 | D24: =+VLOOKUP(A24,Hoja1!$A$2:$C$509,1,0) -> #N/A | E24: NUM83224320060N | F24: LAPICERA TIPO BOLIGRAFO 1 MM COLOR AZUL
A25: NUM83224310550N | B25: LAPICERA COMUN NEGRA | C25: 96 | D25: =+VLOOKUP(A25,Hoja1!$A$2:$C$509,1,0) -> #N/A | E25: NUM83224320010N | F25: LAPICERA TIPO BOLIGRAFO 1 MM COLOR NEGRO
A26: NUM83224310570N | B26: LAPICERA COMUN ROJA | C26: 18 | D26: =+VLOOKUP(A26,Hoja1!$A$2:$C$509,1,0) -> #N/A | E26: NUM83224320030N | F26: LAPICERA TIPO BOLIGRAFO 1 MM COLOR ROJO
A27: NUM83224310590N | B27: LAPICERA COMUN VERDE | C27: 15 | D27: =+VLOOKUP(A27,Hoja1!$A$2:$C$509,1,0) -> #N/A | E27: NUM83224320050N | F27: LAPICERA TIPO BOLIGRAFO 1 MM COLOR VERDE
A28: NUM83224320010N | B28: LAPICERA TIPO BOLIGRAFO 1 MM COLOR NEGRO | C28: 226 | D28: =+VLOOKUP(A28,Hoja1!$A$2:$C$509,1,0) -> NUM83224320010N
A29: NUM83224320030N | B29: LAPICERA TIPO BOLIGRAFO 1 MM COLOR ROJO | C29: 51 | D29: =+VLOOKUP(A29,Hoja1!$A$2:$C$509,1,0) -> NUM83224320030N
A30: NUM83224320050N | B30: LAPICERA TIPO BOLIGRAFO 1 MM COLOR VERDE | C30: 51 | D30: =+VLOOKUP(A30,Hoja1!$A$2:$C$509,1,0) -> NUM83224320050N
A31: NUM83224320060N | B31: LAPICERA TIPO BOLIGRAFO 1 MM COLOR AZUL | C31: 621 | D31: =+VLOOKUP(A31,Hoja1!$A$2:$C$509,1,0) -> NUM83224320060N
A32: NUM83224340000N | B32: LAPICERA ROLLER AZUL | C32: 7 | D32: =+VLOOKUP(A32,Hoja1!$A$2:$C$509,1,0) -> #N/A | E32: NUM83224320060N | F32: LAPICERA TIPO BOLIGRAFO 1 MM COLOR AZUL
A33: NUM83224340020N | B33: LAPICERA ROLLER NEGRO | C33: 5 | D33: =+VLOOKUP(A33,Hoja1!$A$2:$C$509,1,0) -> #N/A | E33: NUM83224320010N | F33: LAPICERA TIPO BOLIGRAFO 1 MM COLOR NEGRO
A34: NUM83224710100N | B34: MARCADOR DE PIZARRA NEGRO | C34: 9 | D34: =+VLOOKUP(A34,Hoja1!$A$2:$C$509,1,0) -> NUM83224710100N
A35: NUM83224710120N | B35: MARCADOR DE PIZARRA AZUL | C35: 10 | D35: =+VLOOKUP(A35,Hoja1!$A$2:$C$509,1,0) -> NUM83224710120N
A36: NUM83224710140N | B36: MARCADOR DE PIZARRA ROJO | C36: 8 | D36: =+VLOOKUP(A36,Hoja1!$A$2:$C$509,1,0) -> NUM83224710140N
A37: NUM83224710160N | B37: MARCADOR DE PIZARRA VERDE | C37: 13 | D37: =+VLOOKUP(A37,Hoja1!$A$2:$C$509,1,0) -> NUM83224710160N
A38: NUM83224730000N | B38: MARCADOR INDELEBLE - TRAZO GRUESO - PUNTA REDONDA - NEGRO | C38: 16 | D38: =+VLOOKUP(A38,Hoja1!$A$2:$C$509,1,0) -> NUM83224730000N
A39: NUM83224730120N | B39: MARCADOR INDELEBLE - TRAZO FINO - NEGRO | C39: 9 | D39: =+VLOOKUP(A39,Hoja1!$A$2:$C$509,1,0) -> NUM83224730120N
A40: NUM83224740100N | B40: MARCADOR DE PINTURA COLOR BLANCO | C40: 12 | D40: =+VLOOKUP(A40,Hoja1!$A$2:$C$509,1,0) -> NUM83224740100N
...
