Workbook

Sheet Hoja2
M2: OPERADORA FERROVIARIA S.E.
M3: CUIT: 30-71068177-1
B6: SOLICITUD DE COTIZACIÓN DIRECTA POR COMPULSA ABREVIADA
B8: * Comprador: | D8: Eduardo Bocalandro | H8: EXPEDIENTE: EX-2019-XXXXXXX- -APN-GCYL#SOFSE EXTRACTO: XXXXX RC: 34746
B9: * Tel: | C9: 011-2150-9300 Interno 26417
B11: * E-mail para presentar la cotizacion: eduardo.bocalandro@trenesargentinos.gob.ar
B13: ESTIMADO PROVEEDOR, ANTES DE REALIZAR LA OFERTA TENGA A BIEN LEER EL ARCHIVO “CLAUSULAS DE COTIZACIÓN”, YA QUE EL MISMO LE PROVEERÁ LA INFORMACIÓN REQUERIDA PARA PRESENTAR LA COTIZACIÓN.
B16: PLANILLA DE COTIZACION
B17: RAZON SOCIAL: | F17: FORMA DE PAGO: | G17: 60 DFF unicamente | H17: FECHA | K17: LOGO
B18: CUIT: | F18: MANTENIMIENTO DE OFERTA: | G18: 30 días Renovará automáticamente por iguales períodos | H18: MONEDA
B19: Requerimiento | C19: Ítem | D19: Código | E19: Descripción | F19: Especificaciones | G19: U. Mda. | H19: Cantidad | I19: Precio Unitario- Sin IVA | J19: Precio Total por Item Sin IVA | K19: Alicuota de IVA | L19: Lugar de Entrega | M19: Observaciones por parte del Proveedor Marca/Modelo
B20: 34746 | C20: 1 | D20: NUM85291910290N | E20: ZAPATILLA ELECTRICA DE 5 TOMAS CON 1.5 MTS DE CABLE | F20: Según detalle Especificadciones Técnicas | G20: C/U | H20: 20 | I20: 0 | J20: =I20*H20 -> 0 | K20: 0.21 | L20: Urquiza 4400 Esq Suiza (Almacén Alianza) Caseros. Tres de Febrero.
B21: 34746 | C21: 2 | D21: NUM89191020650N | E21: TIRAFONDO CABEZA HEXAGONAL DE ACERO 1/4" X 50.8 MM | F21: Según detalle Especificadciones Técnicas | G21: C/U | H21: 300 | I21: 0 | J21: =I21*H21 -> 0 | K21: 0.21 | L21: Urquiza 4400 Esq Suiza (Almacén Alianza) Caseros. Tres de Febrero.
B22: 34746 | C22: 3 | D22: NUM89191041120N | E22: TIRAFONDO CABEZA HEXAGONAL DE ACERO 3/16" X 50.8 MM | F22: Según detalle Especificadciones Técnicas | G22: C/U | H22: 300 | I22: 0 | J22: =I22*H22 -> 0 | K22: 0.21 | L22: Urquiza 4400 Esq Suiza (Almacén Alianza) Caseros. Tres de Febrero.
B23: 34746 | C23: 4 | D23: NUM89200510390N | E23: TORNILLO CABEZA TANQUE PUNTA AGUJA DE ACERO CINCADO 4.2 X 13 MM (NRO 8 X 1/2") T1 | F23: Según detalle Especificadciones Técnicas | G23: C/U | H23: 300 | I23: 0 | J23: =I23*H23 -> 0 | K23: 0.21 | L23: Urquiza 4400 Esq Suiza (Almacén Alianza) Caseros. Tres de Febrero.
B24: 34746 | C24: 5 | D24: NUM80915810110N | E24: CAJA ESTANCO DE PVC 115 X 115 X 67 MM IP65 | F24: Según detalle Especificadciones Técnicas | G24: C/U | H24: 100 | I24: 0 | J24: =I24*H24 -> 0 | K24: 0.21 | L24: Urquiza 4400 Esq Suiza (Almacén Alianza) Caseros. Tres de Febrero.
B25: 34746 | C25: 6 | D25: NUM80910520360N | E25: CAÑO FLEXIBLE CORRUGADO ACERO INOXIDABLE 3/4" | F25: Según detalle Especificadciones Técnicas | G25: MTS | H25: 500 | I25: 0 | J25: =I25*H25 -> 0 | K25: 0.21 | L25: Urquiza 4400 Esq Suiza (Almacén Alianza) Caseros. Tres de Febrero.
B26: 34746 | C26: 7 | D26: NUM80912910260N | E26: CONECTOR PARA CAÑO FLEXIBLE METALICO 3/4" | F26: Según detalle Especificadciones Técnicas | G26: C/U | H26: 200 | I26: 0 | J26: =I26*H26 -> 0 | K26: 0.21 | L26: Urquiza 4400 Esq Suiza (Almacén Alianza) Caseros. Tres de Febrero.
B27: 34746 | C27: 8 | D27: NUM80915710200N | E27: GRAMPA MEDIA OMEGA METALICA GALVANIZADA 3/4" | F27: Según detalle Especificadciones Técnicas | G27: C/U | H27: 1000 | I27: 0 | J27: =I27*H27 -> 0 | K27: 0.21 | L27: Urquiza 4400 Esq Suiza (Almacén Alianza) Caseros. Tres de Febrero.
B28: 34746 | C28: 9 | D28: NUM80910830190N | E28: CAÑO RIGIDO SIN ROSCA DE ACERO GALVANIZADO USO ELECTRICO 3/4" TIRA 3 MTS | F28: Según detalle Especificadciones Técnicas | G28: C/U | H28: 20 | I28: 0 | J28: =I28*H28 -> 0 | K28: 0.21 | L28: Urquiza 4400 Esq Suiza (Almacén Alianza) Caseros. Tres de Febrero.
B29: 34746 | C29: 10 | D29: NUM80910830250N | E29: CAÑO RIGIDO SIN ROSCA DE ACERO GALVANIZADO USO ELECTRICO 1" TIRA 3 MTS | F29: Según detalle Especificadciones Técnicas | G29: C/U | H29: 10 | I29: 0 | J29: =I29*H29 -> 0 | K29: 0.21 | L29: Urquiza 4400 Esq Suiza (Almacén Alianza) Caseros. Tres de Febrero.
B30: 34746 | C30: 11 | D30: NUM80910830280N | E30: CAÑO RIGIDO SIN ROSCA DE ACERO GALVANIZADO USO ELECTRICO 2" TIRA 3 MTS | F30: Según detalle Especificadciones Técnicas | G30: C/U | H30: 10 | I30: 0 | J30: =I30*H30 -> 0 | K30: 0.21 | L30: Urquiza 4400 Esq Suiza (Almacén Alianza) Caseros. Tres de Febrero.
B31: 34746 | C31: 12 | D31: NUM80915710250N | E31: GRAMPA OMEGA METALICA GALVANIZADA 1" | F31: Según detalle Especificadciones Técnicas | G31: C/U | H31: 25 | I31: 0 | J31: =I31*H31 -> 0 | K31: 0.21 | L31: Urquiza 4400 Esq Suiza (Almacén Alianza) Caseros. Tres de Febrero.
... B58: 34746 | C58: 39 | D58: ACT402-000155N | E58: ESCALERA TIJERA 2,10 MTS - DIELECTRICA | F58: Según detalle Especificadciones Técnicas | G58: C/U | H58: 4 | I58: 0 | J58: =I58*H58 -> 0 | K58: 0.21 | L58: Urquiza 4400 Esq Suiza (Almacén Alianza) Caseros. Tres de Febrero.
C65: 9
C66: 10
C67: 11
C68: 12
C69: 13
C70: 14
C71: 15
C72: 16
B73: Consignar el precio unitario y el total, en letras y en números (IVA NO INCLUIDO) | G73: TOTAL (IVA NO INCLUIDO): | J73: =SUM(J20:J72) -> 0
B74: Consignar el precio unitario y el total, en letras y en números. (IVA INCLUIDO) | G74: TOTAL (IVA INCLUIDO): | J74: =+J20*(1+K20) -> 0

Sheet Base de NUMS 
A1: Código | B1: Descripción | C1: Total | D1: EN ULTIMO CENTRAL
A2: ACT824-000038N | B2: MAQUINA DESTRUCTORA DE PAPEL | C2: 1 | E2: COMPRAR
A3: NUM83221311000N | B3: BROCHE PARA ABROCHADORA Nº 50 X 1000 UNIDADES | C3: 239 | D3: NUM83221311000N | E3: COMPRAR
A4: NUM83221350010N | B4: BROCHE PARA ABROCHADORA Nº 23/13 X 1000 UNIDADES | C4: 10 | D4: NUM83221350010N | E4: COMPRAR
A5: NUM83221350020N | B5: BROCHE PARA ABROCHADORA Nº 23/8 X 1000 UNIDADES | C5: 5 | D5: NUM83221350020N | E5: COMPRAR
A6: NUM83221350080N | B6: BROCHE PARA ABROCHADORA Nº 21/6 X 1000 UNIDADES | C6: 22 | D6: NUM83221350080N | E6: COMPRAR
A7: NUM83221350200N | B7: BROCHE PARA ABROCHADORA Nº 23/15 X 1000 UNIDADES | C7: 10 | D7: NUM83221350200N | E7: COMPRAR
A8: NUM83221370250N | B8: BROCHE APRIETA PAPELES 25 MM | C8: 32 | D8: NUM83221370250N | E8: COMPRAR
A9: NUM83221370260N | B9: BROCHE APRIETA PAPELES 19 MM | C9: 32 | D9: NUM83221370260N | E9: COMPRAR
A10: NUM83221370400N | B10: BROCHE APRIETA PAPELES 40 MM | C10: 32 | D10: NUM83221370400N | E10: COMPRAR
A11: NUM83221390000N | B11: BROCHES NEPACO PLASTICOS X 50 UNIDADES | C11: 1 | D11: NUM83221390000N | E11: COMPRAR
A12: NUM83221910350N | B12: CINTA ADHESIVA TRANSPARENTE DE EMBALAR - ANCHO 48 MM | C12: 28 | D12: NUM83221910350N | E12: COMPRAR
A13: NUM83222820010N | B13: BORRADOR PARA PIZARRA BLANCA | C13: 4 | D13: NUM83222820010N | E13: COMPRAR
A14: NUM83223030050N | B14: PIZARRA DE MADERA BLANCA CON MARCO PARA PARED DE 120 X 80 CM | C14: 2 | D14: NUM83223030050N | E14: COMPRAR
... A34: NUM83226512200N | B34: TIJERA DE OFICINA 22 CM | C34: 16 | D34: NUM83226512200N | E34: COMPRAR
A35: NUM83226610320N | B35: GUILLOTINA DE PAPEL ROTATIVA DE MESA LONGITUD DE CORTE 320 MM | C35: 1 | E35: COMPRAR
A36: NUM83227010000N | B36: ABROCHADORA INDUSTRIAL DE ESCRITORIO | C36: 1 | D36: NUM83227010000N | E36: COMPRAR
A37: NUM83227510680N | B37: TACO POST IT 760 X 760 MM | C37: 6 | D37: NUM83227510680N | E37: COMPRAR
A38: NUM83227511110N | B38: ADHESIVO EN BARRA POR 21 GRS | C38: 5 | D38: NUM83227511110N | E38: COMPRAR
A39: NUM83227511260N | B39: SOBRE BLANCO A4 | C39: 1 | D39: NUM83227511260N | E39: COMPRAR
A40: NUM83227511270N | B40: SOBRE MANILA 25 X 35 CM | C40: 115 | D40: NUM83227511270N | E40: COMPRAR
A41: NUM83227511900N | B41: ARANDELA DE CARTON CAJA X 500 UNIDADES | C41: 10 | D41: NUM83227511900N | E41: COMPRAR
A42: NUM83227512020N | B42: SOBRE OFICIO INGLES BLANCO 12 X 23.5 - 100 UNIDADES | C42: 1 | D42: NUM83227512020N | E42: COMPRAR
A43: NUM83228510010N | B43: TABLA SUJETA PAPELES - A4 - ACRILICO | C43: 10 | D43: NUM83228510010N | E43: COMPRAR
A44: NUM88971033000N | B44: PAPEL CARBONICO NEGRO - 210 X 297 MM - A4.- | C44: 4 | D44: NUM88971033000N | E44: COMPRAR
A45: NUM88971070000N | B45: BIBLIORATO PALANCA TAPA DURA - OFICIO 2 ANILLOS.- | C45: 10 | D45: NUM88971070000N | E45: COMPRAR
A46: NUM88971072000N | B46: BIBLIORATO - PALANCA TAPA DURA - A4 2 ANILLOS.- | C46: 100 | D46: NUM88971072000N | E46: COMPRAR
A47: NUM88971072050N | B47: BIBLIORATO - TAPA DURA - A4 - CON PALANCA - COLOR ROJO.- | C47: 20 | D47: NUM88971072050N | E47: COMPRAR
... A111: NUM83223030100N | B111: PIZARRA DE MADERA BLANCA CON MARCO PARA PARED DE 120 X 180 CM | C111: 2 | D111: NUM83223030100N | E111: COMPRAR
A115: Código | B115: Descripción | C115: Total | D115: EN ULTIMO CENTRAL | E115: accion
A116: ACT824-000038N | B116: MAQUINA DESTRUCTORA DE PAPEL | C116: 1 | D116: 2175 | E116: =+VLOOKUP(A116,#REF!,6,0) -> #REF!
A117: NUM02390500530N | B117: BANDA ELASTICA | C117: 7 | D117: 94 | E117: =+VLOOKUP(A117,#REF!,6,0) -> #REF!
A118: NUM81983010100N | B118: COFRE PORTAVALORES N°1 MEDIDAS 200 X 160 X 90 MM | C118: 2 | D118: 256.85 | E118: =+VLOOKUP(A118,#REF!,6,0) -> #REF!
A119: NUM83220311100N | B119: SACAGANCHO METALICO | C119: 10 | D119: 44.347 | E119: =+VLOOKUP(A119,#REF!,6,0) -> #REF!
A120: NUM83220320000N | B120: SACAGANCHO PLASTICO TIPO LAPIZ | C120: 10 | D120: 48 | E120: =+VLOOKUP(A120,#REF!,6,0) -> #REF!
A121: NUM83221311000N | B121: BROCHE PARA ABROCHADORA Nº 50 X 1000 UNIDADES | C121: 239 | D121: 133.337 | E121: =+VLOOKUP(A121,#REF!,6,0) -> #REF!
A122: NUM83221350010N | B122: BROCHE PARA ABROCHADORA Nº 23/13 X 1000 UNIDADES | C122: 10 | D122: 98 | E122: =+VLOOKUP(A122,#REF!,6,0) -> #REF!
A123: NUM83221350020N | B123: BROCHE PARA ABROCHADORA Nº 23/8 X 1000 UNIDADES | C123: 5 | D123: 122.31 | E123: =+VLOOKUP(A123,#REF!,6,0) -> #REF!
A124: NUM83221350080N | B124: BROCHE PARA ABROCHADORA Nº 21/6 X 1000 UNIDADES | C124: 22 | D124: 24 | E124: =+VLOOKUP(A124,#REF!,6,0) -> #REF!
A125: NUM83221350200N | B125: BROCHE PARA ABROCHADORA Nº 23/15 X 1000 UNIDADES | C125: 10 | D125: 95.29 | E125: =+VLOOKUP(A125,#REF!,6,0) -> #REF!
...

Sheet Hoja1
A1: CODIGO | B1: DESCRIPCION | C1: DESCRIPCION
A3: NUM83227010000N | B3: ABROCHADORA INDUSTRIAL DE ESCRITORIO | C3: ABROCHADORA INDUSTRIAL DE ESCRITORIO (ABROCHADORA TIPO INDUSTRIAL TIPO ETONA 260)
A4: NUM88973010000N | B4: ABROCHADORA PINZA TIPO MIT 50 PINTADA | C4: ABROCHADORA PINZA TIPO MIT 50 PINTADA (ABROCHADORA DE MANO Nº 10)
A6: NUM83226610010N | B6: GUILLOTINA DE PAPEL CON MESA LONGITUD DE CORTE 125 CM | C6: GUILLOTINA DE PAPEL CON MESA LONGITUD DE CORTE 300 MM
A7: NUM83226610300N | B7: GUILLOTINA DE PAPEL CON MESA LONGITUD DE CORTE 300 MM | C7: GUILLOTINA DE PAPEL CON MESA LONGITUD DE CORTE 125 CM
A8: NUM83226610100N | B8: GUILLOTINA DE PAPEL CON MESA LONGITUD DE CORTE 40 CM | C8: GUILLOTINA DE PAPEL CON MESA LONGITUD DE CORTE 40 CM
A10: NUM88973263100N | B10: PERFORADORA MANUAL - CON REGLA MULTIFORMATO - PARA 150 HOJAS.- | C10: PERFORADORA MANUAL - CON REGLA MULTIFORMATO - PARA 150 HOJAS.-
A11: NUM88973263000N | B11: PERFORADORA MANUAL - METALICA - CHICA.- | C11: PERFORADORA MANUAL - METALICA - CHICA.- (PERFORADORA DE PAPEL BASE MADERA REFORZADA - PARA 25/30 HOJAS)
A13: NUM88973070000N | B13: CESTO PAPELERO PLASTICO 28 X 22 CM | C13: CESTO PAPELERO PLASTICO 28 X 22 CM (NO USAR - NO HAY NUM SUSTITUTO - CESTO PAPELERO - TERMINACION PINTURA EPOXI)
A14: NUM88973163020N | B14: CINTA PORTA CREDENCIAL | C14: CINTA PORTA CREDENCIAL
A15: NUM88973111210N | B15: LLAVERO CON IDENTIFICADOR | C15: LLAVERO CON IDENTIFICADOR
A20: NUM88973027000N | B20: SACABROCHES.- | C20: SACABROCHES.- (SACAGANCHO METALICO)
... A507: NUM83226512200N | B507: TIJERA DE OFICINA 22 CM | C507: TIJERA DE OFICINA 22 CM (USAR NUM83226512200N - TIJERA GRANDE 9" (22 CM))

Sheet Hoja4
A1: Código | B1: Descripción | C1: Total | D1: EN ULTIMO CENTRAL
A2: ACT824-000038N | B2: MAQUINA DESTRUCTORA DE PAPEL | C2: 1
A3: NUM02390500530N | B3: BANDA ELASTICA | C3: 7 | D3: =+VLOOKUP(A3,Hoja1!$A$2:$C$509,1,0) -> #N/A | E3: NUM88973052500N | F3: BANDA ELASTICA
A4: NUM81983010100N | B4: COFRE PORTAVALORES N°1 MEDIDAS 200 X 160 X 90 MM | C4: 2 | D4: =+VLOOKUP(A4,Hoja1!$A$2:$C$509,1,0) -> #N/A
A5: NUM83220311100N | B5: SACAGANCHO METALICO | C5: 10 | D5: =+VLOOKUP(A5,Hoja1!$A$2:$C$509,1,0) -> #N/A | E5: NUM88973027000N | F5: SACABROCHES.-
A6: NUM83220320000N | B6: SACAGANCHO PLASTICO TIPO LAPIZ | C6: 10 | D6: =+VLOOKUP(A6,Hoja1!$A$2:$C$509,1,0) -> #N/A | E6: NUM88973027000N | F6: SACABROCHES.-
A7: NUM83221311000N | B7: BROCHE PARA ABROCHADORA Nº 50 X 1000 UNIDADES | C7: 239 | D7: =+VLOOKUP(A7,Hoja1!$A$2:$C$509,1,0) -> NUM83221311000N
A8: NUM83221350010N | B8: BROCHE PARA ABROCHADORA Nº 23/13 X 1000 UNIDADES | C8: 10 | D8: =+VLOOKUP(A8,Hoja1!$A$2:$C$509,1,0) -> NUM83221350010N
A9: NUM83221350020N | B9: BROCHE PARA ABROCHADORA Nº 23/8 X 1000 UNIDADES | C9: 5 | D9: =+VLOOKUP(A9,Hoja1!$A$2:$C$509,1,0) -> NUM83221350020N
A10: NUM83221350080N | B10: BROCHE PARA ABROCHADORA Nº 21/6 X 1000 UNIDADES | C10: 22 | D10: =+VLOOKUP(A10,Hoja1!$A$2:$C$509,1,0) -> NUM83221350080N
A11: NUM83221350200N | B11: BROCHE PARA ABROCHADORA Nº 23/15 X 1000 UNIDADES | C11: 10 | D11: =+VLOOKUP(A11,Hoja1!$A$2:$C$509,1,0) -> NUM83221350200N
A12: NUM83221370250N | B12: BROCHE APRIETA PAPELES 25 MM | C12: 32 | D12: =+VLOOKUP(A12,Hoja1!$A$2:$C$509,1,0) -> NUM83221370250N
A13: NUM83221370260N | B13: BROCHE APRIETA PAPELES 19 MM | C13: 32 | D13: =+VLOOKUP(A13,Hoja1!$A$2:$C$509,1,0) -> NUM83221370260N
A14: NUM83221370400N | B14: BROCHE APRIETA PAPELES 40 MM | C14: 32 | D14: =+VLOOKUP(A14,Hoja1!$A$2:$C$509,1,0) -> NUM83221370400N
A15: NUM83221390000N | B15: BROCHES NEPACO PLASTICOS X 50 UNIDADES | C15: 1 | D15: =+VLOOKUP(A15,Hoja1!$A$2:$C$509,1,0) -> NUM83221390000N
A16: NUM83221910250N | B16: CINTA ADHESIVA TRANSPARENTE 12 MM X 30 METROS | C16: 70 | D16: =+VLOOKUP(A16,Hoja1!$A$2:$C$509,1,0) -> #N/A | E16: NUM88973110000N | F16: CINTA ADHESIVA TRANSPARENTE 12 MM X 33 MTS.-
A17: NUM83221910350N | B17: CINTA ADHESIVA TRANSPARENTE DE EMBALAR - ANCHO 48 MM | C17: 28 | D17: =+VLOOKUP(A17,Hoja1!$A$2:$C$509,1,0) -> NUM83221910350N
A18: NUM83221920300N | B18: CINTA ADHESIVA BIFAZ ANCHO 5 CM X 10 METROS | C18: 8 | D18: =+VLOOKUP(A18,Hoja1!$A$2:$C$509,1,0) -> #N/A | E18: NUM83221920150N | F18: CINTA ADHESIVA BIFAZ ANCHO 1,5 CM X 10 METROS
A19: NUM83222820010N | B19: BORRADOR PARA PIZARRA BLANCA | C19: 4 | D19: =+VLOOKUP(A19,Hoja1!$A$2:$C$509,1,0) -> NUM83222820010N
A20: NUM83223030050N | B20: PIZARRA DE MADERA BLANCA CON MARCO PARA PARED DE 120 X 80 CM | C20: 2 | D20: =+VLOOKUP(A20,Hoja1!$A$2:$C$509,1,0) -> NUM83223030050N
A21: NUM83224110010N | B21: LAPIZ DE MADERA - NEGRO HB | C21: 152 | D21: =+VLOOKUP(A21,Hoja1!$A$2:$C$509,1,0) -> NUM83224110010N
A22: NUM83224110030N | B22: LAPIZ DE MADERA - NEGRO 2B | C22: 7 | D22: =+VLOOKUP(A22,Hoja1!$A$2:$C$509,1,0) -> NUM83224110030N
A23: NUM83224210000N | B23: TUBO DE MINAS 0,5 MM HB | C23: 10 | D23: =+VLOOKUP(A23,Hoja1!$A$2:$C$509,1,0) -> NUM83224210000N
A24: NUM83224310530N | B24: LAPICERA COMUN AZUL | C24: 105 | D24: =+VLOOKUP(A24,Hoja1!$A$2:$C$509,1,0) -> #N/A | E24: NUM83224320060N | F24: LAPICERA TIPO BOLIGRAFO 1 MM COLOR AZUL
A25: NUM83224310550N | B25: LAPICERA COMUN NEGRA | C25: 96 | D25: =+VLOOKUP(A25,Hoja1!$A$2:$C$509,1,0) -> #N/A | E25: NUM83224320010N | F25: LAPICERA TIPO BOLIGRAFO 1 MM COLOR NEGRO
A26: NUM83224310570N | B26: LAPICERA COMUN ROJA | C26: 18 | D26: =+VLOOKUP(A26,Hoja1!$A$2:$C$509,1,0) -> #N/A | E26: NUM83224320030N | F26: LAPICERA TIPO BOLIGRAFO 1 MM COLOR ROJO
A27: NUM83224310590N | B27: LAPICERA COMUN VERDE | C27: 15 | D27: =+VLOOKUP(A27,Hoja1!$A$2:$C$509,1,0) -> #N/A | E27: NUM83224320050N | F27: LAPICERA TIPO BOLIGRAFO 1 MM COLOR VERDE
A28: NUM83224320010N | B28: LAPICERA TIPO BOLIGRAFO 1 MM COLOR NEGRO | C28: 226 | D28: =+VLOOKUP(A28,Hoja1!$A$2:$C$509,1,0) -> NUM83224320010N
A29: NUM83224320030N | B29: LAPICERA TIPO BOLIGRAFO 1 MM COLOR ROJO | C29: 51 | D29: =+VLOOKUP(A29,Hoja1!$A$2:$C$509,1,0) -> NUM83224320030N
A30: NUM83224320050N | B30: LAPICERA TIPO BOLIGRAFO 1 MM COLOR VERDE | C30: 51 | D30: =+VLOOKUP(A30,Hoja1!$A$2:$C$509,1,0) -> NUM83224320050N
A31: NUM83224320060N | B31: LAPICERA TIPO BOLIGRAFO 1 MM COLOR AZUL | C31: 621 | D31: =+VLOOKUP(A31,Hoja1!$A$2:$C$509,1,0) -> NUM83224320060N
A32: NUM83224340000N | B32: LAPICERA ROLLER AZUL | C32: 7 | D32: =+VLOOKUP(A32,Hoja1!$A$2:$C$509,1,0) -> #N/A | E32: NUM83224320060N | F32: LAPICERA TIPO BOLIGRAFO 1 MM COLOR AZUL
A33: NUM83224340020N | B33: LAPICERA ROLLER NEGRO | C33: 5 | D33: =+VLOOKUP(A33,Hoja1!$A$2:$C$509,1,0) -> #N/A | E33: NUM83224320010N | F33: LAPICERA TIPO BOLIGRAFO 1 MM COLOR NEGRO
A34: NUM83224710100N | B34: MARCADOR DE PIZARRA NEGRO | C34: 9 | D34: =+VLOOKUP(A34,Hoja1!$A$2:$C$509,1,0) -> NUM83224710100N
A35: NUM83224710120N | B35: MARCADOR DE PIZARRA AZUL | C35: 10 | D35: =+VLOOKUP(A35,Hoja1!$A$2:$C$509,1,0) -> NUM83224710120N
A36: NUM83224710140N | B36: MARCADOR DE PIZARRA ROJO | C36: 8 | D36: =+VLOOKUP(A36,Hoja1!$A$2:$C$509,1,0) -> NUM83224710140N
A37: NUM83224710160N | B37: MARCADOR DE PIZARRA VERDE | C37: 13 | D37: =+VLOOKUP(A37,Hoja1!$A$2:$C$509,1,0) -> NUM83224710160N
A38: NUM83224730000N | B38: MARCADOR INDELEBLE - TRAZO GRUESO - PUNTA REDONDA - NEGRO | C38: 16 | D38: =+VLOOKUP(A38,Hoja1!$A$2:$C$509,1,0) -> NUM83224730000N
A39: NUM83224730120N | B39: MARCADOR INDELEBLE - TRAZO FINO - NEGRO | C39: 9 | D39: =+VLOOKUP(A39,Hoja1!$A$2:$C$509,1,0) -> NUM83224730120N
A40: NUM83224740100N | B40: MARCADOR DE PINTURA COLOR BLANCO | C40: 12 | D40: =+VLOOKUP(A40,Hoja1!$A$2:$C$509,1,0) -> NUM83224740100N
...
