Workbook

Sheet RESUMEN
A1: Num Reemplazo | B1: Descripcion | C1: UM | D1: Monto Indicativo | E1: Total cantidad (Q) | F1: Total Valor Nec ($)
A2: ACT400-000369N | B2: SOLDADORA ELECTRICA | C2: C/U | D2: 14651.076 | E2: 5 | F2: =+E2*D2 -> 73255.381
A3: ACT401-000031N | B3: AGUJEREADORA DE DURMIENTES | C3: C/U | D3: 202588.87 | E3: 3 | F3: =+E3*D3 -> 607766.6
A4: NUM85804122500N | B4: TORNIQUETE PARA ALAMBRADO | C4: C/U | D4: 59.475 | E4: 800 | F4: =+E4*D4 -> 47580
A5: NUM85810821000N | B5: BALDE ALBAÐILERIA ACERO 10 LT | C5: UN | D5: 118 | E5: 16 | F5: =+E5*D5 -> 1888
A6: NUM85811712070N | B6: CUCHARA DE ACERO PARA ALBAÐIL PUNTA REDONDEADA DE 7" (177.8 MM) | C6: UN | D6: 206.91 | E6: 8 | F6: =+E6*D6 -> 1655.28
A7: NUM85812633000N | B7: FRATACHO MADERA 30 CM | C7: C/U | D7: 53.285 | E7: 3 | F7: =+E7*D7 -> 159.855
A8: NUM85812637750N | B8: FRATACHO CON GOMA ESPUMA 15 X 35 CM | C8: C/U | D8: 81.255 | E8: 6 | F8: =+E8*D8 -> 487.53
A9: NUM85812643000N | B9: FRATACHO CON FIELTRO PARA REVOQUE FINO 30 CM | C9: C/U | D9: 113.74 | E9: 6 | F9: =+E9*D9 -> 682.44
A10: NUM85812722500N | B10: LLANA LISA DE YESERO 25 X 15 CM | C10: UN | D10: 130.41 | E10: 8 | F10: =+E10*D10 -> 1043.28
A11: NUM85813610020N | B11: HILO TIPO PIOLIN - USO EN ALBAÐILERIA | C11: Rollo | D11: 212.975 | E11: 19 | F11: =+E11*D11 -> 4046.525
A12: NUM85813810120N | B12: LLANA DENTADA 12 X 30 CM | C12: UN | D12: 221.175 | E12: 8 | F12: =+E12*D12 -> 1769.4
A13: NUM85816010500N | B13: CARRETILLA CON CAJA PLASTICA Y RUEDAS DE GOMA | C13: C/U | D13: 1897.8 | E13: 6 | F13: =+E13*D13 -> 11386.8
... A23: NUM86007310220N | B23: PICO PUNTA PALA ACERO 3 KG | C23: C/U | D23: 926.395 | E23: 12 | F23: =+E23*D23 -> 11116.74
A24: TOTALES | E24: =+SUM(E2:E23) -> 969 | F24: =+SUM(F2:F23) -> 810693.06

Sheet QT
A1: Num Reemplazo | B1: Descripcion | C1: UM | D1: LS | E1: LSM | F1: LDR | G1: LGR | H1: LBS | I1: LM | J1: Total cantidad (Q)
D2: Almacén Sarmiento | E2: Almacén Retiro | F2: Almacén Cordoba Central | G2: Almacén LGR | H2: Almacén LBS | I2: Almacén Victoria
D3: cantidad | E3: cantidad | F3: cantidad | G3: cantidad | H3: cantidad | I3: cantidad
A4: ACT400-000369N | B4: SOLDADORA ELECTRICA | C4: C/U | D4: 5 | J4: 5
A5: ACT401-000031N | B5: AGUJEREADORA DE DURMIENTES | C5: C/U | D5: 3 | J5: 3
A6: NUM85804122500N | B6: TORNIQUETE PARA ALAMBRADO | C6: C/U | F6: 500 | I6: 300 | J6: 800
A7: NUM85810821000N | B7: BALDE ALBAÐILERIA ACERO 10 LT | C7: UN | F7: 16 | J7: 16
A8: NUM85811712070N | B8: CUCHARA DE ACERO PARA ALBAÐIL PUNTA REDONDEADA DE 7" (177.8 MM) | C8: UN | F8: 8 | J8: 8
A9: NUM85812633000N | B9: FRATACHO MADERA 30 CM | C9: C/U | D9: 3 | J9: 3
A10: NUM85812637750N | B10: FRATACHO CON GOMA ESPUMA 15 X 35 CM | C10: C/U | D10: 6 | J10: 6
A11: NUM85812643000N | B11: FRATACHO CON FIELTRO PARA REVOQUE FINO 30 CM | C11: C/U | D11: 6 | J11: 6
A12: NUM85812722500N | B12: LLANA LISA DE YESERO 25 X 15 CM | C12: UN | F12: 8 | J12: 8
A13: NUM85813610020N | B13: HILO TIPO PIOLIN - USO EN ALBAÐILERIA | C13: Rollo | D13: 19 | J13: 19
A14: NUM85813810120N | B14: LLANA DENTADA 12 X 30 CM | C14: UN | F14: 8 | J14: 8
A15: NUM85816010500N | B15: CARRETILLA CON CAJA PLASTICA Y RUEDAS DE GOMA | C15: C/U | D15: 6 | J15: 6
A16: NUM85826510800N | B16: SERRUCHO DE HOJA DE ACERO CON MANGO 400 MM | C16: C/U | D16: 3 | J16: 3
A17: NUM85935010080N | B17: ESPATULA DE PINTOR N?8 | C17: UN | F17: 8 | J17: 8
A18: NUM85935010090N | B18: ESPATULA DE ACERO CON MANGO DE MADERA DE ANCHO DE HOJA 50MM | C18: C/U | I18: 1 | J18: 1
A19: NUM85935010110N | B19: ESPATULA PARA ENDUIR CON CABO DE MADERA ANCHO 80MM | C19: UN | F19: 8 | J19: 8
A20: NUM85935010120N | B20: ESPATULA DE PINTOR N?12 | C20: UN | F20: 8 | J20: 8
A21: NUM85935010130N | B21: ESPATULA PARA ENDUIR CON CABO DE MADERA ANCHO 200MM | C21: UN | F21: 8 | J21: 8
A22: NUM86000213050N | B22: ARCO DE SIERRA FIJO 305 MM | C22: C/U | D22: 9 | J22: 9
A23: NUM86006920300N | B23: PALA PUNTA PLANA ACERO 1050/55 | C23: C/U | D23: 12 | J23: 12
A24: NUM86006920400N | B24: PALA ANCHA DE ACERO 1050/55.- | C24: C/U | D24: 12 | J24: 12
A25: NUM86007310220N | B25: PICO PUNTA PALA ACERO 3 KG | C25: C/U | D25: 12 | J25: 12
A26: TOTALES | D26: =+SUM(D4:D25) -> 96 | E26: =+SUM(E4:E25) -> 0 | F26: =+SUM(F4:F25) -> 572 | G26: =+SUM(G4:G25) -> 0 | H26: =+SUM(H4:H25) -> 0 | I26: =+SUM(I4:I25) -> 301 | J26: =+SUM(J4:J25) -> 969
A28: Almacenes | B28: Direccion | D28: Responsable | E28: N° Contacto
A29: Almacen Sarmiento | B29: Reservistas Argentinos101 | D29: Andres Ausias | E29: 1161133510
A30: Almacen Retiro: | B30: Padre Mujica 1365 - CABA | D30: Gabriel Garcete | E30: 1132489396
A31: Almacen Cordoba Central: | B31: Alt 1: Boulevard Peron 101 - Cordoba // alt.2 : Av Libertador 405 - CABA | D31: Sebastian Varela | E31: 1135165004
A32: Almacen LGR | B32: 29 de Septiembre 3501 . Remedios de Escalada | D32: Ezequiel De Luca | E32: 1140479086
A33: Almacen LBS | B33: Los Nogales 1099 . Tapiales | D33: Matias Clausi | E33: 1155756184
A34: Almacen Victoria: | B34: Simón Iriondo 1608 Victoria - Pcia. Bs. As. | D34: Oscar Gonzalez | E34: 1121609738

Sheet VT
A1: Num Reemplazo | B1: Descripcion | C1: LS | D1: LSM | E1: LDR | F1: LGR | G1: LBS | H1: LM | I1: Total Valor Nec ($)
C2: SA9991000000000 | D2: SM9991000000000 | E2: GG2691000000000 | F2: GR9991000000000 | G2: BS9991000000000 | H2: MI9991000000000
C3: Valor Nec | D3: Valor Nec | E3: Valor Nec | F3: Valor Nec | G3: Valor Nec | H3: Valor Nec
A4: ACT400-000369N | B4: SOLDADORA ELECTRICA | C4: =+QT!D4*RESUMEN!$D$2 -> 73255.381 | D4: =+QT!E4*RESUMEN!$D$2 -> 0 | E4: =+QT!F4*RESUMEN!D2 -> 0 | F4: =+QT!G4*RESUMEN!$D2 -> 0 | G4: =+QT!H4*RESUMEN!D2 -> 0 | H4: =+QT!I4*RESUMEN!D2 -> 0 | I4: =+SUM(C4:H4) -> 73255.381
A5: ACT401-000031N | B5: AGUJEREADORA DE DURMIENTES | C5: =+QT!D5*RESUMEN!D3 -> 607766.6 | D5: =+QT!E5*RESUMEN!$D$2 -> 0 | E5: =+QT!F5*RESUMEN!D3 -> 0 | F5: =+QT!G5*RESUMEN!$D3 -> 0 | G5: =+QT!H5*RESUMEN!D3 -> 0 | H5: =+QT!I5*RESUMEN!D3 -> 0 | I5: =+SUM(C5:H5) -> 607766.6
A6: NUM85804122500N | B6: TORNIQUETE PARA ALAMBRADO | C6: =+QT!D6*RESUMEN!D4 -> 0 | D6: =+QT!E6*RESUMEN!$D$2 -> 0 | E6: =+QT!F6*RESUMEN!D4 -> 29737.5 | F6: =+QT!G6*RESUMEN!$D4 -> 0 | G6: =+QT!H6*RESUMEN!D4 -> 0 | H6: =+QT!I6*RESUMEN!D4 -> 17842.5 | I6: =+SUM(C6:H6) -> 47580
A7: NUM85810821000N | B7: BALDE ALBAÐILERIA ACERO 10 LT | C7: =+QT!D7*RESUMEN!D5 -> 0 | D7: =+QT!E7*RESUMEN!$D$2 -> 0 | E7: =+QT!F7*RESUMEN!D5 -> 1888 | F7: =+QT!G7*RESUMEN!$D5 -> 0 | G7: =+QT!H7*RESUMEN!D5 -> 0 | H7: =+QT!I7*RESUMEN!D5 -> 0 | I7: =+SUM(C7:H7) -> 1888
A8: NUM85811712070N | B8: CUCHARA DE ACERO PARA ALBAÐIL PUNTA REDONDEADA DE 7" (177.8 MM) | C8: =+QT!D8*RESUMEN!D6 -> 0 | D8: =+QT!E8*RESUMEN!$D$2 -> 0 | E8: =+QT!F8*RESUMEN!D6 -> 1655.28 | F8: =+QT!G8*RESUMEN!$D6 -> 0 | G8: =+QT!H8*RESUMEN!D6 -> 0 | H8: =+QT!I8*RESUMEN!D6 -> 0 | I8: =+SUM(C8:H8) -> 1655.28
A9: NUM85812633000N | B9: FRATACHO MADERA 30 CM | C9: =+QT!D9*RESUMEN!D7 -> 159.855 | D9: =+QT!E9*RESUMEN!$D$2 -> 0 | E9: =+QT!F9*RESUMEN!D7 -> 0 | F9: =+QT!G9*RESUMEN!$D7 -> 0 | G9: =+QT!H9*RESUMEN!D7 -> 0 | H9: =+QT!I9*RESUMEN!D7 -> 0 | I9: =+SUM(C9:H9) -> 159.855
A10: NUM85812637750N | B10: FRATACHO CON GOMA ESPUMA 15 X 35 CM | C10: =+QT!D10*RESUMEN!D8 -> 487.53 | D10: =+QT!E10*RESUMEN!$D$2 -> 0 | E10: =+QT!F10*RESUMEN!D8 -> 0 | F10: =+QT!G10*RESUMEN!$D8 -> 0 | G10: =+QT!H10*RESUMEN!D8 -> 0 | H10: =+QT!I10*RESUMEN!D8 -> 0 | I10: =+SUM(C10:H10) -> 487.53
A11: NUM85812643000N | B11: FRATACHO CON FIELTRO PARA REVOQUE FINO 30 CM | C11: =+QT!D11*RESUMEN!D9 -> 682.44 | D11: =+QT!E11*RESUMEN!$D$2 -> 0 | E11: =+QT!F11*RESUMEN!D9 -> 0 | F11: =+QT!G11*RESUMEN!$D9 -> 0 | G11: =+QT!H11*RESUMEN!D9 -> 0 | H11: =+QT!I11*RESUMEN!D9 -> 0 | I11: =+SUM(C11:H11) -> 682.44
A12: NUM85812722500N | B12: LLANA LISA DE YESERO 25 X 15 CM | C12: =+QT!D12*RESUMEN!D10 -> 0 | D12: =+QT!E12*RESUMEN!$D$2 -> 0 | E12: =+QT!F12*RESUMEN!D10 -> 1043.28 | F12: =+QT!G12*RESUMEN!$D10 -> 0 | G12: =+QT!H12*RESUMEN!D10 -> 0 | H12: =+QT!I12*RESUMEN!D10 -> 0 | I12: =+SUM(C12:H12) -> 1043.28
A13: NUM85813610020N | B13: HILO TIPO PIOLIN - USO EN ALBAÐILERIA | C13: =+QT!D13*RESUMEN!D11 -> 4046.525 | D13: =+QT!E13*RESUMEN!$D$2 -> 0 | E13: =+QT!F13*RESUMEN!D11 -> 0 | F13: =+QT!G13*RESUMEN!$D11 -> 0 | G13: =+QT!H13*RESUMEN!D11 -> 0 | H13: =+QT!I13*RESUMEN!D11 -> 0 | I13: =+SUM(C13:H13) -> 4046.525
A14: NUM85813810120N | B14: LLANA DENTADA 12 X 30 CM | C14: =+QT!D14*RESUMEN!D12 -> 0 | D14: =+QT!E14*RESUMEN!$D$2 -> 0 | E14: =+QT!F14*RESUMEN!D12 -> 1769.4 | F14: =+QT!G14*RESUMEN!$D12 -> 0 | G14: =+QT!H14*RESUMEN!D12 -> 0 | H14: =+QT!I14*RESUMEN!D12 -> 0 | I14: =+SUM(C14:H14) -> 1769.4
A15: NUM85816010500N | B15: CARRETILLA CON CAJA PLASTICA Y RUEDAS DE GOMA | C15: =+QT!D15*RESUMEN!D13 -> 11386.8 | D15: =+QT!E15*RESUMEN!$D$2 -> 0 | E15: =+QT!F15*RESUMEN!D13 -> 0 | F15: =+QT!G15*RESUMEN!$D13 -> 0 | G15: =+QT!H15*RESUMEN!D13 -> 0 | H15: =+QT!I15*RESUMEN!D13 -> 0 | I15: =+SUM(C15:H15) -> 11386.8
A16: NUM85826510800N | B16: SERRUCHO DE HOJA DE ACERO CON MANGO 400 MM | C16: =+QT!D16*RESUMEN!D14 -> 612.3 | D16: =+QT!E16*RESUMEN!$D$2 -> 0 | E16: =+QT!F16*RESUMEN!D14 -> 0 | F16: =+QT!G16*RESUMEN!$D14 -> 0 | G16: =+QT!H16*RESUMEN!D14 -> 0 | H16: =+QT!I16*RESUMEN!D14 -> 0 | I16: =+SUM(C16:H16) -> 612.3
... A25: NUM86007310220N | B25: PICO PUNTA PALA ACERO 3 KG | C25: =+QT!D25*RESUMEN!D23 -> 11116.74 | D25: =+QT!E25*RESUMEN!$D$2 -> 0 | E25: =+QT!F25*RESUMEN!D23 -> 0 | F25: =+QT!G25*RESUMEN!$D23 -> 0 | G25: =+QT!H25*RESUMEN!D23 -> 0 | H25: =+QT!I25*RESUMEN!D23 -> 0 | I25: =+SUM(C25:H25) -> 11116.74
A26: TOTALES | C26: =+SUM(C4:C25) -> 753304.15 | D26: =+SUM(D4:D25) -> 0 | E26: =+SUM(E4:E25) -> 39470.78 | F26: =+SUM(F4:F25) -> 0 | G26: =+SUM(G4:G25) -> 0 | H26: =+SUM(H4:H25) -> 17918.125 | I26: =+SUM(I4:I25) -> 810693.06
