Workbook

Sheet SC-GGA-ET-05-A-01
B2: OBRA: | C2: Plan Integral de Mantenimiento Edilicio, de Equipamiento e Instalaciones Estación Constitucion
B3: LINEA ROCA
B5: ANEXO 01: Planilla de Cotización
B8: Resumen Contrato | G8: Primer Año
B9: ITEMS POR CERTIFICACION MENSUAL - Mantenimiento Predictivo, Preventivo, correctivo y limpieza Tecnica Integral
B10: 1 | C10: Mantenimiento Predictivo, Preventivo, correctivo y limpieza Tecnica Integral | G10: 0
B11: ITEMS ORDEN DE COMPRA ABIERTA - Tarea sobre demanda de Suministro de material y/o Mano de Obra, de trabajos relacionados con el plan de mantenimiento y limpieza tecnica Integral
B12: 2 | C12: Servicio de implementacion de elementos de reposicion inmediata (según listado desglozado del item1.03) | G12: 0
B13: 3 | C13: Adicional de activo fijo a incorporar al contrato de mantenimiento integral | G13: 0
B14: 4 | C14: Tareas sobre demanda - Mantenimiento Integral | G14: 0
B16: SUBTOTAL SIN IVA | G16: 0
B17: IVA 21% | G17: 0
B18: TOTAL | G18: 0
B24: ITEMS POR CERTIFICACION MENSUAL
C25: Mantenimiento Predictivo, Preventivo, correctivo y limpieza Tecnica
B26: Ítem | C26: Descripción | D26: UM | E26: Cant | F26: Precio Unit | G26: Precio Total
B27: 1 | C27: Mantenimiento Predictivo, Preventivo, correctivo y limpieza Tecnica
B28: 1.01 | C28: Oferta por servicio de Limpieza Tecnica según PET | D28: mes | E28: 12 | F28: 0 | G28: 0
B29: 1.02 | C29: Oferta por servicio de mantenimiento predictivo, preventivo y correctivo, según PET | D29: mes | E29: 12 | F29: 0 | G29: 0
B30: 1.03 | C30: Oferta por servicio de reposicion inmediata.
B31: 1.03.01 | C31: Software Gestión Mantenimiento CAFM mensual + licencia + startup | D31: mes | E31: 12 | F31: 0 | G31: 0
B35: ITEMS ORDEN DE COMPRA ABIERTA
C36: Tarea sobre demanda de Suministro de material y/o Mano de Obra, de trabajos relacionados con el plan de mantenimiento y limpieza tecnica Integral
B37: Ítem | C37: Descripción | D37: UM | E37: Cant | F37: Precio Unit | G37: Precio Total
B38: 2 | C38: Servicio de implementacion de elementos de reposicion inmediata
B39: 2.01 | C39: Montaje, Puesta a Punto y Prueba de Interruptor seccionador hasta 160A | D39: un | E39: 1 | F39: 0 | G39: 0
B40: 2.02 | C40: Montaje, Puesta a Punto y Prueba de Interruptor seccionador hasta 250A | D40: un | E40: 1 | F40: 0 | G40: 0
B41: 2.03 | C41: Montaje, Puesta a Punto y Prueba de Interruptor seccionador hasta 630A | D41: un | E41: 1 | F41: 0 | G41: 0
B42: 2.04 | C42: Montaje, Puesta a Punto y Prueba de Contactor para arranque directo o con inversión de marcha hasta 7,5 kW 380/415 V | D42: un | E42: 2 | F42: 0 | G42: 0
B43: 2.05 | C43: Montaje, Puesta a Punto y Prueba de Contactor para arranque directo o con inversión de marcha hasta 450 kW 380/400 V AC3 y 1600 A AC1 | D43: un | E43: 2 | F43: 0 | G43: 0
B44: 2.06 | C44: Montaje, Puesta a Punto y Prueba de Switch de 24 bocas full POE | D44: un | E44: 1 | F44: 0 | G44: 0
B45: 2.07 | C45: Montaje, Puesta a Punto y Prueba de Resistencia Termotanque 500 lt | D45: un | E45: 2 | F45: 0 | G45: 0
B46: 2.08 | C46: Montaje, Puesta a Punto y Prueba de Anodo de sacrificio Tanque 500 lt | D46: un | E46: 2 | F46: 0 | G46: 0
B47: 2.09 | C47: Montaje, Puesta a Punto y Prueba de BMS Server | D47: un | E47: 1 | F47: 0 | G47: 0
B48: 2.10 | C48: Montaje, Puesta a Punto y Prueba de Base para BMS Server | D48: un | E48: 2 | F48: 0 | G48: 0
B49: 2.11 | C49: Montaje, Puesta a Punto y Prueba de BMS Modulo FUENTE | D49: un | E49: 2 | F49: 0 | G49: 0
B50: 2.12 | C50: Montaje, Puesta a Punto y Prueba de BMS BASE PARA FUENTE | D50: un | E50: 2 | F50: 0 | G50: 0
... B64: 2.26 | C64: Montaje, Puesta a Punto y Prueba de Switch actuator KNX REG-K/8x230/16 w. | D64: un | E64: 3 | F64: 0 | G64: 0
B68: Ítem | C68: Descripción | D68: UN | E68: Cant | F68: Precio Unit | G68: Precio Total
B69: 3 | C69: Adicional de activo fijo a incorporar al contrato de mantenimiento integral
...

Sheet Hoja1
B4: ITEM | C4: Descripción | D4: Precio
A5: ITEMS POR CERTIFICACION MENSUAL - Mantenimiento Predictivo, Preventivo, correctivo y limpieza Técnica Integral | B5: 1 | C5: Mantenimiento Predictivo, Preventivo, correctivo y limpieza Técnica Integral | D5: 0
A6: ITEMS ORDEN DE COMPRA ABIERTA - Tarea sobre demanda de Suministro de material y/o Mano de Obra, de trabajos relacionados con el plan de mantenimiento y limpieza técnica Integral | B6: 2 | C6: Servicio de implementación de elementos de reposición inmediata (según listado desglosado del item1.03) | D6: 0
B7: 3 | C7: Adicional de activo fijo a incorporar al contrato de mantenimiento integral | D7: 0
B8: 4 | C8: Tareas sobre demanda - Mantenimiento Integral | D8: 0
C10: SUBTOTAL SIN IVA | D10: 0
C11: IVA 21% | D11: 0
C12: TOTAL | D12: 0

Sheet Costos
I1: 18 | J1: $/U$S
B2: OBRA: | C2: Plan Integral de Mantenimiento Edilicio, de Equipamiento e Instalaciones Estación Retiro | I2: 0.41 | J2: Mark up
B3: LINEA MITRE | I3: =Estudio!G82 -> 1.1948098 | J3: Mdeo
I4: =Estudio!G83 -> 1.049882 | J4: Materiales
B5: ANEXO I: Planilla de Cotización
B7: Resumen Contrato | G7: Primer Año | H7: Segundo Año
B8: ITEMS POR CERTIFICACION MENSUAL - Mantenimiento Predictivo, Preventivo, correctivo y limpieza Tecnica Integral
B9: =B26 -> 1.01 | C9: =C26 -> Oferta por servicio de Limpieza Tecnica según PET | G9: =G26 -> 7743755.1 | H9: =G182 -> 9012196.1
B10: =B27 -> 1.02 | C10: =C27 -> Oferta por servicio de mantenimiento predictivo, preventivo y correctivo, según PET | G10: =G27 -> 18068762 | H10: =G183 -> 21028458
B11: =B28 -> 1.03 | C11: =C28 -> Oferta por servicio de reposicion inmediata. | G11: =G28 -> 2664753.4 | H11: =G184 -> 2016788
B12: ITEMS ORDEN DE COMPRA ABIERTA - Tarea sobre demanda de Suministro de material y/o Mano de Obra, de trabajos relacionados con el plan de mantenimiento y limpieza tecnica Integral
B13: =B68 -> 2 | C13: =C68 -> Servicio de implementacion de elementos de reposicion inmediata (según listado desglozado del item1.03) | G13: =G68 -> 799426.01 | H13: =G185 -> 1479396.4
B14: =B105 -> 3 | C14: =C105 -> Adicional de activo fijo a incorporar al contrato de mantenimiento integral | G14: =G105 -> 1380319.5 | H14: =G186 -> 1429425.4
B15: =B146 -> 4 | C15: =C146 -> Tareas sobre demanda - Mantenimiento Integral | G15: =G146 -> 4557134.1 | H15: =G187 -> 4719257.6
B17: SUBTOTAL SIN IVA | G17: =SUM(G9:G15) -> 35214150 | H17: =SUM(H9:H15) -> 39685521
B18: IVA 21% | G18: =G17*21% -> 7394971.5 | H18: =H17*21% -> 8333959.4
B19: TOTAL | G19: =G17+G18 -> 42609121 | H19: =H17+H18 -> 48019481
I22: ANALIS 1er AÑO
B23: ITEMS POR CERTIFICACION MENSUAL
B24: A | C24: Mantenimiento Predictivo, Preventivo, correctivo y limpieza Tecnica | H24: =G26+G27+G28 -> 28477270 | I24: Costo real | J24: Mark up | K24: PV
B25: Ítem | C25: Descripción | D25: UM | E25: Cant | F25: Precio Unit | G25: Precio Total
B26: 1.01 | C26: Oferta por servicio de Limpieza Tecnica según PET | D26: mes | E26: 12 | F26: =K26 -> 645312.93 | G26: =E26*F26 -> 7743755.1 | I26: =((Gastos!H2/12)*0.3) -> 645312.93 | K26: =I26+J26 -> 645312.93 | M26: SER45000005N | N26: SERVICIO DE LIMPIEZA | O26: MES
B27: 1.02 | C27: Oferta por servicio de mantenimiento predictivo, preventivo y correctivo, según PET | D27: mes | E27: 12 | F27: =K27 -> 1505730.2 | G27: =E27*F27 -> 18068762 | I27: =((Gastos!H2/12)*0.7) -> 1505730.2 | K27: =I27+J27 -> 1505730.2 | M27: SER30000001N | N27: MANTENIMIENTO DE EDIFICIO E INSTALACIONES (PREVENTIVO) | O27: MES
B28: 1.03 | C28: Oferta por servicio de reposicion inmediata. | D28: mes | E28: 12 | F28: =SUM(G30:G63)/12 -> 222062.78 | G28: =E28*F28 -> 2664753.4 | M28: SER13500186N | N28: SERVICIO DE REACONDICIONAMIENTO DE OBRA | O28: UNID | Q28: =F68+F105+F146 -> 6736879.6
Q29: }
B30: 1.03.01 | C30: Software gestión mantenimiento CAFM | D30: un | E30: 12 | F30: =K30 -> 91650 | G30: =E30*F30 -> 1099800 | I30: 65000 | J30: =I30*$I$2 -> 26650 | K30: =I30+J30 -> 91650
B31: 1.03.02 | C31: Interruptor NSX 160 con modulo Vigi y protección electrónica Micrologig 5.2E | D31: un | E31: 2 | F31: =K31 -> 30456 | G31: =E31*F31 -> 60912 | I31: =1200*$I$1 -> 21600 | J31: =I31*$I$2 -> 8856 | K31: =I31+J31 -> 30456
B32: 1.03.03 | C32: Interruptor NSX 250 con modulo Vigi y protección electrónica Micrologig 5.2E | D32: un | E32: 2 | F32: =K32 -> 38070 | G32: =E32*F32 -> 76140 | I32: =1500*$I$1 -> 27000 | J32: =I32*$I$2 -> 11070 | K32: =I32+J32 -> 38070
B33: 1.03.04 | C33: Interruptor NSX 630 con modulo Vigi y protección electrónica Micrologig 5.2E | D33: un | E33: 2 | F33: =K33 -> 53298 | G33: =E33*F33 -> 106596 | I33: =2100*$I$1 -> 37800 | J33: =I33*$I$2 -> 15498 | K33: =I33+J33 -> 53298
B34: 1.03.05 | C34: Juego de Polipack hasta 250 A | D34: un | E34: 3 | F34: =K34 -> 9644.4 | G34: =E34*F34 -> 28933.2 | I34: =380*$I$1 -> 6840 | J34: =I34*$I$2 -> 2804.4 | K34: =I34+J34 -> 9644.4
B35: 1.03.06 | C35: Contactor LC 125 A, con modulo 2 Na+2 Nc | D35: un | E35: 5 | F35: =K35 -> 12309.3 | G35: =E35*F35 -> 61546.5 | I35: =485*$I$1 -> 8730 | J35: =I35*$I$2 -> 3579.3 | K35: =I35+J35 -> 12309.3
B36: 1.03.07 | C36: Contactor LC 160 A, con modulo 2 Na+2 Nc | D36: un | E36: 5 | F36: =K36 -> 15862.5 | G36: =E36*F36 -> 79312.5 | I36: =625*$I$1 -> 11250 | J36: =I36*$I$2 -> 4612.5 | K36: =I36+J36 -> 15862.5
B37: 1.03.08 | C37: Switch Poe WS-C2960-24PS-L | D37: un | E37: 1 | F37: =K37 -> 157356 | G37: =E37*F37 -> 157356 | I37: =6200*$I$1 -> 111600 | J37: =I37*$I$2 -> 45756 | K37: =I37+J37 -> 157356
B38: 1.03.09 | C38: Resistencia Termotanque 300 lts | D38: un | E38: 2 | F38: =K38 -> 10998 | G38: =E38*F38 -> 21996 | I38: 7800 | J38: =I38*$I$2 -> 3198 | K38: =I38+J38 -> 10998
B39: 1.03.10 | C39: Ánodo de sacrificio Termo Tanque de 300 lts | D39: un | E39: 2 | F39: =K39 -> 4794 | G39: =E39*F39 -> 9588 | I39: 3400 | J39: =I39*$I$2 -> 1394 | K39: =I39+J39 -> 4794
B40: 1.03.11 | C40: Kit reparación Evaporadora Mitsubishi - 210-150 | D40: un | E40: 5 | F40: =K40 -> 17484 | G40: =E40*F40 -> 87420 | I40: 12400 | J40: =I40*$I$2 -> 5084 | K40: =I40+J40 -> 17484
B41: 1.03.12 | C41: Kit reparación Condensadora Mitsubishi - 210-150 | D41: un | E41: 2 | F41: =K41 -> 45798.21 | G41: =E41*F41 -> 91596.42 | I41: 32481 | J41: =I41*$I$2 -> 13317.21 | K41: =I41+J41 -> 45798.21
B42: 1.03.13 | C42: BMS Server automación SXW AUTOMATION SERVER - P | D42: un | E42: 1 | F42: =K42 -> 121824 | G42: =E42*F42 -> 121824 | I42: =4800*I1 -> 86400 | J42: =I42*$I$2 -> 35424 | K42: =I42+J42 -> 121824
B43: 1.03.14 | C43: BMS SXW MODULO BASE AUT. SERVER P - AS-P | D43: un | E43: 3 | F43: =K43 -> 3807 | G43: =E43*F43 -> 11421 | I43: =150*I1 -> 2700 | J43: =I43*$I$2 -> 1107 | K43: =I43+J43 -> 3807
B44: 1.03.15 | C44: BMS Modulo FUENTE ALIMENTACION PS-24V para AS-P | D44: un | E44: 3 | F44: =K44 -> 10405.8 | G44: =E44*F44 -> 31217.4 | I44: =410*I1 -> 7380 | J44: =I44*$I$2 -> 3025.8 | K44: =I44+J44 -> 10405.8
...

Sheet Estudio
C2: Análisis económico del proyecto Primer año
A4: a | B4: Dado que los precios consultados, calculados y estimados, se realizaron con valores de venta al publico, se inicio el análisis con el estudio del coeficiente de pase de empresa.
C6: Formación del Mark Up | D6: %s/ costo
C7: Beneficio | D7: 0.21097046
C8: Gastos Generales de Sede | D8: 0.070323488
C9: Impuesto IIBB | D9: 0.05625879
C10: Impuesto al Cheque | D10: 0.014064698
C11: Seguros | D11: 0.016877637
C12: Costos Financieros | D12: 0.014064698
C13: Sellados | D13: 0.0070323488
C14: Imprevistos | D14: 0.016877637
C16: Total Mark up | D16: 0.40646976
A18: b | B18: Luego se procedió a la división de costos, entre contrato por certificación mensual y trabajos sobre demanda, teniendo en cuenta que para la primer parte, se descompone en 3 (tres) ítems principales, recursos humanos (costos directos e indirectos), materiales menores y sub contratos exigidos, que se incluirán en la Orden de compra por ajuste alzado, que corresponde a los puntos 1,01 y 1,02 de la planilla de cotización y el ítem 1.03, corresponde al servicio de reposición inmediata, para lo cual se procedió con la solicitud de apertura de precios para poder evaluar mas cuantitativamente las ofertas que recibiremos.
B20: =Costos!B24 -> A | C20: =Costos!C24 -> Mantenimiento Predictivo, Preventivo, correctivo y limpieza Tecnica | D20: Costo | E20: Mark Up | F20: Total parcial | G20: Total RC
A21: RC 1 | B21: 1,01 y 1,02 | C21: =Gastos!C4 -> RRHH Directo e indirecto | D21: =F21/(1+$D$16) -> 13992480 | E21: =D21*$D$16 -> 5687520 | F21: =Gastos!H4 -> 19680000 | G21: =SUM(F21:F25) -> 25812517
C22: =Gastos!C18 -> Sub contratos | D22: =F22/(1+$D$16) -> 867135.6 | E22: =D22*$D$16 -> 352464.4 | F22: =Gastos!H18 -> 1219600
C23: =Gastos!C33 -> Insumos y consumibles | D23: =F23/(1+$D$16) -> 2072707.2 | E23: =D23*$D$16 -> 842492.8 | F23: =Gastos!H33 -> 2915200
C24: =Gastos!C48 -> Material mantenimiento | D24: =F24/(1+$D$16) -> 656964 | E24: =D24*$D$16 -> 267036 | F24: =Gastos!H48 -> 924000
C25: =Gastos!C62 -> Equipamiento y consumibles limpieza | D25: =F25/(1+$D$16) -> 763412.79 | E25: =D25*$D$16 -> 310304.21 | F25: =Gastos!H62 -> 1073717
B26: =Costos!B28 -> 1.03 | C26: =Costos!C28 -> Oferta por servicio de reposicion inmediata. | D26: =F26/(1+$D$16) -> 1894639.6 | E26: =D26*$D$16 -> 770113.72 | F26: =Costos!G11 -> 2664753.4 | G26: =F26 -> 2664753.4
C28: Totales | D28: =SUM(D21:D26) -> 20247339 | E28: =SUM(E21:E26) -> 8229931.1 | G28: =SUM(G21:G26) -> 28477270
A49: c | B49: En siguiente lugar se procedió a la evaluación de la segunda parte del contrato, que será por metodología de servicios a demanda, los mismos se dividieron, en 3 (tres) ítems, a saber:
B50: Ítem de planilla de cotización 2.01, se forma con las valoraciones de trabajos de servicio de mano de obra a demanda para hacer uso de las unidades correspondientes a los servicios de reposición inmediata en caso de ser necesaria su aplicación, este ítem, podrá ser certificado en su totalidad o no, dependiendo de la necesidad y funcionamiento de las instalaciones.
B51: El valor indicado en el ítem 2.02, corresponde a la mano de Obra y materiales menores que corresponden al servicio de mantenimiento, para áreas, equipos, e instalaciones que se incorporen durante el contrato, esto aplica a medida que se vayan finalizando las obras dentro del área de incidencia de la prestación del servicio, para este punto aplicaran en su totalidad las mismas clausulas del pliego, este ítem 3.2, podrá ser certificado en su totalidad o no, dependiendo de la finalización de las obras y pase a patrimonio de las mismas.
B52: Por ultimo, se analizo el valor indicado en el ítem 2.03, que corresponde a la mano de Obra y materiales que corresponden al alcance de fuera de contrato por ajuste alzado del servicio de mantenimiento, para infraestructura, equipos, e instalaciones que pudieran sufrir un daño, esto aplica solo en caso de que ocurra. aplicándose la misma modalidad contractual que los dos ítems anteriores.
B54: =Costos!B66 -> B | C54: =Costos!C66 -> Tarea sobre demanda de Suministro de material y/o Mano de Obra, de trabajos relacionados con el plan de mantenimiento y limpieza tecnica Integral | D54: Costo | E54: Mark Up | F54: Total parcial | G54: Total RC
A55: RC 2 | B55: =Costos!B68 -> 2 | C55: =Costos!C68 -> Servicio de implementacion de elementos de reposicion inmediata (según listado desglozado del item1.03) | D55: =F55/(1+$D$16) -> 568391.89 | E55: =D55*$D$16 -> 231034.12 | F55: =Costos!G13 -> 799426.01 | G55: =SUM(F55:F57) -> 6736879.6
B56: =Costos!B105 -> 3 | C56: =Costos!C105 -> Adicional de activo fijo a incorporar al contrato de mantenimiento integral | D56: =F56/(1+$D$16) -> 981407.16 | E56: =D56*$D$16 -> 398912.34 | F56: =Costos!G14 -> 1380319.5
B57: =Costos!B146 -> 4 | C57: =Costos!C146 -> Tareas sobre demanda - Mantenimiento Integral | D57: =F57/(1+$D$16) -> 3240122.3 | E57: =D57*$D$16 -> 1317011.8 | F57: =Costos!G15 -> 4557134.1
C59: Totales | D59: =F59/(1+$D$16) -> 0 | E59: =D59*$D$16 -> 0 | G59: =SUM(G55:G57) -> 6736879.6
C77: Análisis económico del proyecto Segundo año
A79: d | B79: Como primera medida para el estudio de la proyección de incrementos económicos para el segundo año, se estudiaron los índices inter anuales del Indec para los rubros que aplican en este contrato y se estimo una proyección de inflación menor según, las previsiones adoptadas por el Poder Ejecutivo adoptando un 12% de decrecimiento de las variables inter anuales
B81: Valor de actualización inter anual del Indec (Decreto 1295/2002 Artículo 15) | F81: Coeficiente evolución (2016 - 2017) | G81: Coeficiente evolución (2017 - 2018)
B82: Evolución de índice de Mano de Obra (Tabla 1.4) | F82: ='ICC (2)'!AB10/'ICC (2)'!O10 -> 1.3577385 | G82: =F82-(F82*0.12) -> 1.1948098
B83: Promedio de evolución de Índices de Materiales y Equipos (Tablas 1,5 a 1,9) | F83: =AVERAGE('ICC (2)'!AB12:AB20)/AVERAGE('ICC (2)'!O12:O20) -> 1.1930477 | G83: =F83-(F83*0.12) -> 1.049882
A85: e | B85: Como segunda medida se estudio el crecimiento y disminución de los recursos humanos, materiales directos e indirectos, manteniendo el componente de Mark Up, de la empresa con los mismos valores, además se aplica a los trabajos que involucra material y mano de obra, un 50% de valor a mano de obra y un 50% a material.
B87: =B20 -> A | C87: =C20 -> Mantenimiento Predictivo, Preventivo, correctivo y limpieza Tecnica | D87: =D20 -> Costo | E87: =E20 -> Mark Up | F87: =F20 -> Total parcial | G87: =G20 -> Total RC
A88: RC 3 | B88: =B21 -> 1,01 y 1,02 | C88: =C21 -> RRHH Directo e indirecto | D88: =D21*$G$82 -> 16718353 | E88: =D88*$D$16 -> 6795504.9 | F88: =D88+E88 -> 23513858 | G88: =SUM(F88:F92) -> 30040654
C89: =C22 -> Sub contratos | D89: =(D22*0.5*$G$83)+(D22*0.5*$G$82) -> 973226.08 | E89: =D89*$D$16 -> 395586.97 | F89: =D89+E89 -> 1368813.1
C90: =C23 -> Insumos y consumibles | D90: =D23*$G$83 -> 2176097.9 | E90: =D90*$D$16 -> 884517.99 | F90: =D90+E90 -> 3060615.9
...

Sheet Gastos
C2: Total Gasto | H2: =SUM(H4:H274) -> 25812517
C4: RRHH Directo e indirecto | H4: =SUM(G6:G14) -> 19680000
B5: Ítem | C5: Descripción | D5: Cant RRHH | E5: Sueldo + II | F5: Cant | G5: TOTAL
B6: 1 | C6: REPRESENTANTE TÉCNICO | D6: 1 | E6: 25000 | F6: 12 | G6: =D6*E6*F6 -> 300000
B7: 2 | C7: REFERENTE TÉCNICO | D7: 1 | E7: 25000 | F7: 12 | G7: =D7*E7*F7 -> 300000
B8: 3 | C8: SUPERVISOR DE MANTENIMIENTO INTEGRAL | D8: 4 | E8: 85000 | F8: 12 | G8: =D8*E8*F8 -> 4080000
B9: 4 | C9: SUPERVISOR DE LIMPIEZA TÉCNICA | D9: 4 | E9: 65000 | F9: 12 | G9: =D9*E9*F9 -> 3120000
B10: 5 | C10: PROFESIONAL EN SEGURIDAD E HIGIENE | D10: 1 | E10: 30000 | F10: 12 | G10: =D10*E10*F10 -> 360000
B11: 6 | C11: CUADRILLA OPERATIVA PERMANENTE IN SITU | D11: 8 | E11: 60000 | F11: 12 | G11: =D11*E11*F11 -> 5760000
B12: 7 | C12: TÉCNICO MULTIGREMIO BMS / CAFM / PME / REVIT | D12: 2 | E12: 60000 | F12: 12 | G12: =D12*E12*F12 -> 1440000
B13: 8 | C13: AUXILIARES DE LIMPIEZA TÉCNICA | D13: 6 | E13: 40000 | F13: 12 | G13: =D13*E13*F13 -> 2880000
B14: 9 | C14: STAFF LOGÍSTICA / SERVICIOS GENERALES | D14: 2 | E14: 60000 | F14: 12 | G14: =D14*E14*F14 -> 1440000
C18: Sub contratos | H18: =SUM(G20:G29) -> 1219600
B19: Ítem | C19: Descripción | D19: Cant | E19: Contrato | F19: Periodo | G19: TOTAL
B20: 1 | C20: Mantenimiento Ascensores | D20: 2 | E20: 12000 | F20: 12 | G20: =D20*E20*F20 -> 288000
B21: 2 | C21: UPS (Mantenimiento rutina + asistencia 2Hs) | D21: 1 | E21: 18500 | F21: 12 | G21: =D21*E21*F21 -> 222000
B22: 3 | C22: Grupos Electrógenos (Mantenimiento rutina + asistencia 2Hs) | D22: 1 | E22: 11000 | F22: 12 | G22: =D22*E22*F22 -> 132000
B23: 4 | C23: TGBT + Blindo Barras | D23: 1 | E23: 12000 | F23: 4 | G23: =D23*E23*F23 -> 48000
B24: 5 | C24: Detección y Aviso | D24: 1 | E24: 4500 | F24: 12 | G24: =D24*E24*F24 -> 54000
B25: 6 | C25: Plan de SSHH | D25: 1 | E25: 4800 | F25: 12 | G25: =D25*E25*F25 -> 57600
B26: 7 | C26: Termografías, Prueba D Dif, TM y PAT | D26: 1 | E26: 25000 | F26: 4 | G26: =D26*E26*F26 -> 100000
B27: 8 | C27: Extinción (Agua y FM200) | D27: 1 | E27: 4500 | F27: 12 | G27: =D27*E27*F27 -> 54000
B28: 9 | C28: Desratización y Fumigación | D28: 1 | E28: 17000 | F28: 12 | G28: =D28*E28*F28 -> 204000
B29: 10 | C29: otros 2 | D29: 1 | E29: 5000 | F29: 12 | G29: =D29*E29*F29 -> 60000
C33: Insumos y consumibles | H33: =SUM(G35:G44) -> 2915200
B34: Ítem | C34: Descripción | D34: Cant | E34: Costo | F34: Cant | G34: TOTAL
B35: 1 | C35: Ropa y equipos | D35: =SUM(Gastos!D36:D43) -> 68 | E35: 1500 | F35: 6 | G35: =D35*E35*F35 -> 612000
B36: 2 | C36: Elementos de seguridad | D36: 10 | E36: 2500 | F36: 2 | G36: =D36*E36*F36 -> 50000
B37: 3 | C37: PC + Impresora | D37: 3 | E37: 35000 | F37: 12 | G37: =D37*E37*F37 -> 1260000
B38: 4 | C38: Telefonía + Internet | D38: 20 | E38: 2500 | F38: 12 | G38: =D38*E38*F38 -> 600000
B39: 5 | C39: Librería | D39: 1 | E39: 3500 | F39: 12 | G39: =D39*E39*F39 -> 42000
B40: 6 | C40: Dietas | D40: 28 | E40: 200 | F40: 12 | G40: =D40*E40*F40 -> 67200
B41: 7 | C41: Mobiliario | D41: 4 | E41: 5000 | F41: 1 | G41: =D41*E41*F41 -> 20000
B42: 8 | C42: Contenedores equipados | D42: 1 | E42: 12000 | F42: 12 | G42: =D42*E42*F42 -> 144000
B43: 9 | C43: otros | D43: 1 | E43: 5000 | F43: 12 | G43: =D43*E43*F43 -> 60000
B44: 10 | C44: otros | D44: 1 | E44: 5000 | F44: 12 | G44: =D44*E44*F44 -> 60000
C48: Material mantenimiento | H48: =SUM(G50:G59) -> 924000
B49: Ítem | C49: Descripción | D49: Cant | E49: Costo | F49: Cant | G49: TOTAL
B50: 1 | C50: Eléctrica | D50: 8 | E50: 2500 | F50: 12 | G50: =D50*E50*F50 -> 240000
B51: 2 | C51: Sanitaria | D51: 2 | E51: 1500 | F51: 4 | G51: =D51*E51*F51 -> 12000
...

Sheet Aux 3p y Anexo
B3: INDICADOR LUMINOSO DE SALIDA DE EMERGENCIA. | C3: 26
B4: Artefacto LED 30 x 30 s/pliegos | C4: 13
B5: Artefacto LED 30 x 30 s/pliegos. Con Equipo de Iluminción de Emergencia | C5: 5
B6: Artefacto LED 60 x 60 s/pliegos | C6: 63
B7: Artefacto LED 60 x 60 s/pliegos. Con Equipo de Iluminción de Emergencia | C7: 10
B8: Tableros Seccional | C8: 9
B9: Parlante Audio 0,5-2W | C9: 13
B10: Rociador Mont. K5,6 68°C | C10: 165
B11: Rociador Pend. K5,6 68°C | C11: 165
B12: ROCIADOR SIDEWALL K 5.6 68°C | C12: 5
B13: Detector Foto Ambiente/Cielorraso | C13: 189
B14: DETECTOR TERMICO para central incendio | C14: 5
... B40: ARTEFACTOS DE ILUMINACIÓN DE APLICAR, MODELO PLAFÓN 31802 LED, MARCA PHILIPS O CALIDAD SUPERIOR. CON EQUIPO DE EMERGENCIA. | C40: 25

Sheet ICC (2)
A1: ÍNDICE DEL COSTO DE LA CONSTRUCCIÓN EN EL GRAN BUENOS AIRES (ICC), base 1993=100
A2: Índices de los componentes incluidos en el Decreto 1295/2002. Octubre-Diciembre 2015 y años 2016-2017
A3: Información estadística para la redeterminación de precios de contratos de obra pública
A5: Importante: para facilitar su utilización en la redeterminación de precios de contratos de obra pública se presenta el Índice con período de referencia Octubre 2015=100
A7: Decreto 1295/2002 Artículo 15 - inciso | B7: Insumos | C7: INDEC INFORMA Cuadro ó código CPC (1) | D7: Descripción de la apertura ICC | E7: 2015 | I7: 2016 | V7: 2017
C8: Revista Indec Informa/código CPC | E8: Oct | F8: Nov | G8: Dic | I8: Ene | J8: Feb | K8: Mar | L8: Abr | M8: May | N8: Jun | O8: Jul | P8: Ago | Q8: Sep | R8: Oct | S8: Nov | T8: Dic | V8: Ene | W8: Feb* | X8: Mar* | Y8: Abr* | Z8: May* | AA8: Jun* | AB8: Jul*
A10: a) | B10: Mano de obra | C10: Cuadro 1.4 | D10: Capítulo Mano de obra | E10: 100 | F10: 100.14994 | G10: 100.4061 | I10: 100.63101 | J10: 100.7872 | K10: 101.39323 | L10: 119.96751 | M10: 122.679 | N10: 123.40997 | O10: 122.87892 | P10: 122.5353 | Q10: 123.01637 | R10: 133.64988 | S10: 135.09309 | T10: 135.79283 | V10: 140.38486 | W10: 140.54105 | X10: 140.60977 | Y10: 152.9239 | Z10: 154.41085 | AA10: 155.29177 | AB10: 166.83744
A11: b) | B11: Albañilería | C11: Cuadro 1.5 | D11: Ítem albañilería | E11: 100 | F11: 100.63568 | G11: 102.46251 | I11: 103.74005 | J11: 104.78306 | K11: 105.46195 | L11: 122.69333 | M11: 123.83509 | N11: 124.13751 | O11: 124.18071 | P11: 124.32883 | Q11: 125.26075 | R11: 134.78368 | S11: 136.40684 | T11: 137.00549 | V11: 141.50466 | W11: 142.30081 | X11: 142.8686 | Y11: 154.57014 | Z11: 155.21817 | AA11: 155.60081 | AB11: 165.97544
A12: d) | B12: Carpinterías | C12: Cuadro 1.5 | D12: Ítem Carpintería metálica y herrería | E12: 100 | F12: 100.93036 | G12: 107.70867 | I12: 112.94524 | J12: 113.8756 | K12: 115.86922 | L12: 121.01276 | M12: 121.79692 | N12: 125.35885 | O12: 125.37214 | P12: 125.8639 | Q12: 126.06326 | R12: 126.50186 | S12: 127.64487 | T12: 129.87772 | V12: 130.72834 | W12: 132.15045 | X12: 132.85486 | Y12: 133.46624 | Z12: 135.72568 | AA12: 135.80542 | AB12: 136.61616
A13: f) | B13: Andamios (2) | C13: Cuadro 1.6 | D13: Alquiler de Andamios | E13: 100 | F13: 100.87002 | G13: 105.59296 | I13: 106.06939 | J13: 109.64267 | K13: 119.48213 | L13: 125.91403 | M13: 132.85344 | N13: 133.98239 | O13: 135.08027 | P13: 135.7535 | Q13: 135.96064 | R13: 134.64526 | S13: 135.85707 | T13: 137.42103 | V13: 138.63283 | W13: 139.14034 | X13: 145.67582 | Y13: 148.30658 | Z13: 149.24909 | AA13: 151.50699 | AB13: 155.01813
A14: g) | B14: Artefactos de iluminación y cableado | C14: Cuadro 1.5 | D14: Ítem Instalación eléctrica | E14: 100 | F14: 100.51318 | G14: 107.7243 | I14: 112.63493 | J14: 114.72306 | K14: 115.48399 | L14: 118.64272 | M14: 132.07397 | N14: 132.90568 | O14: 134.72837 | P14: 134.50717 | Q14: 134.90533 | R14: 139.02849 | S14: 145.3548 | T14: 146.04495 | V14: 149.5576 | W14: 151.45992 | X14: 151.57494 | Y14: 151.95541 | Z14: 159.40541 | AA14: 161.27234 | AB14: 171.84569
A15: h) | B15: Caños de PVC para instalaciones varias | C15: Cuadro 1.9 | D15: Caños de PVC | E15: 100 | F15: 103.92031 | G15: 112.66067 | I15: 122.43645 | J15: 126.84233 | K15: 135.98972 | L15: 139.98857 | M15: 141.53813 | N15: 142.16652 | O15: 142.55927 | P15: 143.6661 | Q15: 143.5447 | R15: 145.42274 | S15: 145.37275 | T15: 147.7435 | V15: 147.75064 | W15: 148.17195 | X15: 151.16395 | Y15: 153.6918 | Z15: 156.42674 | AA15: 156.34819 | AB15: 161.88232
A16: p) | B16: Gastos generales | C16: Cuadro 1.4 | D16: Capítulo Gastos generales | E16: 100 | F16: 100.50303 | G16: 102.39723 | I16: 105.58044 | J16: 115.46019 | K16: 118.51765 | L16: 126.57392 | M16: 130.74747 | N16: 135.9585 | O16: 139.07883 | P16: 141.57038 | Q16: 142.16773 | R16: 149.87817 | S16: 153.83164 | T16: 154.27179 | V16: 156.55113 | W16: 174.21206 | X16: 180.46058 | Y16: 188.6269 | Z16: 191.22062 | AA16: 195.11122 | AB16: 201.34402
A17: r) | B17: Artefactos para baño y grifería | C17: Cuadro 1.5 | D17: Ítem Instalación sanitaria y contra incendio | E17: 100 | F17: 102.1249 | G17: 106.08102 | I17: 110.90956 | J17: 112.48164 | K17: 114.43379 | L17: 116.97331 | M17: 124.44502 | N17: 125.15332 | O17: 125.93072 | P17: 126.49218 | Q17: 127.64101 | R17: 129.05761 | S17: 131.00976 | T17: 133.97253 | V17: 135.84694 | W17: 137.08215 | X17: 139.57847 | Y17: 140.14857 | Z17: 142.15254 | AA17: 146.53192 | AB17: 147.60301
A18: s) | B18: Hormigón | C18: Cuadro 1.9 | D18: Hormigón elaborado | E18: 100 | F18: 102.14736 | G18: 105.84081 | I18: 110.51727 | J18: 114.43978 | K18: 116.28173 | L18: 116.75892 | M18: 121.14907 | N18: 121.17771 | O18: 127.84883 | P18: 127.86791 | Q18: 131.1987 | R18: 132.27715 | S18: 133.86142 | T18: 136.6673 | V18: 141.09563 | W18: 146.65967 | X18: 151.31705 | Y18: 152.66272 | Z18: 156.7761 | AA18: 161.0899 | AB18: 166.47261
A19: u) | B19: Válvulas de bronce | C19: 4324041 | D19: Llave esclusa de bronce | E19: 100 | F19: 101.0995 | G19: 105.86398 | I19: 105.86398 | J19: 107.98801 | K19: 108.44196 | L19: 111.04077 | M19: 111.04077 | N19: 113.92279 | O19: 113.92279 | P19: 113.92279 | Q19: 113.98526 | R19: 114.86819 | S19: 114.80571 | T19: 114.80571 | V19: 114.80571 | W19: 114.58082 | X19: 117.6669 | Y19: 117.6669 | Z19: 121.12365 | AA19: 121.12365 | AB19: 124.92608
A20: v) | B20: Electrobombas | C20: 4322032 | D20: Electrobomba trifásica 7,5 HP | E20: 100 | F20: 101.98618 | G20: 108.34413 | I20: 125.47496 | J20: 132.27547 | K20: 151.30613 | L20: 152.87133 | M20: 152.16969 | N20: 152.61226 | O20: 153.41105 | P20: 153.63774 | Q20: 152.25604 | R20: 153.91839 | S20: 156.45509 | T20: 154.09111 | V20: 156.99482 | W20: 157.48057 | X20: 157.10276 | Y20: 158.84067 | Z20: 159.59629 | AA20: 162.82383 | AB20: 163.4823
A22: (1) Clasificación Central Provisional de Productos (CPC) elaborada por la ONU.
A23: (2) Para la presentación de los valores del inciso f) desde el mes de agosto de 2006 se adoptó el promedio ponderado para agrupar los índices de los distintos tipos de alquiler de andamios.
A24: * Dato provisorio.
A26: Nota: se informa que los cuadros publicados que dan cumplimiento al Decreto 1295/2002 del período febrero 2017-julio 2017 (ICC) y enero 2016-julio 2017 (IPIB) contienen datos preliminares.
A28: Fuente: INDEC.
