Workbook
Name Consultor_de_Procesos: Tablas!$H$47:$H$51
Name Consultor_Sr._de_Procesos: Tablas!$H$39:$H$43
Name Gerente_de_Servicio_de_Apoyo_a_la_Implementación: Tablas!$H$26
Name Gestor_del_Cambio: Tablas!$H$55
Name Gestor_del_Riesgo: Tablas!$H$58
Name Project_Manager: Tablas!$H$30:$H$35

Sheet Instrucciones
A1: "DM Recursos":
A2: Se sugiere completar esta planilla en primer lugar, para utilizar los datos en las hojas correspondientes al "Plan de Recursos"
A3: - Apellido y Nombre del Recurso: se sugiere completar los datos si ya se dispone del recurso, o identificarlo de alguna forma práctica. Ejemplo: <Rol o proceso><#> = Abastecimiento1, Abastecimiento2, Abastecimiento3, etc
A4: - Rol / Proceso: seleccionar alguna de las opciones que aparecen en la lista desplegable. En caso de seleccionar "Otro", describir sintéticamente el rol en la columna "Aclaracion".
A5: - Experiencia: la opción seleccionada deberá estar alineada con la ficha técnica del recurso
A9: "Plan de Recursos":
A10: Se sugiere el siguiente orden:
A11: - Apellido y Nombre del Recurso: seleccionar el Apellido y Nombra (la lista surge de los datos informados en la hoja "DM Recursos"). Se completarán automáticamente las columnas "Rol" y "Proceso". La columna "Valor / hora (en pesos argentinos)" también se completará automáticamente, pero en éste caso es un campo editable
A12: - Horas Mes 1 / Horas Mes 2… (Columna M en adelante) : completar las horas por mes estimadas para la etapa y el recurso. La sumatoria de las horas estimadas se reflejará en la columna "Cantidad de Horas Cotizadas"

Sheet Hoja 1 Datos Maestros
A1: COTIZACIÓN POR LINEA DE LA LICITACIÓN
A2: OFERENTE:
A3: SERVICIOS DE APOYO A LA IMPLEMENTACIÓN
A5: ID Recurso | B5: Apellido y Nombre del Recurso | C5: Rol | D5: Proceso / Frente | E5: Aclaración | F5: Experiencia
A6: Recurso 1
A7: Recurso 2
A8: Recurso 3
A9: Recurso 4
A10: Recurso 5
A11: Recurso 6
A12: Recurso 7
A13: Recurso 8
A14: Recurso 9
A15: Recurso 10
A16: Recurso 11
A17: Recurso 12
... A55: Recurso 50

Sheet Plan de Recursos Etapa 1
A1: COTIZACIÓN POR LINEA DE LA LICITACIÓN
A2: OFERENTE:
A3: SERVICIOS DE APOYO A LA IMPLEMENTACIÓN
B5: Fase de Proyecto (debe incluir todas las fases de la metodología propuesta) | C5: Servicio | D5: Apellido y Nombre del Recurso | E5: Rol | F5: Proceso | G5: Experiencia | H5: Cantidad de Horas Cotizadas | I5: Aclaración | L5: Cant. Horas Mes 1 | M5: Cant. Horas Mes 2 | N5: Cant. Horas Mes 3 | O5: Cant. Horas Mes 4 | P5: Cant. Horas Mes 5 | Q5: Cant. Horas Mes 6 | R5: Cant. Horas Mes 7 | S5: Cant. Horas Mes 8 | T5: Cant. Horas Mes 9 | U5: Cant. Horas Mes 10 | V5: Cant. Horas Mes 11 | W5: Cant. Horas Mes 12 | X5: Cant. Horas Mes 13 | Y5: Cant. Horas Mes 14 | Z5: Cant. Horas Mes 15 | AA5: Cant. Horas Mes 16 | AB5: Cant. Horas Mes 17 | AC5: Cant. Horas Mes 18 | AD5: Cant. Horas Mes 19 | AE5: Cant. Horas Mes 20 | AF5: Cant. Dias Mes 21 | AG5: Cant. Dias Mes 22 | AH5: Cant. Dias Mes 23 | AI5: Cant. Dias Mes 24
E6: =+IF(ISERROR(VLOOKUP($D6,'Hoja 1 Datos Maestros'!$B$6:$F$55,2,FALSE)=TRUE),"",VLOOKUP($D6,'Hoja 1 Datos Maestros'!$B$6:$F$55,2,FALSE)) | F6: =+IF(ISERROR(VLOOKUP($D6,'Hoja 1 Datos Maestros'!$B$6:$F$55,3,FALSE)=TRUE),"",VLOOKUP($D6,'Hoja 1 Datos Maestros'!$B$6:$F$55,3,FALSE)) | G6: =+IF(ISERROR(VLOOKUP($D6,'Hoja 1 Datos Maestros'!$B$6:$F$55,4)=TRUE),"",VLOOKUP($D6,'Hoja 1 Datos Maestros'!$B$6:$F$55,4)) | H6: =+SUM(L6:AI6) -> 0 | J6: =+IF(ISERROR(VLOOKUP(B6&E6,Tablas!$N$102:$O$200,2,FALSE)=TRUE),"No definido",VLOOKUP(B6&E6,Tablas!N102:O155,2,FALSE)) -> No definido
E7: =+IF(ISERROR(VLOOKUP($D7,'Hoja 1 Datos Maestros'!$B$6:$F$55,2,FALSE)=TRUE),"",VLOOKUP($D7,'Hoja 1 Datos Maestros'!$B$6:$F$55,2,FALSE)) | F7: =+IF(ISERROR(VLOOKUP($D7,'Hoja 1 Datos Maestros'!$B$6:$F$55,3,FALSE)=TRUE),"",VLOOKUP($D7,'Hoja 1 Datos Maestros'!$B$6:$F$55,3,FALSE)) | G7: =+IF(ISERROR(VLOOKUP($D7,'Hoja 1 Datos Maestros'!$B$6:$F$55,4)=TRUE),"",VLOOKUP($D7,'Hoja 1 Datos Maestros'!$B$6:$F$55,4)) | H7: =+SUM(L7:AI7) -> 0 | J7: =+IF(ISERROR(VLOOKUP(B7&E7,Tablas!$N$102:$O$200,2,FALSE)=TRUE),"No definido",VLOOKUP(B7&E7,Tablas!N103:O156,2,FALSE)) -> No definido
E8: =+IF(ISERROR(VLOOKUP($D8,'Hoja 1 Datos Maestros'!$B$6:$F$55,2,FALSE)=TRUE),"",VLOOKUP($D8,'Hoja 1 Datos Maestros'!$B$6:$F$55,2,FALSE)) | F8: =+IF(ISERROR(VLOOKUP($D8,'Hoja 1 Datos Maestros'!$B$6:$F$55,3,FALSE)=TRUE),"",VLOOKUP($D8,'Hoja 1 Datos Maestros'!$B$6:$F$55,3,FALSE)) | G8: =+IF(ISERROR(VLOOKUP($D8,'Hoja 1 Datos Maestros'!$B$6:$F$55,4)=TRUE),"",VLOOKUP($D8,'Hoja 1 Datos Maestros'!$B$6:$F$55,4)) | H8: =+SUM(L8:AI8) -> 0 | J8: =+IF(ISERROR(VLOOKUP(B8&E8,Tablas!$N$102:$O$200,2,FALSE)=TRUE),"No definido",VLOOKUP(B8&E8,Tablas!N104:O157,2,FALSE)) -> No definido
E9: =+IF(ISERROR(VLOOKUP($D9,'Hoja 1 Datos Maestros'!$B$6:$F$55,2,FALSE)=TRUE),"",VLOOKUP($D9,'Hoja 1 Datos Maestros'!$B$6:$F$55,2,FALSE)) | F9: =+IF(ISERROR(VLOOKUP($D9,'Hoja 1 Datos Maestros'!$B$6:$F$55,3,FALSE)=TRUE),"",VLOOKUP($D9,'Hoja 1 Datos Maestros'!$B$6:$F$55,3,FALSE)) | G9: =+IF(ISERROR(VLOOKUP($D9,'Hoja 1 Datos Maestros'!$B$6:$F$55,4)=TRUE),"",VLOOKUP($D9,'Hoja 1 Datos Maestros'!$B$6:$F$55,4)) | H9: =+SUM(L9:AI9) -> 0 | J9: =+IF(ISERROR(VLOOKUP(B9&E9,Tablas!$N$102:$O$200,2,FALSE)=TRUE),"No definido",VLOOKUP(B9&E9,Tablas!N105:O158,2,FALSE)) -> No definido
E10: =+IF(ISERROR(VLOOKUP($D10,'Hoja 1 Datos Maestros'!$B$6:$F$55,2,FALSE)=TRUE),"",VLOOKUP($D10,'Hoja 1 Datos Maestros'!$B$6:$F$55,2,FALSE)) | F10: =+IF(ISERROR(VLOOKUP($D10,'Hoja 1 Datos Maestros'!$B$6:$F$55,3,FALSE)=TRUE),"",VLOOKUP($D10,'Hoja 1 Datos Maestros'!$B$6:$F$55,3,FALSE)) | G10: =+IF(ISERROR(VLOOKUP($D10,'Hoja 1 Datos Maestros'!$B$6:$F$55,4)=TRUE),"",VLOOKUP($D10,'Hoja 1 Datos Maestros'!$B$6:$F$55,4)) | H10: =+SUM(L10:AI10) -> 0 | J10: =+IF(ISERROR(VLOOKUP(B10&E10,Tablas!$N$102:$O$200,2,FALSE)=TRUE),"No definido",VLOOKUP(B10&E10,Tablas!N106:O159,2,FALSE)) -> No definido
E11: =+IF(ISERROR(VLOOKUP($D11,'Hoja 1 Datos Maestros'!$B$6:$F$55,2,FALSE)=TRUE),"",VLOOKUP($D11,'Hoja 1 Datos Maestros'!$B$6:$F$55,2,FALSE)) | F11: =+IF(ISERROR(VLOOKUP($D11,'Hoja 1 Datos Maestros'!$B$6:$F$55,3,FALSE)=TRUE),"",VLOOKUP($D11,'Hoja 1 Datos Maestros'!$B$6:$F$55,3,FALSE)) | G11: =+IF(ISERROR(VLOOKUP($D11,'Hoja 1 Datos Maestros'!$B$6:$F$55,4)=TRUE),"",VLOOKUP($D11,'Hoja 1 Datos Maestros'!$B$6:$F$55,4)) | H11: =+SUM(L11:AI11) -> 0 | J11: =+IF(ISERROR(VLOOKUP(B11&E11,Tablas!$N$102:$O$200,2,FALSE)=TRUE),"No definido",VLOOKUP(B11&E11,Tablas!N107:O160,2,FALSE)) -> No definido
E12: =+IF(ISERROR(VLOOKUP($D12,'Hoja 1 Datos Maestros'!$B$6:$F$55,2)=TRUE),"",VLOOKUP($D12,'Hoja 1 Datos Maestros'!$B$6:$F$55,2)) | F12: =+IF(ISERROR(VLOOKUP($D12,'Hoja 1 Datos Maestros'!$B$6:$F$55,3)=TRUE),"",VLOOKUP($D12,'Hoja 1 Datos Maestros'!$B$6:$F$55,3)) | G12: =+IF(ISERROR(VLOOKUP($D12,'Hoja 1 Datos Maestros'!$B$6:$F$55,4)=TRUE),"",VLOOKUP($D12,'Hoja 1 Datos Maestros'!$B$6:$F$55,4)) | H12: =+SUM(L12:AI12) -> 0 | J12: =+IF(ISERROR(VLOOKUP(B12&E12,Tablas!$N$102:$O$200,2,FALSE)=TRUE),"No definido",VLOOKUP(B12&E12,Tablas!N108:O161,2,FALSE)) -> No definido
E13: =+IF(ISERROR(VLOOKUP($D13,'Hoja 1 Datos Maestros'!$B$6:$F$55,2)=TRUE),"",VLOOKUP($D13,'Hoja 1 Datos Maestros'!$B$6:$F$55,2)) | F13: =+IF(ISERROR(VLOOKUP($D13,'Hoja 1 Datos Maestros'!$B$6:$F$55,3)=TRUE),"",VLOOKUP($D13,'Hoja 1 Datos Maestros'!$B$6:$F$55,3)) | G13: =+IF(ISERROR(VLOOKUP($D13,'Hoja 1 Datos Maestros'!$B$6:$F$55,4)=TRUE),"",VLOOKUP($D13,'Hoja 1 Datos Maestros'!$B$6:$F$55,4)) | H13: =+SUM(L13:AI13) -> 0 | J13: =+IF(ISERROR(VLOOKUP(B13&E13,Tablas!$N$102:$O$200,2,FALSE)=TRUE),"No definido",VLOOKUP(B13&E13,Tablas!N109:O162,2,FALSE)) -> No definido
E14: =+IF(ISERROR(VLOOKUP($D14,'Hoja 1 Datos Maestros'!$B$6:$F$55,2)=TRUE),"",VLOOKUP($D14,'Hoja 1 Datos Maestros'!$B$6:$F$55,2)) | F14: =+IF(ISERROR(VLOOKUP($D14,'Hoja 1 Datos Maestros'!$B$6:$F$55,3)=TRUE),"",VLOOKUP($D14,'Hoja 1 Datos Maestros'!$B$6:$F$55,3)) | G14: =+IF(ISERROR(VLOOKUP($D14,'Hoja 1 Datos Maestros'!$B$6:$F$55,4)=TRUE),"",VLOOKUP($D14,'Hoja 1 Datos Maestros'!$B$6:$F$55,4)) | H14: =+SUM(L14:AI14) -> 0 | J14: =+IF(ISERROR(VLOOKUP(B14&E14,Tablas!$N$102:$O$200,2,FALSE)=TRUE),"No definido",VLOOKUP(B14&E14,Tablas!N110:O163,2,FALSE)) -> No definido
E15: =+IF(ISERROR(VLOOKUP($D15,'Hoja 1 Datos Maestros'!$B$6:$F$55,2)=TRUE),"",VLOOKUP($D15,'Hoja 1 Datos Maestros'!$B$6:$F$55,2)) | F15: =+IF(ISERROR(VLOOKUP($D15,'Hoja 1 Datos Maestros'!$B$6:$F$55,3)=TRUE),"",VLOOKUP($D15,'Hoja 1 Datos Maestros'!$B$6:$F$55,3)) | G15: =+IF(ISERROR(VLOOKUP($D15,'Hoja 1 Datos Maestros'!$B$6:$F$55,4)=TRUE),"",VLOOKUP($D15,'Hoja 1 Datos Maestros'!$B$6:$F$55,4)) | H15: =+SUM(L15:AI15) -> 0 | J15: =+IF(ISERROR(VLOOKUP(B15&E15,Tablas!$N$102:$O$200,2,FALSE)=TRUE),"No definido",VLOOKUP(B15&E15,Tablas!N111:O164,2,FALSE)) -> No definido
C16: Implementación ERP y Migración | E16: =+IF(ISERROR(VLOOKUP($D16,'Hoja 1 Datos Maestros'!$B$6:$F$55,2)=TRUE),"",VLOOKUP($D16,'Hoja 1 Datos Maestros'!$B$6:$F$55,2)) | F16: =+IF(ISERROR(VLOOKUP($D16,'Hoja 1 Datos Maestros'!$B$6:$F$55,3)=TRUE),"",VLOOKUP($D16,'Hoja 1 Datos Maestros'!$B$6:$F$55,3)) | G16: =+IF(ISERROR(VLOOKUP($D16,'Hoja 1 Datos Maestros'!$B$6:$F$55,4)=TRUE),"",VLOOKUP($D16,'Hoja 1 Datos Maestros'!$B$6:$F$55,4)) | H16: =+SUM(L16:AI16) -> 0 | J16: =+IF(ISERROR(VLOOKUP(B16&E16,Tablas!$N$102:$O$200,2,FALSE)=TRUE),"No definido",VLOOKUP(B16&E16,Tablas!N112:O165,2,FALSE)) -> No definido
C17: Implementación ERP y Migración | E17: =+IF(ISERROR(VLOOKUP($D17,'Hoja 1 Datos Maestros'!$B$6:$F$55,2)=TRUE),"",VLOOKUP($D17,'Hoja 1 Datos Maestros'!$B$6:$F$55,2)) | F17: =+IF(ISERROR(VLOOKUP($D17,'Hoja 1 Datos Maestros'!$B$6:$F$55,3)=TRUE),"",VLOOKUP($D17,'Hoja 1 Datos Maestros'!$B$6:$F$55,3)) | G17: =+IF(ISERROR(VLOOKUP($D17,'Hoja 1 Datos Maestros'!$B$6:$F$55,4)=TRUE),"",VLOOKUP($D17,'Hoja 1 Datos Maestros'!$B$6:$F$55,4)) | H17: =+SUM(L17:AI17) -> 0 | J17: =+IF(ISERROR(VLOOKUP(B17&E17,Tablas!$N$102:$O$200,2,FALSE)=TRUE),"No definido",VLOOKUP(B17&E17,Tablas!N113:O166,2,FALSE)) -> No definido
C18: Implementación ERP y Migración | E18: =+IF(ISERROR(VLOOKUP($D18,'Hoja 1 Datos Maestros'!$B$6:$F$55,2)=TRUE),"",VLOOKUP($D18,'Hoja 1 Datos Maestros'!$B$6:$F$55,2)) | F18: =+IF(ISERROR(VLOOKUP($D18,'Hoja 1 Datos Maestros'!$B$6:$F$55,3)=TRUE),"",VLOOKUP($D18,'Hoja 1 Datos Maestros'!$B$6:$F$55,3)) | G18: =+IF(ISERROR(VLOOKUP($D18,'Hoja 1 Datos Maestros'!$B$6:$F$55,4)=TRUE),"",VLOOKUP($D18,'Hoja 1 Datos Maestros'!$B$6:$F$55,4)) | H18: =+SUM(L18:AI18) -> 0 | J18: =+IF(ISERROR(VLOOKUP(B18&E18,Tablas!$N$102:$O$200,2,FALSE)=TRUE),"No definido",VLOOKUP(B18&E18,Tablas!N114:O167,2,FALSE)) -> No definido
C19: Implementación ERP y Migración | E19: =+IF(ISERROR(VLOOKUP($D19,'Hoja 1 Datos Maestros'!$B$6:$F$55,2)=TRUE),"",VLOOKUP($D19,'Hoja 1 Datos Maestros'!$B$6:$F$55,2)) | F19: =+IF(ISERROR(VLOOKUP($D19,'Hoja 1 Datos Maestros'!$B$6:$F$55,3)=TRUE),"",VLOOKUP($D19,'Hoja 1 Datos Maestros'!$B$6:$F$55,3)) | G19: =+IF(ISERROR(VLOOKUP($D19,'Hoja 1 Datos Maestros'!$B$6:$F$55,4)=TRUE),"",VLOOKUP($D19,'Hoja 1 Datos Maestros'!$B$6:$F$55,4)) | H19: =+SUM(L19:AI19) -> 0 | J19: =+IF(ISERROR(VLOOKUP(B19&E19,Tablas!$N$102:$O$200,2,FALSE)=TRUE),"No definido",VLOOKUP(B19&E19,Tablas!N115:O168,2,FALSE)) -> No definido
C20: Implementación ERP y Migración | E20: =+IF(ISERROR(VLOOKUP($D20,'Hoja 1 Datos Maestros'!$B$6:$F$55,2)=TRUE),"",VLOOKUP($D20,'Hoja 1 Datos Maestros'!$B$6:$F$55,2)) | F20: =+IF(ISERROR(VLOOKUP($D20,'Hoja 1 Datos Maestros'!$B$6:$F$55,3)=TRUE),"",VLOOKUP($D20,'Hoja 1 Datos Maestros'!$B$6:$F$55,3)) | G20: =+IF(ISERROR(VLOOKUP($D20,'Hoja 1 Datos Maestros'!$B$6:$F$55,4)=TRUE),"",VLOOKUP($D20,'Hoja 1 Datos Maestros'!$B$6:$F$55,4)) | H20: =+SUM(L20:AI20) -> 0 | J20: =+IF(ISERROR(VLOOKUP(B20&E20,Tablas!$N$102:$O$200,2,FALSE)=TRUE),"No definido",VLOOKUP(B20&E20,Tablas!N116:O169,2,FALSE)) -> No definido
C21: Implementación ERP y Migración | E21: =+IF(ISERROR(VLOOKUP($D21,'Hoja 1 Datos Maestros'!$B$6:$F$55,2)=TRUE),"",VLOOKUP($D21,'Hoja 1 Datos Maestros'!$B$6:$F$55,2)) | F21: =+IF(ISERROR(VLOOKUP($D21,'Hoja 1 Datos Maestros'!$B$6:$F$55,3)=TRUE),"",VLOOKUP($D21,'Hoja 1 Datos Maestros'!$B$6:$F$55,3)) | G21: =+IF(ISERROR(VLOOKUP($D21,'Hoja 1 Datos Maestros'!$B$6:$F$55,4)=TRUE),"",VLOOKUP($D21,'Hoja 1 Datos Maestros'!$B$6:$F$55,4)) | H21: =+SUM(L21:AI21) -> 0 | J21: =+IF(ISERROR(VLOOKUP(B21&E21,Tablas!$N$102:$O$200,2,FALSE)=TRUE),"No definido",VLOOKUP(B21&E21,Tablas!N117:O170,2,FALSE)) -> No definido
C22: Implementación ERP y Migración | E22: =+IF(ISERROR(VLOOKUP($D22,'Hoja 1 Datos Maestros'!$B$6:$F$55,2)=TRUE),"",VLOOKUP($D22,'Hoja 1 Datos Maestros'!$B$6:$F$55,2)) | F22: =+IF(ISERROR(VLOOKUP($D22,'Hoja 1 Datos Maestros'!$B$6:$F$55,3)=TRUE),"",VLOOKUP($D22,'Hoja 1 Datos Maestros'!$B$6:$F$55,3)) | G22: =+IF(ISERROR(VLOOKUP($D22,'Hoja 1 Datos Maestros'!$B$6:$F$55,4)=TRUE),"",VLOOKUP($D22,'Hoja 1 Datos Maestros'!$B$6:$F$55,4)) | H22: =+SUM(L22:AI22) -> 0 | J22: =+IF(ISERROR(VLOOKUP(B22&E22,Tablas!$N$102:$O$200,2,FALSE)=TRUE),"No definido",VLOOKUP(B22&E22,Tablas!N118:O171,2,FALSE)) -> No definido
C23: Implementación ERP y Migración | E23: =+IF(ISERROR(VLOOKUP($D23,'Hoja 1 Datos Maestros'!$B$6:$F$55,2)=TRUE),"",VLOOKUP($D23,'Hoja 1 Datos Maestros'!$B$6:$F$55,2)) | F23: =+IF(ISERROR(VLOOKUP($D23,'Hoja 1 Datos Maestros'!$B$6:$F$55,3)=TRUE),"",VLOOKUP($D23,'Hoja 1 Datos Maestros'!$B$6:$F$55,3)) | G23: =+IF(ISERROR(VLOOKUP($D23,'Hoja 1 Datos Maestros'!$B$6:$F$55,4)=TRUE),"",VLOOKUP($D23,'Hoja 1 Datos Maestros'!$B$6:$F$55,4)) | H23: =+SUM(L23:AI23) -> 0 | J23: =+IF(ISERROR(VLOOKUP(B23&E23,Tablas!$N$102:$O$200,2,FALSE)=TRUE),"No definido",VLOOKUP(B23&E23,Tablas!N119:O172,2,FALSE)) -> No definido
C24: Implementación ERP y Migración | E24: =+IF(ISERROR(VLOOKUP($D24,'Hoja 1 Datos Maestros'!$B$6:$F$55,2)=TRUE),"",VLOOKUP($D24,'Hoja 1 Datos Maestros'!$B$6:$F$55,2)) | F24: =+IF(ISERROR(VLOOKUP($D24,'Hoja 1 Datos Maestros'!$B$6:$F$55,3)=TRUE),"",VLOOKUP($D24,'Hoja 1 Datos Maestros'!$B$6:$F$55,3)) | G24: =+IF(ISERROR(VLOOKUP($D24,'Hoja 1 Datos Maestros'!$B$6:$F$55,4)=TRUE),"",VLOOKUP($D24,'Hoja 1 Datos Maestros'!$B$6:$F$55,4)) | H24: =+SUM(L24:AI24) -> 0 | J24: =+IF(ISERROR(VLOOKUP(B24&E24,Tablas!$N$102:$O$200,2,FALSE)=TRUE),"No definido",VLOOKUP(B24&E24,Tablas!N120:O173,2,FALSE)) -> No definido
C25: Implementación ERP y Migración | E25: =+IF(ISERROR(VLOOKUP($D25,'Hoja 1 Datos Maestros'!$B$6:$F$55,2)=TRUE),"",VLOOKUP($D25,'Hoja 1 Datos Maestros'!$B$6:$F$55,2)) | F25: =+IF(ISERROR(VLOOKUP($D25,'Hoja 1 Datos Maestros'!$B$6:$F$55,3)=TRUE),"",VLOOKUP($D25,'Hoja 1 Datos Maestros'!$B$6:$F$55,3)) | G25: =+IF(ISERROR(VLOOKUP($D25,'Hoja 1 Datos Maestros'!$B$6:$F$55,4)=TRUE),"",VLOOKUP($D25,'Hoja 1 Datos Maestros'!$B$6:$F$55,4)) | H25: =+SUM(L25:AI25) -> 0 | J25: =+IF(ISERROR(VLOOKUP(B25&E25,Tablas!$N$102:$O$200,2,FALSE)=TRUE),"No definido",VLOOKUP(B25&E25,Tablas!N121:O174,2,FALSE)) -> No definido
C26: Implementación ERP y Migración | E26: =+IF(ISERROR(VLOOKUP($D26,'Hoja 1 Datos Maestros'!$B$6:$F$55,2)=TRUE),"",VLOOKUP($D26,'Hoja 1 Datos Maestros'!$B$6:$F$55,2)) | F26: =+IF(ISERROR(VLOOKUP($D26,'Hoja 1 Datos Maestros'!$B$6:$F$55,3)=TRUE),"",VLOOKUP($D26,'Hoja 1 Datos Maestros'!$B$6:$F$55,3)) | G26: =+IF(ISERROR(VLOOKUP($D26,'Hoja 1 Datos Maestros'!$B$6:$F$55,4)=TRUE),"",VLOOKUP($D26,'Hoja 1 Datos Maestros'!$B$6:$F$55,4)) | H26: =+SUM(L26:AI26) -> 0 | J26: =+IF(ISERROR(VLOOKUP(B26&E26,Tablas!$N$102:$O$200,2,FALSE)=TRUE),"No definido",VLOOKUP(B26&E26,Tablas!N122:O175,2,FALSE)) -> No definido
C27: Implementación ERP y Migración | E27: =+IF(ISERROR(VLOOKUP($D27,'Hoja 1 Datos Maestros'!$B$6:$F$55,2)=TRUE),"",VLOOKUP($D27,'Hoja 1 Datos Maestros'!$B$6:$F$55,2)) | F27: =+IF(ISERROR(VLOOKUP($D27,'Hoja 1 Datos Maestros'!$B$6:$F$55,3)=TRUE),"",VLOOKUP($D27,'Hoja 1 Datos Maestros'!$B$6:$F$55,3)) | G27: =+IF(ISERROR(VLOOKUP($D27,'Hoja 1 Datos Maestros'!$B$6:$F$55,4)=TRUE),"",VLOOKUP($D27,'Hoja 1 Datos Maestros'!$B$6:$F$55,4)) | H27: =+SUM(L27:AI27) -> 0 | J27: =+IF(ISERROR(VLOOKUP(B27&E27,Tablas!$N$102:$O$200,2,FALSE)=TRUE),"No definido",VLOOKUP(B27&E27,Tablas!N123:O176,2,FALSE)) -> No definido
... C273: Implementación ERP y Migración | E273: =+IF(ISERROR(VLOOKUP($D273,'Hoja 1 Datos Maestros'!$B$6:$F$55,2)=TRUE),"",VLOOKUP($D273,'Hoja 1 Datos Maestros'!$B$6:$F$55,2)) | F273: =+IF(ISERROR(VLOOKUP($D273,'Hoja 1 Datos Maestros'!$B$6:$F$55,3)=TRUE),"",VLOOKUP($D273,'Hoja 1 Datos Maestros'!$B$6:$F$55,3)) | G273: =+IF(ISERROR(VLOOKUP($D273,'Hoja 1 Datos Maestros'!$B$6:$F$55,4)=TRUE),"",VLOOKUP($D273,'Hoja 1 Datos Maestros'!$B$6:$F$55,4)) | H273: =+SUM(L273:AI273) -> 0 | J273: =+IF(ISERROR(VLOOKUP(B273&E273,Tablas!$N$102:$O$200,2,FALSE)=TRUE),"No definido",VLOOKUP(B273&E273,Tablas!N369:O422,2,FALSE)) -> No definido
E274: =+IF(ISERROR(VLOOKUP($D274,'Hoja 1 Datos Maestros'!$B$6:$F$55,2)=TRUE),"",VLOOKUP($D274,'Hoja 1 Datos Maestros'!$B$6:$F$55,2)) | F274: =+IF(ISERROR(VLOOKUP($D274,'Hoja 1 Datos Maestros'!$B$6:$F$55,3)=TRUE),"",VLOOKUP($D274,'Hoja 1 Datos Maestros'!$B$6:$F$55,3)) | G274: =+IF(ISERROR(VLOOKUP($D274,'Hoja 1 Datos Maestros'!$B$6:$F$55,4)=TRUE),"",VLOOKUP($D274,'Hoja 1 Datos Maestros'!$B$6:$F$55,4)) | H274: =+SUM(L274:AI274) -> 0 | J274: =+IF(ISERROR(VLOOKUP(B274&E274,Tablas!$N$102:$O$200,2,FALSE)=TRUE),"No definido",VLOOKUP(B274&E274,Tablas!N370:O423,2,FALSE)) -> No definido
E275: =+IF(ISERROR(VLOOKUP($D275,'Hoja 1 Datos Maestros'!$B$6:$F$55,2)=TRUE),"",VLOOKUP($D275,'Hoja 1 Datos Maestros'!$B$6:$F$55,2)) | F275: =+IF(ISERROR(VLOOKUP($D275,'Hoja 1 Datos Maestros'!$B$6:$F$55,3)=TRUE),"",VLOOKUP($D275,'Hoja 1 Datos Maestros'!$B$6:$F$55,3)) | G275: =+IF(ISERROR(VLOOKUP($D275,'Hoja 1 Datos Maestros'!$B$6:$F$55,4)=TRUE),"",VLOOKUP($D275,'Hoja 1 Datos Maestros'!$B$6:$F$55,4)) | H275: =+SUM(L275:AI275) -> 0 | J275: =+IF(ISERROR(VLOOKUP(B275&E275,Tablas!$N$102:$O$200,2,FALSE)=TRUE),"No definido",VLOOKUP(B275&E275,Tablas!N371:O424,2,FALSE)) -> No definido
C276: Implementación ERP y Migración | E276: =+IF(ISERROR(VLOOKUP($D276,'Hoja 1 Datos Maestros'!$B$6:$F$55,2)=TRUE),"",VLOOKUP($D276,'Hoja 1 Datos Maestros'!$B$6:$F$55,2)) | F276: =+IF(ISERROR(VLOOKUP($D276,'Hoja 1 Datos Maestros'!$B$6:$F$55,3)=TRUE),"",VLOOKUP($D276,'Hoja 1 Datos Maestros'!$B$6:$F$55,3)) | G276: =+IF(ISERROR(VLOOKUP($D276,'Hoja 1 Datos Maestros'!$B$6:$F$55,4)=TRUE),"",VLOOKUP($D276,'Hoja 1 Datos Maestros'!$B$6:$F$55,4)) | H276: =+SUM(L276:AI276) -> 0 | J276: =+IF(ISERROR(VLOOKUP(B276&E276,Tablas!$N$102:$O$200,2,FALSE)=TRUE),"No definido",VLOOKUP(B276&E276,Tablas!N372:O425,2,FALSE)) -> No definido
C277: Implementación ERP y Migración | E277: =+IF(ISERROR(VLOOKUP($D277,'Hoja 1 Datos Maestros'!$B$6:$F$55,2)=TRUE),"",VLOOKUP($D277,'Hoja 1 Datos Maestros'!$B$6:$F$55,2)) | F277: =+IF(ISERROR(VLOOKUP($D277,'Hoja 1 Datos Maestros'!$B$6:$F$55,3)=TRUE),"",VLOOKUP($D277,'Hoja 1 Datos Maestros'!$B$6:$F$55,3)) | G277: =+IF(ISERROR(VLOOKUP($D277,'Hoja 1 Datos Maestros'!$B$6:$F$55,4)=TRUE),"",VLOOKUP($D277,'Hoja 1 Datos Maestros'!$B$6:$F$55,4)) | H277: =+SUM(L277:AI277) -> 0 | J277: =+IF(ISERROR(VLOOKUP(B277&E277,Tablas!$N$102:$O$200,2,FALSE)=TRUE),"No definido",VLOOKUP(B277&E277,Tablas!N373:O426,2,FALSE)) -> No definido
C278: Implementación ERP y Migración | E278: =+IF(ISERROR(VLOOKUP($D278,'Hoja 1 Datos Maestros'!$B$6:$F$55,2)=TRUE),"",VLOOKUP($D278,'Hoja 1 Datos Maestros'!$B$6:$F$55,2)) | F278: =+IF(ISERROR(VLOOKUP($D278,'Hoja 1 Datos Maestros'!$B$6:$F$55,3)=TRUE),"",VLOOKUP($D278,'Hoja 1 Datos Maestros'!$B$6:$F$55,3)) | G278: =+IF(ISERROR(VLOOKUP($D278,'Hoja 1 Datos Maestros'!$B$6:$F$55,4)=TRUE),"",VLOOKUP($D278,'Hoja 1 Datos Maestros'!$B$6:$F$55,4)) | H278: =+SUM(L278:AI278) -> 0 | J278: =+IF(ISERROR(VLOOKUP(B278&E278,Tablas!$N$102:$O$200,2,FALSE)=TRUE),"No definido",VLOOKUP(B278&E278,Tablas!N374:O427,2,FALSE)) -> No definido
C279: Implementación ERP y Migración | E279: =+IF(ISERROR(VLOOKUP($D279,'Hoja 1 Datos Maestros'!$B$6:$F$55,2)=TRUE),"",VLOOKUP($D279,'Hoja 1 Datos Maestros'!$B$6:$F$55,2)) | F279: =+IF(ISERROR(VLOOKUP($D279,'Hoja 1 Datos Maestros'!$B$6:$F$55,3)=TRUE),"",VLOOKUP($D279,'Hoja 1 Datos Maestros'!$B$6:$F$55,3)) | G279: =+IF(ISERROR(VLOOKUP($D279,'Hoja 1 Datos Maestros'!$B$6:$F$55,4)=TRUE),"",VLOOKUP($D279,'Hoja 1 Datos Maestros'!$B$6:$F$55,4)) | H279: =+SUM(L279:AI279) -> 0 | J279: =+IF(ISERROR(VLOOKUP(B279&E279,Tablas!$N$102:$O$200,2,FALSE)=TRUE),"No definido",VLOOKUP(B279&E279,Tablas!N375:O428,2,FALSE)) -> No definido
C280: Implementación ERP y Migración | E280: =+IF(ISERROR(VLOOKUP($D280,'Hoja 1 Datos Maestros'!$B$6:$F$55,2)=TRUE),"",VLOOKUP($D280,'Hoja 1 Datos Maestros'!$B$6:$F$55,2)) | F280: =+IF(ISERROR(VLOOKUP($D280,'Hoja 1 Datos Maestros'!$B$6:$F$55,3)=TRUE),"",VLOOKUP($D280,'Hoja 1 Datos Maestros'!$B$6:$F$55,3)) | G280: =+IF(ISERROR(VLOOKUP($D280,'Hoja 1 Datos Maestros'!$B$6:$F$55,4)=TRUE),"",VLOOKUP($D280,'Hoja 1 Datos Maestros'!$B$6:$F$55,4)) | H280: =+SUM(L280:AI280) -> 0 | J280: =+IF(ISERROR(VLOOKUP(B280&E280,Tablas!$N$102:$O$200,2,FALSE)=TRUE),"No definido",VLOOKUP(B280&E280,Tablas!N376:O429,2,FALSE)) -> No definido
C281: Implementación ERP y Migración | E281: =+IF(ISERROR(VLOOKUP($D281,'Hoja 1 Datos Maestros'!$B$6:$F$55,2)=TRUE),"",VLOOKUP($D281,'Hoja 1 Datos Maestros'!$B$6:$F$55,2)) | F281: =+IF(ISERROR(VLOOKUP($D281,'Hoja 1 Datos Maestros'!$B$6:$F$55,3)=TRUE),"",VLOOKUP($D281,'Hoja 1 Datos Maestros'!$B$6:$F$55,3)) | G281: =+IF(ISERROR(VLOOKUP($D281,'Hoja 1 Datos Maestros'!$B$6:$F$55,4)=TRUE),"",VLOOKUP($D281,'Hoja 1 Datos Maestros'!$B$6:$F$55,4)) | H281: =+SUM(L281:AI281) -> 0 | J281: =+IF(ISERROR(VLOOKUP(B281&E281,Tablas!$N$102:$O$200,2,FALSE)=TRUE),"No definido",VLOOKUP(B281&E281,Tablas!N377:O430,2,FALSE)) -> No definido
C282: Implementación ERP y Migración | E282: =+IF(ISERROR(VLOOKUP($D282,'Hoja 1 Datos Maestros'!$B$6:$F$55,2)=TRUE),"",VLOOKUP($D282,'Hoja 1 Datos Maestros'!$B$6:$F$55,2)) | F282: =+IF(ISERROR(VLOOKUP($D282,'Hoja 1 Datos Maestros'!$B$6:$F$55,3)=TRUE),"",VLOOKUP($D282,'Hoja 1 Datos Maestros'!$B$6:$F$55,3)) | G282: =+IF(ISERROR(VLOOKUP($D282,'Hoja 1 Datos Maestros'!$B$6:$F$55,4)=TRUE),"",VLOOKUP($D282,'Hoja 1 Datos Maestros'!$B$6:$F$55,4)) | H282: =+SUM(L282:AI282) -> 0 | J282: =+IF(ISERROR(VLOOKUP(B282&E282,Tablas!$N$102:$O$200,2,FALSE)=TRUE),"No definido",VLOOKUP(B282&E282,Tablas!N378:O431,2,FALSE)) -> No definido
C283: Implementación ERP y Migración | E283: =+IF(ISERROR(VLOOKUP($D283,'Hoja 1 Datos Maestros'!$B$6:$F$55,2)=TRUE),"",VLOOKUP($D283,'Hoja 1 Datos Maestros'!$B$6:$F$55,2)) | F283: =+IF(ISERROR(VLOOKUP($D283,'Hoja 1 Datos Maestros'!$B$6:$F$55,3)=TRUE),"",VLOOKUP($D283,'Hoja 1 Datos Maestros'!$B$6:$F$55,3)) | G283: =+IF(ISERROR(VLOOKUP($D283,'Hoja 1 Datos Maestros'!$B$6:$F$55,4)=TRUE),"",VLOOKUP($D283,'Hoja 1 Datos Maestros'!$B$6:$F$55,4)) | H283: =+SUM(L283:AI283) -> 0 | J283: =+IF(ISERROR(VLOOKUP(B283&E283,Tablas!$N$102:$O$200,2,FALSE)=TRUE),"No definido",VLOOKUP(B283&E283,Tablas!N379:O432,2,FALSE)) -> No definido
C284: Implementación ERP y Migración | E284: =+IF(ISERROR(VLOOKUP($D284,'Hoja 1 Datos Maestros'!$B$6:$F$55,2)=TRUE),"",VLOOKUP($D284,'Hoja 1 Datos Maestros'!$B$6:$F$55,2)) | F284: =+IF(ISERROR(VLOOKUP($D284,'Hoja 1 Datos Maestros'!$B$6:$F$55,3)=TRUE),"",VLOOKUP($D284,'Hoja 1 Datos Maestros'!$B$6:$F$55,3)) | G284: =+IF(ISERROR(VLOOKUP($D284,'Hoja 1 Datos Maestros'!$B$6:$F$55,4)=TRUE),"",VLOOKUP($D284,'Hoja 1 Datos Maestros'!$B$6:$F$55,4)) | H284: =+SUM(L284:AI284) -> 0 | J284: =+IF(ISERROR(VLOOKUP(B284&E284,Tablas!$N$102:$O$200,2,FALSE)=TRUE),"No definido",VLOOKUP(B284&E284,Tablas!N380:O433,2,FALSE)) -> No definido
C285: Implementación ERP y Migración | E285: =+IF(ISERROR(VLOOKUP($D285,'Hoja 1 Datos Maestros'!$B$6:$F$55,2)=TRUE),"",VLOOKUP($D285,'Hoja 1 Datos Maestros'!$B$6:$F$55,2)) | F285: =+IF(ISERROR(VLOOKUP($D285,'Hoja 1 Datos Maestros'!$B$6:$F$55,3)=TRUE),"",VLOOKUP($D285,'Hoja 1 Datos Maestros'!$B$6:$F$55,3)) | G285: =+IF(ISERROR(VLOOKUP($D285,'Hoja 1 Datos Maestros'!$B$6:$F$55,4)=TRUE),"",VLOOKUP($D285,'Hoja 1 Datos Maestros'!$B$6:$F$55,4)) | H285: =+SUM(L285:AI285) -> 0 | J285: =+IF(ISERROR(VLOOKUP(B285&E285,Tablas!$N$102:$O$200,2,FALSE)=TRUE),"No definido",VLOOKUP(B285&E285,Tablas!N381:O434,2,FALSE)) -> No definido
B287: Total | H287: =SUM(H6:H285) -> 0 | L287: =SUM(L6:L285) -> 0 | M287: =SUM(M6:M285) -> 0 | N287: =SUM(N6:N285) -> 0 | O287: =SUM(O6:O285) -> 0 | P287: =SUM(P6:P285) -> 0 | Q287: =SUM(Q6:Q285) -> 0 | R287: =SUM(R6:R285) -> 0 | S287: =SUM(S6:S285) -> 0 | ... AI287: =SUM(AI6:AI285) -> 0

Sheet Plan de Recursos Etapa 2
A1: COTIZACIÓN POR LINEA DE LA LICITACIÓN
A2: OFERENTE:
A3: SERVICIOS DE APOYO A LA IMPLEMENTACIÓN
B5: Fase de Proyecto (debe incluir todas las fases de la metodología propuesta) | C5: Servicio | D5: Apellido y Nombre del Recurso | E5: Rol | F5: Proceso | G5: Experiencia | H5: Cantidad de Horas Cotizadas | I5: Aclaración | L5: Cant. Horas Mes 1 | M5: Cant. Horas Mes 2 | N5: Cant. Horas Mes 3 | O5: Cant. Horas Mes 4 | P5: Cant. Horas Mes 5 | Q5: Cant. Horas Mes 6 | R5: Cant. Horas Mes 7 | S5: Cant. Horas Mes 8 | T5: Cant. Horas Mes 9 | U5: Cant. Horas Mes 10 | V5: Cant. Horas Mes 11 | W5: Cant. Horas Mes 12 | X5: Cant. Horas Mes 13 | Y5: Cant. Horas Mes 14 | Z5: Cant. Horas Mes 15 | AA5: Cant. Horas Mes 16 | AB5: Cant. Horas Mes 17 | AC5: Cant. Dias Mes 18 | AD5: Cant. Dias Mes 19 | AE5: Cant. Dias Mes 20 | AF5: Cant. Dias Mes 21 | AG5: Cant. Dias Mes 22 | AH5: Cant. Dias Mes 23 | AI5: Cant. Dias Mes 24
E6: =+IF(ISERROR(VLOOKUP($D6,'Hoja 1 Datos Maestros'!$B$6:$F$55,2,FALSE)=TRUE),"",VLOOKUP($D6,'Hoja 1 Datos Maestros'!$B$6:$F$55,2,FALSE)) | F6: =+IF(ISERROR(VLOOKUP($D6,'Hoja 1 Datos Maestros'!$B$6:$F$55,3,FALSE)=TRUE),"",VLOOKUP($D6,'Hoja 1 Datos Maestros'!$B$6:$F$55,3,FALSE)) | G6: =+IF(ISERROR(VLOOKUP($D6,'Hoja 1 Datos Maestros'!$B$6:$F$55,4)=TRUE),"",VLOOKUP($D6,'Hoja 1 Datos Maestros'!$B$6:$F$55,4)) | H6: =+SUM(L6:AI6) -> 0 | J6: =+IF(ISERROR(VLOOKUP(B6&E6,Tablas!$N$102:$O$200,2,FALSE)=TRUE),"No definido",VLOOKUP(B6&E6,Tablas!N102:O155,2,FALSE)) -> No definido
E7: =+IF(ISERROR(VLOOKUP($D7,'Hoja 1 Datos Maestros'!$B$6:$F$55,2,FALSE)=TRUE),"",VLOOKUP($D7,'Hoja 1 Datos Maestros'!$B$6:$F$55,2,FALSE)) | F7: =+IF(ISERROR(VLOOKUP($D7,'Hoja 1 Datos Maestros'!$B$6:$F$55,3,FALSE)=TRUE),"",VLOOKUP($D7,'Hoja 1 Datos Maestros'!$B$6:$F$55,3,FALSE)) | G7: =+IF(ISERROR(VLOOKUP($D7,'Hoja 1 Datos Maestros'!$B$6:$F$55,4)=TRUE),"",VLOOKUP($D7,'Hoja 1 Datos Maestros'!$B$6:$F$55,4)) | H7: =+SUM(L7:AI7) -> 0 | J7: =+IF(ISERROR(VLOOKUP(B7&E7,Tablas!$N$102:$O$200,2,FALSE)=TRUE),"No definido",VLOOKUP(B7&E7,Tablas!N103:O156,2,FALSE)) -> No definido
E8: =+IF(ISERROR(VLOOKUP($D8,'Hoja 1 Datos Maestros'!$B$6:$F$55,2,FALSE)=TRUE),"",VLOOKUP($D8,'Hoja 1 Datos Maestros'!$B$6:$F$55,2,FALSE)) | F8: =+IF(ISERROR(VLOOKUP($D8,'Hoja 1 Datos Maestros'!$B$6:$F$55,3,FALSE)=TRUE),"",VLOOKUP($D8,'Hoja 1 Datos Maestros'!$B$6:$F$55,3,FALSE)) | G8: =+IF(ISERROR(VLOOKUP($D8,'Hoja 1 Datos Maestros'!$B$6:$F$55,4)=TRUE),"",VLOOKUP($D8,'Hoja 1 Datos Maestros'!$B$6:$F$55,4)) | H8: =+SUM(L8:AI8) -> 0 | J8: =+IF(ISERROR(VLOOKUP(B8&E8,Tablas!$N$102:$O$200,2,FALSE)=TRUE),"No definido",VLOOKUP(B8&E8,Tablas!N104:O157,2,FALSE)) -> No definido
E9: =+IF(ISERROR(VLOOKUP($D9,'Hoja 1 Datos Maestros'!$B$6:$F$55,2,FALSE)=TRUE),"",VLOOKUP($D9,'Hoja 1 Datos Maestros'!$B$6:$F$55,2,FALSE)) | F9: =+IF(ISERROR(VLOOKUP($D9,'Hoja 1 Datos Maestros'!$B$6:$F$55,3,FALSE)=TRUE),"",VLOOKUP($D9,'Hoja 1 Datos Maestros'!$B$6:$F$55,3,FALSE)) | G9: =+IF(ISERROR(VLOOKUP($D9,'Hoja 1 Datos Maestros'!$B$6:$F$55,4)=TRUE),"",VLOOKUP($D9,'Hoja 1 Datos Maestros'!$B$6:$F$55,4)) | H9: =+SUM(L9:AI9) -> 0 | J9: =+IF(ISERROR(VLOOKUP(B9&E9,Tablas!$N$102:$O$200,2,FALSE)=TRUE),"No definido",VLOOKUP(B9&E9,Tablas!N105:O158,2,FALSE)) -> No definido
E10: =+IF(ISERROR(VLOOKUP($D10,'Hoja 1 Datos Maestros'!$B$6:$F$55,2,FALSE)=TRUE),"",VLOOKUP($D10,'Hoja 1 Datos Maestros'!$B$6:$F$55,2,FALSE)) | F10: =+IF(ISERROR(VLOOKUP($D10,'Hoja 1 Datos Maestros'!$B$6:$F$55,3,FALSE)=TRUE),"",VLOOKUP($D10,'Hoja 1 Datos Maestros'!$B$6:$F$55,3,FALSE)) | G10: =+IF(ISERROR(VLOOKUP($D10,'Hoja 1 Datos Maestros'!$B$6:$F$55,4)=TRUE),"",VLOOKUP($D10,'Hoja 1 Datos Maestros'!$B$6:$F$55,4)) | H10: =+SUM(L10:AI10) -> 0 | J10: =+IF(ISERROR(VLOOKUP(B10&E10,Tablas!$N$102:$O$200,2,FALSE)=TRUE),"No definido",VLOOKUP(B10&E10,Tablas!N106:O159,2,FALSE)) -> No definido
E11: =+IF(ISERROR(VLOOKUP($D11,'Hoja 1 Datos Maestros'!$B$6:$F$55,2,FALSE)=TRUE),"",VLOOKUP($D11,'Hoja 1 Datos Maestros'!$B$6:$F$55,2,FALSE)) | F11: =+IF(ISERROR(VLOOKUP($D11,'Hoja 1 Datos Maestros'!$B$6:$F$55,3,FALSE)=TRUE),"",VLOOKUP($D11,'Hoja 1 Datos Maestros'!$B$6:$F$55,3,FALSE)) | G11: =+IF(ISERROR(VLOOKUP($D11,'Hoja 1 Datos Maestros'!$B$6:$F$55,4)=TRUE),"",VLOOKUP($D11,'Hoja 1 Datos Maestros'!$B$6:$F$55,4)) | H11: =+SUM(L11:AI11) -> 0 | J11: =+IF(ISERROR(VLOOKUP(B11&E11,Tablas!$N$102:$O$200,2,FALSE)=TRUE),"No definido",VLOOKUP(B11&E11,Tablas!N107:O160,2,FALSE)) -> No definido
E12: =+IF(ISERROR(VLOOKUP($D12,'Hoja 1 Datos Maestros'!$B$6:$F$55,2)=TRUE),"",VLOOKUP($D12,'Hoja 1 Datos Maestros'!$B$6:$F$55,2)) | F12: =+IF(ISERROR(VLOOKUP($D12,'Hoja 1 Datos Maestros'!$B$6:$F$55,3)=TRUE),"",VLOOKUP($D12,'Hoja 1 Datos Maestros'!$B$6:$F$55,3)) | G12: =+IF(ISERROR(VLOOKUP($D12,'Hoja 1 Datos Maestros'!$B$6:$F$55,4)=TRUE),"",VLOOKUP($D12,'Hoja 1 Datos Maestros'!$B$6:$F$55,4)) | H12: =+SUM(L12:AI12) -> 0 | J12: =+IF(ISERROR(VLOOKUP(B12&E12,Tablas!$N$102:$O$200,2,FALSE)=TRUE),"No definido",VLOOKUP(B12&E12,Tablas!N108:O161,2,FALSE)) -> No definido
E13: =+IF(ISERROR(VLOOKUP($D13,'Hoja 1 Datos Maestros'!$B$6:$F$55,2)=TRUE),"",VLOOKUP($D13,'Hoja 1 Datos Maestros'!$B$6:$F$55,2)) | F13: =+IF(ISERROR(VLOOKUP($D13,'Hoja 1 Datos Maestros'!$B$6:$F$55,3)=TRUE),"",VLOOKUP($D13,'Hoja 1 Datos Maestros'!$B$6:$F$55,3)) | G13: =+IF(ISERROR(VLOOKUP($D13,'Hoja 1 Datos Maestros'!$B$6:$F$55,4)=TRUE),"",VLOOKUP($D13,'Hoja 1 Datos Maestros'!$B$6:$F$55,4)) | H13: =+SUM(L13:AI13) -> 0 | J13: =+IF(ISERROR(VLOOKUP(B13&E13,Tablas!$N$102:$O$200,2,FALSE)=TRUE),"No definido",VLOOKUP(B13&E13,Tablas!N109:O162,2,FALSE)) -> No definido
E14: =+IF(ISERROR(VLOOKUP($D14,'Hoja 1 Datos Maestros'!$B$6:$F$55,2)=TRUE),"",VLOOKUP($D14,'Hoja 1 Datos Maestros'!$B$6:$F$55,2)) | F14: =+IF(ISERROR(VLOOKUP($D14,'Hoja 1 Datos Maestros'!$B$6:$F$55,3)=TRUE),"",VLOOKUP($D14,'Hoja 1 Datos Maestros'!$B$6:$F$55,3)) | G14: =+IF(ISERROR(VLOOKUP($D14,'Hoja 1 Datos Maestros'!$B$6:$F$55,4)=TRUE),"",VLOOKUP($D14,'Hoja 1 Datos Maestros'!$B$6:$F$55,4)) | H14: =+SUM(L14:AI14) -> 0 | J14: =+IF(ISERROR(VLOOKUP(B14&E14,Tablas!$N$102:$O$200,2,FALSE)=TRUE),"No definido",VLOOKUP(B14&E14,Tablas!N110:O163,2,FALSE)) -> No definido
E15: =+IF(ISERROR(VLOOKUP($D15,'Hoja 1 Datos Maestros'!$B$6:$F$55,2)=TRUE),"",VLOOKUP($D15,'Hoja 1 Datos Maestros'!$B$6:$F$55,2)) | F15: =+IF(ISERROR(VLOOKUP($D15,'Hoja 1 Datos Maestros'!$B$6:$F$55,3)=TRUE),"",VLOOKUP($D15,'Hoja 1 Datos Maestros'!$B$6:$F$55,3)) | G15: =+IF(ISERROR(VLOOKUP($D15,'Hoja 1 Datos Maestros'!$B$6:$F$55,4)=TRUE),"",VLOOKUP($D15,'Hoja 1 Datos Maestros'!$B$6:$F$55,4)) | H15: =+SUM(L15:AI15) -> 0 | J15: =+IF(ISERROR(VLOOKUP(B15&E15,Tablas!$N$102:$O$200,2,FALSE)=TRUE),"No definido",VLOOKUP(B15&E15,Tablas!N111:O164,2,FALSE)) -> No definido
C16: Implementación ERP y Migración | E16: =+IF(ISERROR(VLOOKUP($D16,'Hoja 1 Datos Maestros'!$B$6:$F$55,2)=TRUE),"",VLOOKUP($D16,'Hoja 1 Datos Maestros'!$B$6:$F$55,2)) | F16: =+IF(ISERROR(VLOOKUP($D16,'Hoja 1 Datos Maestros'!$B$6:$F$55,3)=TRUE),"",VLOOKUP($D16,'Hoja 1 Datos Maestros'!$B$6:$F$55,3)) | G16: =+IF(ISERROR(VLOOKUP($D16,'Hoja 1 Datos Maestros'!$B$6:$F$55,4)=TRUE),"",VLOOKUP($D16,'Hoja 1 Datos Maestros'!$B$6:$F$55,4)) | H16: =+SUM(L16:AI16) -> 0 | J16: =+IF(ISERROR(VLOOKUP(B16&E16,Tablas!$N$102:$O$200,2,FALSE)=TRUE),"No definido",VLOOKUP(B16&E16,Tablas!N112:O165,2,FALSE)) -> No definido
C17: Implementación ERP y Migración | E17: =+IF(ISERROR(VLOOKUP($D17,'Hoja 1 Datos Maestros'!$B$6:$F$55,2)=TRUE),"",VLOOKUP($D17,'Hoja 1 Datos Maestros'!$B$6:$F$55,2)) | F17: =+IF(ISERROR(VLOOKUP($D17,'Hoja 1 Datos Maestros'!$B$6:$F$55,3)=TRUE),"",VLOOKUP($D17,'Hoja 1 Datos Maestros'!$B$6:$F$55,3)) | G17: =+IF(ISERROR(VLOOKUP($D17,'Hoja 1 Datos Maestros'!$B$6:$F$55,4)=TRUE),"",VLOOKUP($D17,'Hoja 1 Datos Maestros'!$B$6:$F$55,4)) | H17: =+SUM(L17:AI17) -> 0 | J17: =+IF(ISERROR(VLOOKUP(B17&E17,Tablas!$N$102:$O$200,2,FALSE)=TRUE),"No definido",VLOOKUP(B17&E17,Tablas!N113:O166,2,FALSE)) -> No definido
C18: Implementación ERP y Migración | E18: =+IF(ISERROR(VLOOKUP($D18,'Hoja 1 Datos Maestros'!$B$6:$F$55,2)=TRUE),"",VLOOKUP($D18,'Hoja 1 Datos Maestros'!$B$6:$F$55,2)) | F18: =+IF(ISERROR(VLOOKUP($D18,'Hoja 1 Datos Maestros'!$B$6:$F$55,3)=TRUE),"",VLOOKUP($D18,'Hoja 1 Datos Maestros'!$B$6:$F$55,3)) | G18: =+IF(ISERROR(VLOOKUP($D18,'Hoja 1 Datos Maestros'!$B$6:$F$55,4)=TRUE),"",VLOOKUP($D18,'Hoja 1 Datos Maestros'!$B$6:$F$55,4)) | H18: =+SUM(L18:AI18) -> 0 | J18: =+IF(ISERROR(VLOOKUP(B18&E18,Tablas!$N$102:$O$200,2,FALSE)=TRUE),"No definido",VLOOKUP(B18&E18,Tablas!N114:O167,2,FALSE)) -> No definido
C19: Implementación ERP y Migración | E19: =+IF(ISERROR(VLOOKUP($D19,'Hoja 1 Datos Maestros'!$B$6:$F$55,2)=TRUE),"",VLOOKUP($D19,'Hoja 1 Datos Maestros'!$B$6:$F$55,2)) | F19: =+IF(ISERROR(VLOOKUP($D19,'Hoja 1 Datos Maestros'!$B$6:$F$55,3)=TRUE),"",VLOOKUP($D19,'Hoja 1 Datos Maestros'!$B$6:$F$55,3)) | G19: =+IF(ISERROR(VLOOKUP($D19,'Hoja 1 Datos Maestros'!$B$6:$F$55,4)=TRUE),"",VLOOKUP($D19,'Hoja 1 Datos Maestros'!$B$6:$F$55,4)) | H19: =+SUM(L19:AI19) -> 0 | J19: =+IF(ISERROR(VLOOKUP(B19&E19,Tablas!$N$102:$O$200,2,FALSE)=TRUE),"No definido",VLOOKUP(B19&E19,Tablas!N115:O168,2,FALSE)) -> No definido
C20: Implementación ERP y Migración | E20: =+IF(ISERROR(VLOOKUP($D20,'Hoja 1 Datos Maestros'!$B$6:$F$55,2)=TRUE),"",VLOOKUP($D20,'Hoja 1 Datos Maestros'!$B$6:$F$55,2)) | F20: =+IF(ISERROR(VLOOKUP($D20,'Hoja 1 Datos Maestros'!$B$6:$F$55,3)=TRUE),"",VLOOKUP($D20,'Hoja 1 Datos Maestros'!$B$6:$F$55,3)) | G20: =+IF(ISERROR(VLOOKUP($D20,'Hoja 1 Datos Maestros'!$B$6:$F$55,4)=TRUE),"",VLOOKUP($D20,'Hoja 1 Datos Maestros'!$B$6:$F$55,4)) | H20: =+SUM(L20:AI20) -> 0 | J20: =+IF(ISERROR(VLOOKUP(B20&E20,Tablas!$N$102:$O$200,2,FALSE)=TRUE),"No definido",VLOOKUP(B20&E20,Tablas!N116:O169,2,FALSE)) -> No definido
C21: Implementación ERP y Migración | E21: =+IF(ISERROR(VLOOKUP($D21,'Hoja 1 Datos Maestros'!$B$6:$F$55,2)=TRUE),"",VLOOKUP($D21,'Hoja 1 Datos Maestros'!$B$6:$F$55,2)) | F21: =+IF(ISERROR(VLOOKUP($D21,'Hoja 1 Datos Maestros'!$B$6:$F$55,3)=TRUE),"",VLOOKUP($D21,'Hoja 1 Datos Maestros'!$B$6:$F$55,3)) | G21: =+IF(ISERROR(VLOOKUP($D21,'Hoja 1 Datos Maestros'!$B$6:$F$55,4)=TRUE),"",VLOOKUP($D21,'Hoja 1 Datos Maestros'!$B$6:$F$55,4)) | H21: =+SUM(L21:AI21) -> 0 | J21: =+IF(ISERROR(VLOOKUP(B21&E21,Tablas!$N$102:$O$200,2,FALSE)=TRUE),"No definido",VLOOKUP(B21&E21,Tablas!N117:O170,2,FALSE)) -> No definido
C22: Implementación ERP y Migración | E22: =+IF(ISERROR(VLOOKUP($D22,'Hoja 1 Datos Maestros'!$B$6:$F$55,2)=TRUE),"",VLOOKUP($D22,'Hoja 1 Datos Maestros'!$B$6:$F$55,2)) | F22: =+IF(ISERROR(VLOOKUP($D22,'Hoja 1 Datos Maestros'!$B$6:$F$55,3)=TRUE),"",VLOOKUP($D22,'Hoja 1 Datos Maestros'!$B$6:$F$55,3)) | G22: =+IF(ISERROR(VLOOKUP($D22,'Hoja 1 Datos Maestros'!$B$6:$F$55,4)=TRUE),"",VLOOKUP($D22,'Hoja 1 Datos Maestros'!$B$6:$F$55,4)) | H22: =+SUM(L22:AI22) -> 0 | J22: =+IF(ISERROR(VLOOKUP(B22&E22,Tablas!$N$102:$O$200,2,FALSE)=TRUE),"No definido",VLOOKUP(B22&E22,Tablas!N118:O171,2,FALSE)) -> No definido
C23: Implementación ERP y Migración | E23: =+IF(ISERROR(VLOOKUP($D23,'Hoja 1 Datos Maestros'!$B$6:$F$55,2)=TRUE),"",VLOOKUP($D23,'Hoja 1 Datos Maestros'!$B$6:$F$55,2)) | F23: =+IF(ISERROR(VLOOKUP($D23,'Hoja 1 Datos Maestros'!$B$6:$F$55,3)=TRUE),"",VLOOKUP($D23,'Hoja 1 Datos Maestros'!$B$6:$F$55,3)) | G23: =+IF(ISERROR(VLOOKUP($D23,'Hoja 1 Datos Maestros'!$B$6:$F$55,4)=TRUE),"",VLOOKUP($D23,'Hoja 1 Datos Maestros'!$B$6:$F$55,4)) | H23: =+SUM(L23:AI23) -> 0 | J23: =+IF(ISERROR(VLOOKUP(B23&E23,Tablas!$N$102:$O$200,2,FALSE)=TRUE),"No definido",VLOOKUP(B23&E23,Tablas!N119:O172,2,FALSE)) -> No definido
C24: Implementación ERP y Migración | E24: =+IF(ISERROR(VLOOKUP($D24,'Hoja 1 Datos Maestros'!$B$6:$F$55,2)=TRUE),"",VLOOKUP($D24,'Hoja 1 Datos Maestros'!$B$6:$F$55,2)) | F24: =+IF(ISERROR(VLOOKUP($D24,'Hoja 1 Datos Maestros'!$B$6:$F$55,3)=TRUE),"",VLOOKUP($D24,'Hoja 1 Datos Maestros'!$B$6:$F$55,3)) | G24: =+IF(ISERROR(VLOOKUP($D24,'Hoja 1 Datos Maestros'!$B$6:$F$55,4)=TRUE),"",VLOOKUP($D24,'Hoja 1 Datos Maestros'!$B$6:$F$55,4)) | H24: =+SUM(L24:AI24) -> 0 | J24: =+IF(ISERROR(VLOOKUP(B24&E24,Tablas!$N$102:$O$200,2,FALSE)=TRUE),"No definido",VLOOKUP(B24&E24,Tablas!N120:O173,2,FALSE)) -> No definido
C25: Implementación ERP y Migración | E25: =+IF(ISERROR(VLOOKUP($D25,'Hoja 1 Datos Maestros'!$B$6:$F$55,2)=TRUE),"",VLOOKUP($D25,'Hoja 1 Datos Maestros'!$B$6:$F$55,2)) | F25: =+IF(ISERROR(VLOOKUP($D25,'Hoja 1 Datos Maestros'!$B$6:$F$55,3)=TRUE),"",VLOOKUP($D25,'Hoja 1 Datos Maestros'!$B$6:$F$55,3)) | G25: =+IF(ISERROR(VLOOKUP($D25,'Hoja 1 Datos Maestros'!$B$6:$F$55,4)=TRUE),"",VLOOKUP($D25,'Hoja 1 Datos Maestros'!$B$6:$F$55,4)) | H25: =+SUM(L25:AI25) -> 0 | J25: =+IF(ISERROR(VLOOKUP(B25&E25,Tablas!$N$102:$O$200,2,FALSE)=TRUE),"No definido",VLOOKUP(B25&E25,Tablas!N121:O174,2,FALSE)) -> No definido
C26: Implementación ERP y Migración | E26: =+IF(ISERROR(VLOOKUP($D26,'Hoja 1 Datos Maestros'!$B$6:$F$55,2)=TRUE),"",VLOOKUP($D26,'Hoja 1 Datos Maestros'!$B$6:$F$55,2)) | F26: =+IF(ISERROR(VLOOKUP($D26,'Hoja 1 Datos Maestros'!$B$6:$F$55,3)=TRUE),"",VLOOKUP($D26,'Hoja 1 Datos Maestros'!$B$6:$F$55,3)) | G26: =+IF(ISERROR(VLOOKUP($D26,'Hoja 1 Datos Maestros'!$B$6:$F$55,4)=TRUE),"",VLOOKUP($D26,'Hoja 1 Datos Maestros'!$B$6:$F$55,4)) | H26: =+SUM(L26:AI26) -> 0 | J26: =+IF(ISERROR(VLOOKUP(B26&E26,Tablas!$N$102:$O$200,2,FALSE)=TRUE),"No definido",VLOOKUP(B26&E26,Tablas!N122:O175,2,FALSE)) -> No definido
C27: Implementación ERP y Migración | E27: =+IF(ISERROR(VLOOKUP($D27,'Hoja 1 Datos Maestros'!$B$6:$F$55,2)=TRUE),"",VLOOKUP($D27,'Hoja 1 Datos Maestros'!$B$6:$F$55,2)) | F27: =+IF(ISERROR(VLOOKUP($D27,'Hoja 1 Datos Maestros'!$B$6:$F$55,3)=TRUE),"",VLOOKUP($D27,'Hoja 1 Datos Maestros'!$B$6:$F$55,3)) | G27: =+IF(ISERROR(VLOOKUP($D27,'Hoja 1 Datos Maestros'!$B$6:$F$55,4)=TRUE),"",VLOOKUP($D27,'Hoja 1 Datos Maestros'!$B$6:$F$55,4)) | H27: =+SUM(L27:AI27) -> 0 | J27: =+IF(ISERROR(VLOOKUP(B27&E27,Tablas!$N$102:$O$200,2,FALSE)=TRUE),"No definido",VLOOKUP(B27&E27,Tablas!N123:O176,2,FALSE)) -> No definido
... C273: Implementación ERP y Migración | E273: =+IF(ISERROR(VLOOKUP($D273,'Hoja 1 Datos Maestros'!$B$6:$F$55,2)=TRUE),"",VLOOKUP($D273,'Hoja 1 Datos Maestros'!$B$6:$F$55,2)) | F273: =+IF(ISERROR(VLOOKUP($D273,'Hoja 1 Datos Maestros'!$B$6:$F$55,3)=TRUE),"",VLOOKUP($D273,'Hoja 1 Datos Maestros'!$B$6:$F$55,3)) | G273: =+IF(ISERROR(VLOOKUP($D273,'Hoja 1 Datos Maestros'!$B$6:$F$55,4)=TRUE),"",VLOOKUP($D273,'Hoja 1 Datos Maestros'!$B$6:$F$55,4)) | H273: =+SUM(L273:AI273) -> 0 | J273: =+IF(ISERROR(VLOOKUP(B273&E273,Tablas!$N$102:$O$200,2,FALSE)=TRUE),"No definido",VLOOKUP(B273&E273,Tablas!N369:O422,2,FALSE)) -> No definido
E274: =+IF(ISERROR(VLOOKUP($D274,'Hoja 1 Datos Maestros'!$B$6:$F$55,2)=TRUE),"",VLOOKUP($D274,'Hoja 1 Datos Maestros'!$B$6:$F$55,2)) | F274: =+IF(ISERROR(VLOOKUP($D274,'Hoja 1 Datos Maestros'!$B$6:$F$55,3)=TRUE),"",VLOOKUP($D274,'Hoja 1 Datos Maestros'!$B$6:$F$55,3)) | G274: =+IF(ISERROR(VLOOKUP($D274,'Hoja 1 Datos Maestros'!$B$6:$F$55,4)=TRUE),"",VLOOKUP($D274,'Hoja 1 Datos Maestros'!$B$6:$F$55,4)) | H274: =+SUM(L274:AI274) -> 0 | J274: =+IF(ISERROR(VLOOKUP(B274&E274,Tablas!$N$102:$O$200,2,FALSE)=TRUE),"No definido",VLOOKUP(B274&E274,Tablas!N370:O423,2,FALSE)) -> No definido
E275: =+IF(ISERROR(VLOOKUP($D275,'Hoja 1 Datos Maestros'!$B$6:$F$55,2)=TRUE),"",VLOOKUP($D275,'Hoja 1 Datos Maestros'!$B$6:$F$55,2)) | F275: =+IF(ISERROR(VLOOKUP($D275,'Hoja 1 Datos Maestros'!$B$6:$F$55,3)=TRUE),"",VLOOKUP($D275,'Hoja 1 Datos Maestros'!$B$6:$F$55,3)) | G275: =+IF(ISERROR(VLOOKUP($D275,'Hoja 1 Datos Maestros'!$B$6:$F$55,4)=TRUE),"",VLOOKUP($D275,'Hoja 1 Datos Maestros'!$B$6:$F$55,4)) | H275: =+SUM(L275:AI275) -> 0 | J275: =+IF(ISERROR(VLOOKUP(B275&E275,Tablas!$N$102:$O$200,2,FALSE)=TRUE),"No definido",VLOOKUP(B275&E275,Tablas!N371:O424,2,FALSE)) -> No definido
C276: Implementación ERP y Migración | E276: =+IF(ISERROR(VLOOKUP($D276,'Hoja 1 Datos Maestros'!$B$6:$F$55,2)=TRUE),"",VLOOKUP($D276,'Hoja 1 Datos Maestros'!$B$6:$F$55,2)) | F276: =+IF(ISERROR(VLOOKUP($D276,'Hoja 1 Datos Maestros'!$B$6:$F$55,3)=TRUE),"",VLOOKUP($D276,'Hoja 1 Datos Maestros'!$B$6:$F$55,3)) | G276: =+IF(ISERROR(VLOOKUP($D276,'Hoja 1 Datos Maestros'!$B$6:$F$55,4)=TRUE),"",VLOOKUP($D276,'Hoja 1 Datos Maestros'!$B$6:$F$55,4)) | H276: =+SUM(L276:AI276) -> 0 | J276: =+IF(ISERROR(VLOOKUP(B276&E276,Tablas!$N$102:$O$200,2,FALSE)=TRUE),"No definido",VLOOKUP(B276&E276,Tablas!N372:O425,2,FALSE)) -> No definido
C277: Implementación ERP y Migración | E277: =+IF(ISERROR(VLOOKUP($D277,'Hoja 1 Datos Maestros'!$B$6:$F$55,2)=TRUE),"",VLOOKUP($D277,'Hoja 1 Datos Maestros'!$B$6:$F$55,2)) | F277: =+IF(ISERROR(VLOOKUP($D277,'Hoja 1 Datos Maestros'!$B$6:$F$55,3)=TRUE),"",VLOOKUP($D277,'Hoja 1 Datos Maestros'!$B$6:$F$55,3)) | G277: =+IF(ISERROR(VLOOKUP($D277,'Hoja 1 Datos Maestros'!$B$6:$F$55,4)=TRUE),"",VLOOKUP($D277,'Hoja 1 Datos Maestros'!$B$6:$F$55,4)) | H277: =+SUM(L277:AI277) -> 0 | J277: =+IF(ISERROR(VLOOKUP(B277&E277,Tablas!$N$102:$O$200,2,FALSE)=TRUE),"No definido",VLOOKUP(B277&E277,Tablas!N373:O426,2,FALSE)) -> No definido
C278: Implementación ERP y Migración | E278: =+IF(ISERROR(VLOOKUP($D278,'Hoja 1 Datos Maestros'!$B$6:$F$55,2)=TRUE),"",VLOOKUP($D278,'Hoja 1 Datos Maestros'!$B$6:$F$55,2)) | F278: =+IF(ISERROR(VLOOKUP($D278,'Hoja 1 Datos Maestros'!$B$6:$F$55,3)=TRUE),"",VLOOKUP($D278,'Hoja 1 Datos Maestros'!$B$6:$F$55,3)) | G278: =+IF(ISERROR(VLOOKUP($D278,'Hoja 1 Datos Maestros'!$B$6:$F$55,4)=TRUE),"",VLOOKUP($D278,'Hoja 1 Datos Maestros'!$B$6:$F$55,4)) | H278: =+SUM(L278:AI278) -> 0 | J278: =+IF(ISERROR(VLOOKUP(B278&E278,Tablas!$N$102:$O$200,2,FALSE)=TRUE),"No definido",VLOOKUP(B278&E278,Tablas!N374:O427,2,FALSE)) -> No definido
C279: Implementación ERP y Migración | E279: =+IF(ISERROR(VLOOKUP($D279,'Hoja 1 Datos Maestros'!$B$6:$F$55,2)=TRUE),"",VLOOKUP($D279,'Hoja 1 Datos Maestros'!$B$6:$F$55,2)) | F279: =+IF(ISERROR(VLOOKUP($D279,'Hoja 1 Datos Maestros'!$B$6:$F$55,3)=TRUE),"",VLOOKUP($D279,'Hoja 1 Datos Maestros'!$B$6:$F$55,3)) | G279: =+IF(ISERROR(VLOOKUP($D279,'Hoja 1 Datos Maestros'!$B$6:$F$55,4)=TRUE),"",VLOOKUP($D279,'Hoja 1 Datos Maestros'!$B$6:$F$55,4)) | H279: =+SUM(L279:AI279) -> 0 | J279: =+IF(ISERROR(VLOOKUP(B279&E279,Tablas!$N$102:$O$200,2,FALSE)=TRUE),"No definido",VLOOKUP(B279&E279,Tablas!N375:O428,2,FALSE)) -> No definido
C280: Implementación ERP y Migración | E280: =+IF(ISERROR(VLOOKUP($D280,'Hoja 1 Datos Maestros'!$B$6:$F$55,2)=TRUE),"",VLOOKUP($D280,'Hoja 1 Datos Maestros'!$B$6:$F$55,2)) | F280: =+IF(ISERROR(VLOOKUP($D280,'Hoja 1 Datos Maestros'!$B$6:$F$55,3)=TRUE),"",VLOOKUP($D280,'Hoja 1 Datos Maestros'!$B$6:$F$55,3)) | G280: =+IF(ISERROR(VLOOKUP($D280,'Hoja 1 Datos Maestros'!$B$6:$F$55,4)=TRUE),"",VLOOKUP($D280,'Hoja 1 Datos Maestros'!$B$6:$F$55,4)) | H280: =+SUM(L280:AI280) -> 0 | J280: =+IF(ISERROR(VLOOKUP(B280&E280,Tablas!$N$102:$O$200,2,FALSE)=TRUE),"No definido",VLOOKUP(B280&E280,Tablas!N376:O429,2,FALSE)) -> No definido
C281: Implementación ERP y Migración | E281: =+IF(ISERROR(VLOOKUP($D281,'Hoja 1 Datos Maestros'!$B$6:$F$55,2)=TRUE),"",VLOOKUP($D281,'Hoja 1 Datos Maestros'!$B$6:$F$55,2)) | F281: =+IF(ISERROR(VLOOKUP($D281,'Hoja 1 Datos Maestros'!$B$6:$F$55,3)=TRUE),"",VLOOKUP($D281,'Hoja 1 Datos Maestros'!$B$6:$F$55,3)) | G281: =+IF(ISERROR(VLOOKUP($D281,'Hoja 1 Datos Maestros'!$B$6:$F$55,4)=TRUE),"",VLOOKUP($D281,'Hoja 1 Datos Maestros'!$B$6:$F$55,4)) | H281: =+SUM(L281:AI281) -> 0 | J281: =+IF(ISERROR(VLOOKUP(B281&E281,Tablas!$N$102:$O$200,2,FALSE)=TRUE),"No definido",VLOOKUP(B281&E281,Tablas!N377:O430,2,FALSE)) -> No definido
C282: Implementación ERP y Migración | E282: =+IF(ISERROR(VLOOKUP($D282,'Hoja 1 Datos Maestros'!$B$6:$F$55,2)=TRUE),"",VLOOKUP($D282,'Hoja 1 Datos Maestros'!$B$6:$F$55,2)) | F282: =+IF(ISERROR(VLOOKUP($D282,'Hoja 1 Datos Maestros'!$B$6:$F$55,3)=TRUE),"",VLOOKUP($D282,'Hoja 1 Datos Maestros'!$B$6:$F$55,3)) | G282: =+IF(ISERROR(VLOOKUP($D282,'Hoja 1 Datos Maestros'!$B$6:$F$55,4)=TRUE),"",VLOOKUP($D282,'Hoja 1 Datos Maestros'!$B$6:$F$55,4)) | H282: =+SUM(L282:AI282) -> 0 | J282: =+IF(ISERROR(VLOOKUP(B282&E282,Tablas!$N$102:$O$200,2,FALSE)=TRUE),"No definido",VLOOKUP(B282&E282,Tablas!N378:O431,2,FALSE)) -> No definido
C283: Implementación ERP y Migración | E283: =+IF(ISERROR(VLOOKUP($D283,'Hoja 1 Datos Maestros'!$B$6:$F$55,2)=TRUE),"",VLOOKUP($D283,'Hoja 1 Datos Maestros'!$B$6:$F$55,2)) | F283: =+IF(ISERROR(VLOOKUP($D283,'Hoja 1 Datos Maestros'!$B$6:$F$55,3)=TRUE),"",VLOOKUP($D283,'Hoja 1 Datos Maestros'!$B$6:$F$55,3)) | G283: =+IF(ISERROR(VLOOKUP($D283,'Hoja 1 Datos Maestros'!$B$6:$F$55,4)=TRUE),"",VLOOKUP($D283,'Hoja 1 Datos Maestros'!$B$6:$F$55,4)) | H283: =+SUM(L283:AI283) -> 0 | J283: =+IF(ISERROR(VLOOKUP(B283&E283,Tablas!$N$102:$O$200,2,FALSE)=TRUE),"No definido",VLOOKUP(B283&E283,Tablas!N379:O432,2,FALSE)) -> No definido
C284: Implementación ERP y Migración | E284: =+IF(ISERROR(VLOOKUP($D284,'Hoja 1 Datos Maestros'!$B$6:$F$55,2)=TRUE),"",VLOOKUP($D284,'Hoja 1 Datos Maestros'!$B$6:$F$55,2)) | F284: =+IF(ISERROR(VLOOKUP($D284,'Hoja 1 Datos Maestros'!$B$6:$F$55,3)=TRUE),"",VLOOKUP($D284,'Hoja 1 Datos Maestros'!$B$6:$F$55,3)) | G284: =+IF(ISERROR(VLOOKUP($D284,'Hoja 1 Datos Maestros'!$B$6:$F$55,4)=TRUE),"",VLOOKUP($D284,'Hoja 1 Datos Maestros'!$B$6:$F$55,4)) | H284: =+SUM(L284:AI284) -> 0 | J284: =+IF(ISERROR(VLOOKUP(B284&E284,Tablas!$N$102:$O$200,2,FALSE)=TRUE),"No definido",VLOOKUP(B284&E284,Tablas!N380:O433,2,FALSE)) -> No definido
C285: Implementación ERP y Migración | E285: =+IF(ISERROR(VLOOKUP($D285,'Hoja 1 Datos Maestros'!$B$6:$F$55,2)=TRUE),"",VLOOKUP($D285,'Hoja 1 Datos Maestros'!$B$6:$F$55,2)) | F285: =+IF(ISERROR(VLOOKUP($D285,'Hoja 1 Datos Maestros'!$B$6:$F$55,3)=TRUE),"",VLOOKUP($D285,'Hoja 1 Datos Maestros'!$B$6:$F$55,3)) | G285: =+IF(ISERROR(VLOOKUP($D285,'Hoja 1 Datos Maestros'!$B$6:$F$55,4)=TRUE),"",VLOOKUP($D285,'Hoja 1 Datos Maestros'!$B$6:$F$55,4)) | H285: =+SUM(L285:AI285) -> 0 | J285: =+IF(ISERROR(VLOOKUP(B285&E285,Tablas!$N$102:$O$200,2,FALSE)=TRUE),"No definido",VLOOKUP(B285&E285,Tablas!N381:O434,2,FALSE)) -> No definido
B287: Total | H287: =SUM(H6:H285) -> 0 | L287: =SUM(L6:L285) -> 0 | M287: =SUM(M6:M285) -> 0 | N287: =SUM(N6:N285) -> 0 | O287: =SUM(O6:O285) -> 0 | P287: =SUM(P6:P285) -> 0 | Q287: =SUM(Q6:Q285) -> 0 | R287: =SUM(R6:R285) -> 0 | S287: =SUM(S6:S285) -> 0 | ... AI287: =SUM(AI6:AI285) -> 0

Sheet Resumen
B2: C.5 Provisión de Servicios de Apoyo a la Implementación
B3: Id. | C3: Descripción | D3: Días / Hombre
C4: Gerente de Servicio de Apoyo a la Implementación | D4: =+SUMIF('Plan de Recursos Etapa 1'!$J$6:$J$285,+Resumen!G4,'Plan de Recursos Etapa 1'!$H$6:$H$285) -> 0 | F4: Gerenciamiento | G4: Gerenciamiento
C5: Project Manager | D5: =+SUMIF('Plan de Recursos Etapa 1'!$J$6:$J$285,+Resumen!G5,'Plan de Recursos Etapa 1'!$H$6:$H$285) -> 0 | G5: PM
C6: Gestión del Cambio (CMO) | D6: =+SUMIF('Plan de Recursos Etapa 1'!$J$6:$J$285,+Resumen!G6,'Plan de Recursos Etapa 1'!$H$6:$H$285) -> 0 | F6: Cambio | G6: Cambio
C7: Modelado y documentación de Procesos y procedimientos (BPA) | D7: =+SUMIF('Plan de Recursos Etapa 1'!$J$6:$J$285,+Resumen!G7,'Plan de Recursos Etapa 1'!$H$6:$H$285) -> 0 | F7: Modelado | G7: Modelado
C8: Gestión del Riesgo y controles | D8: =+SUMIF('Plan de Recursos Etapa 1'!$J$6:$J$285,+Resumen!G8,'Plan de Recursos Etapa 1'!$H$6:$H$285) -> 0 | F8: Riesgo | G8: Riesgos
B9: TOTAL | D9: =+SUM(D4:D8) -> 0

Sheet Tablas
A1: Muy Experimentado | G1: Experiencia requerida para ADIF > 6 años
A2: Experimentado | G2: Experiencia requerida para ADIF > 4 años
A3: Experiencia Media | G3: Experiencia requerida para ADIF > 2 años
A4: Baja Experiencia | G4: Experiencia requerida para ADIF > 1 año
A5: Sin Experiencia | G5: No tiene ninguna experiencia en el rol requerido por ADIF
A7: Etapas | C7: Administración y Finanzas | D7: Muy Experimentado | E7: Implementación ERP y Migración | G7: ROL IMPLEMENTACION
A8: Preparación e Iniciación | C8: Planeamiento Comercial Corporativo | D8: Experimentado | E8: Desarrollo | G8: Gerente de Proyecto | H8: Implementador | L8: Preparación e Iniciación | M8: Gerente de Proyecto | N8: =+L8&M8 -> Preparación e IniciaciónGerente de Proyecto | O8: Implementador
A9: Relevamiento y análisis de la situación actual | C9: Recursos Humanos | D9: Experiencia Media | E9: Gestión del Cambio | G9: Lider de Proyecto | H9: Implementador | L9: Relevamiento y análisis de la situación actual | M9: Gerente de Proyecto | N9: =+L9&M9 -> Relevamiento y análisis de la situación actualGerente de Proyecto | O9: Implementador
A10: Diseño de la Solución | C10: Comercial | D10: Baja Experiencia | E10: Control de Calidad | G10: Consultor de Producto | H10: Implementador | L10: Diseño de la Solución | M10: Gerente de Proyecto | N10: =+L10&M10 -> Diseño de la SoluciónGerente de Proyecto | O10: Implementador
A11: Diseño detallado | C11: Operaciones | D11: Sin Experiencia | E11: Soporte y Mejora Continua | G11: Consultor Sr de Producto | H11: Implementador | L11: Diseño detallado | M11: Gerente de Proyecto | N11: =+L11&M11 -> Diseño detalladoGerente de Proyecto | O11: Implementador
A12: Construcción y pruebas | C12: Otros | G12: Desarrollador | H12: Desarrollador | L12: Construcción y pruebas | M12: Gerente de Proyecto | N12: =+L12&M12 -> Construcción y pruebasGerente de Proyecto | O12: Implementador
A13: Preparación | C13: Todos | G13: Arquitecto de integración | H13: Arquitecto | L13: Preparación | M13: Gerente de Proyecto | N13: =+L13&M13 -> PreparaciónGerente de Proyecto | O13: Implementador
A14: Implementación y Roll Out | G14: Consultor de Tecnología | H14: Arquitecto | L14: Implementación y Roll Out | M14: Gerente de Proyecto | N14: =+L14&M14 -> Implementación y Roll OutGerente de Proyecto | O14: Implementador
A15: Soporte Post Implementación (3 Meses) | G15: Administrador de Base de Datos | H15: Administrador | L15: Soporte Post Implementación (3 Meses) | M15: Gerente de Proyecto | N15: =+L15&M15 -> Soporte Post Implementación (3 Meses)Gerente de Proyecto | O15: Soporte
A16: Servicio Soporte a la Aplicación ERP - AMS | G16: Administrador de ERP | H16: Administrador | L16: Servicio Soporte a la Aplicación ERP - AMS | M16: Gerente de Proyecto | N16: =+L16&M16 -> Servicio Soporte a la Aplicación ERP - AMSGerente de Proyecto | O16: Implementador
G17: Aseguramiento de Calidad | H17: Administrador | L17: Preparación e Iniciación | M17: Lider de Proyecto | N17: =+L17&M17 -> Preparación e IniciaciónLider de Proyecto | O17: Implementador
G18: Gerente_de_Servicio_de_Apoyo_a_la_Implementación | L18: Relevamiento y análisis de la situación actual | M18: Lider de Proyecto | N18: =+L18&M18 -> Relevamiento y análisis de la situación actualLider de Proyecto | O18: Implementador
G19: Project_Manager | L19: Diseño de la Solución | M19: Lider de Proyecto | N19: =+L19&M19 -> Diseño de la SoluciónLider de Proyecto | O19: Implementador
G20: Consultor_Sr._de_Procesos | L20: Diseño detallado | M20: Lider de Proyecto | N20: =+L20&M20 -> Diseño detalladoLider de Proyecto | O20: Implementador
G21: Consultor_de_Procesos | L21: Construcción y pruebas | M21: Lider de Proyecto | N21: =+L21&M21 -> Construcción y pruebasLider de Proyecto | O21: Implementador
G22: Gestor_del_Cambio | L22: Preparación | M22: Lider de Proyecto | N22: =+L22&M22 -> PreparaciónLider de Proyecto | O22: Implementador
G23: Gestor_del_Riesgo | L23: Implementación y Roll Out | M23: Lider de Proyecto | N23: =+L23&M23 -> Implementación y Roll OutLider de Proyecto | O23: Implementador
L24: Soporte Post Implementación (3 Meses) | M24: Lider de Proyecto | N24: =+L24&M24 -> Soporte Post Implementación (3 Meses)Lider de Proyecto | O24: Soporte
H25: Gerente_de_Servicio_de_Apoyo_a_la_Implementación | L25: Servicio Soporte a la Aplicación ERP - AMS | M25: Lider de Proyecto | N25: =+L25&M25 -> Servicio Soporte a la Aplicación ERP - AMSLider de Proyecto | O25: Implementador
H26: Todos | L26: Preparación e Iniciación | M26: Consultor de Producto | N26: =+L26&M26 -> Preparación e IniciaciónConsultor de Producto | O26: Implementador
L27: Relevamiento y análisis de la situación actual | M27: Consultor de Producto | N27: =+L27&M27 -> Relevamiento y análisis de la situación actualConsultor de Producto | O27: Implementador
L28: Diseño de la Solución | M28: Consultor de Producto | N28: =+L28&M28 -> Diseño de la SoluciónConsultor de Producto | O28: Implementador
H29: Project_Manager | L29: Diseño detallado | M29: Consultor de Producto | N29: =+L29&M29 -> Diseño detalladoConsultor de Producto | O29: Implementador
H30: Administración y Finanzas | L30: Construcción y pruebas | M30: Consultor de Producto | N30: =+L30&M30 -> Construcción y pruebasConsultor de Producto | O30: Implementador
H31: Planeamiento Comercial Corporativo | L31: Preparación | M31: Consultor de Producto | N31: =+L31&M31 -> PreparaciónConsultor de Producto | O31: Implementador
H32: Recursos Humanos | L32: Implementación y Roll Out | M32: Consultor de Producto | N32: =+L32&M32 -> Implementación y Roll OutConsultor de Producto | O32: Implementador
H33: Comercial | L33: Soporte Post Implementación (3 Meses) | M33: Consultor de Producto | N33: =+L33&M33 -> Soporte Post Implementación (3 Meses)Consultor de Producto | O33: Soporte
H34: Operaciones | L34: Servicio Soporte a la Aplicación ERP - AMS | M34: Consultor de Producto | N34: =+L34&M34 -> Servicio Soporte a la Aplicación ERP - AMSConsultor de Producto | O34: Implementador
H35: Todos | L35: Preparación e Iniciación | M35: Consultor Sr de Producto | N35: =+L35&M35 -> Preparación e IniciaciónConsultor Sr de Producto | O35: Implementador
L36: Relevamiento y análisis de la situación actual | M36: Consultor Sr de Producto | N36: =+L36&M36 -> Relevamiento y análisis de la situación actualConsultor Sr de Producto | O36: Implementador
L37: Diseño de la Solución | M37: Consultor Sr de Producto | N37: =+L37&M37 -> Diseño de la SoluciónConsultor Sr de Producto | O37: Implementador
H38: Consultor_Sr._de_Procesos | L38: Diseño detallado | M38: Consultor Sr de Producto | N38: =+L38&M38 -> Diseño detalladoConsultor Sr de Producto | O38: Implementador
H39: Administración y Finanzas | L39: Construcción y pruebas | M39: Consultor Sr de Producto | N39: =+L39&M39 -> Construcción y pruebasConsultor Sr de Producto | O39: Implementador
H40: Planeamiento Comercial Corporativo | L40: Preparación | M40: Consultor Sr de Producto | N40: =+L40&M40 -> PreparaciónConsultor Sr de Producto | O40: Implementador
H41: Recursos Humanos | L41: Implementación y Roll Out | M41: Consultor Sr de Producto | N41: =+L41&M41 -> Implementación y Roll OutConsultor Sr de Producto | O41: Implementador
H42: Comercial | L42: Soporte Post Implementación (3 Meses) | M42: Consultor Sr de Producto | N42: =+L42&M42 -> Soporte Post Implementación (3 Meses)Consultor Sr de Producto | O42: Soporte
H43: Operaciones | L43: Servicio Soporte a la Aplicación ERP - AMS | M43: Consultor Sr de Producto | N43: =+L43&M43 -> Servicio Soporte a la Aplicación ERP - AMSConsultor Sr de Producto | O43: Implementador
L44: Preparación e Iniciación | M44: Desarrollador | N44: =+L44&M44 -> Preparación e IniciaciónDesarrollador | O44: Desarrollador
L45: Relevamiento y análisis de la situación actual | M45: Desarrollador | N45: =+L45&M45 -> Relevamiento y análisis de la situación actualDesarrollador | O45: Desarrollador
H46: Consultor_de_Procesos | L46: Diseño de la Solución | M46: Desarrollador | N46: =+L46&M46 -> Diseño de la SoluciónDesarrollador | O46: Desarrollador
H47: Administración y Finanzas | L47: Diseño detallado | M47: Desarrollador | N47: =+L47&M47 -> Diseño detalladoDesarrollador | O47: Desarrollador
H48: Planeamiento Comercial Corporativo | L48: Construcción y pruebas | M48: Desarrollador | N48: =+L48&M48 -> Construcción y pruebasDesarrollador | O48: Desarrollador
H49: Recursos Humanos | L49: Preparación | M49: Desarrollador | N49: =+L49&M49 -> PreparaciónDesarrollador | O49: Desarrollador
H50: Comercial | L50: Implementación y Roll Out | M50: Desarrollador | N50: =+L50&M50 -> Implementación y Roll OutDesarrollador | O50: Desarrollador
H51: Operaciones | L51: Soporte Post Implementación (3 Meses) | M51: Desarrollador | N51: =+L51&M51 -> Soporte Post Implementación (3 Meses)Desarrollador | O51: Soporte
L52: Servicio Soporte a la Aplicación ERP - AMS | M52: Desarrollador | N52: =+L52&M52 -> Servicio Soporte a la Aplicación ERP - AMSDesarrollador | O52: Desarrollador
L53: Preparación e Iniciación | M53: Arquitecto de integración | N53: =+L53&M53 -> Preparación e IniciaciónArquitecto de integración | O53: Arquitecto
H54: Gestor_del_Cambio | L54: Relevamiento y análisis de la situación actual | M54: Arquitecto de integración | N54: =+L54&M54 -> Relevamiento y análisis de la situación actualArquitecto de integración | O54: Arquitecto
H55: Todos | L55: Diseño de la Solución | M55: Arquitecto de integración | N55: =+L55&M55 -> Diseño de la SoluciónArquitecto de integración | O55: Arquitecto
L56: Diseño detallado | M56: Arquitecto de integración | N56: =+L56&M56 -> Diseño detalladoArquitecto de integración | O56: Arquitecto
H57: Gestor_del_Riesgo | L57: Construcción y pruebas | M57: Arquitecto de integración | N57: =+L57&M57 -> Construcción y pruebasArquitecto de integración | O57: Arquitecto
H58: Todos | L58: Preparación | M58: Arquitecto de integración | N58: =+L58&M58 -> PreparaciónArquitecto de integración | O58: Arquitecto
L59: Implementación y Roll Out | M59: Arquitecto de integración | N59: =+L59&M59 -> Implementación y Roll OutArquitecto de integración | O59: Arquitecto
L60: Soporte Post Implementación (3 Meses) | M60: Arquitecto de integración | N60: =+L60&M60 -> Soporte Post Implementación (3 Meses)Arquitecto de integración | O60: Soporte
L61: Servicio Soporte a la Aplicación ERP - AMS | M61: Arquitecto de integración | N61: =+L61&M61 -> Servicio Soporte a la Aplicación ERP - AMSArquitecto de integración | O61: Arquitecto
L62: Preparación e Iniciación | M62: Consultor de Tecnología | N62: =+L62&M62 -> Preparación e IniciaciónConsultor de Tecnología | O62: Arquitecto
L63: Relevamiento y análisis de la situación actual | M63: Consultor de Tecnología | N63: =+L63&M63 -> Relevamiento y análisis de la situación actualConsultor de Tecnología | O63: Arquitecto
L64: Diseño de la Solución | M64: Consultor de Tecnología | N64: =+L64&M64 -> Diseño de la SoluciónConsultor de Tecnología | O64: Arquitecto
L65: Diseño detallado | M65: Consultor de Tecnología | N65: =+L65&M65 -> Diseño detalladoConsultor de Tecnología | O65: Arquitecto
L66: Construcción y pruebas | M66: Consultor de Tecnología | N66: =+L66&M66 -> Construcción y pruebasConsultor de Tecnología | O66: Arquitecto
L67: Preparación | M67: Consultor de Tecnología | N67: =+L67&M67 -> PreparaciónConsultor de Tecnología | O67: Arquitecto
L68: Implementación y Roll Out | M68: Consultor de Tecnología | N68: =+L68&M68 -> Implementación y Roll OutConsultor de Tecnología | O68: Arquitecto
L69: Soporte Post Implementación (3 Meses) | M69: Consultor de Tecnología | N69: =+L69&M69 -> Soporte Post Implementación (3 Meses)Consultor de Tecnología | O69: Soporte
L70: Servicio Soporte a la Aplicación ERP - AMS | M70: Consultor de Tecnología | N70: =+L70&M70 -> Servicio Soporte a la Aplicación ERP - AMSConsultor de Tecnología | O70: Arquitecto
... L88: Servicio Soporte a la Aplicación ERP - AMS | M88: Administrador de ERP | N88: =+L88&M88 -> Servicio Soporte a la Aplicación ERP - AMSAdministrador de ERP | O88: Administrador
L89: Preparación e Iniciación | M89: Aseguramiento de Calidad | N89: =+L89&M89 -> Preparación e IniciaciónAseguramiento de Calidad
L90: Relevamiento y análisis de la situación actual | M90: Aseguramiento de Calidad | N90: =+L90&M90 -> Relevamiento y análisis de la situación actualAseguramiento de Calidad
L91: Diseño de la Solución | M91: Aseguramiento de Calidad | N91: =+L91&M91 -> Diseño de la SoluciónAseguramiento de Calidad
L92: Diseño detallado | M92: Aseguramiento de Calidad | N92: =+L92&M92 -> Diseño detalladoAseguramiento de Calidad
L93: Construcción y pruebas | M93: Aseguramiento de Calidad | N93: =+L93&M93 -> Construcción y pruebasAseguramiento de Calidad
L94: Preparación | M94: Aseguramiento de Calidad | N94: =+L94&M94 -> PreparaciónAseguramiento de Calidad
L95: Implementación y Roll Out | M95: Aseguramiento de Calidad | N95: =+L95&M95 -> Implementación y Roll OutAseguramiento de Calidad
L96: Soporte Post Implementación (3 Meses) | M96: Aseguramiento de Calidad | N96: =+L96&M96 -> Soporte Post Implementación (3 Meses)Aseguramiento de Calidad
L97: Servicio Soporte a la Aplicación ERP - AMS | M97: Aseguramiento de Calidad | N97: =+L97&M97 -> Servicio Soporte a la Aplicación ERP - AMSAseguramiento de Calidad
L102: Preparación e Iniciación | M102: Gerente_de_Servicio_de_Apoyo_a_la_Implementación | N102: =+L102&M102 -> Preparación e IniciaciónGerente_de_Servicio_de_Apoyo_a_la_Implementación | O102: Gerenciamiento
L103: Relevamiento y análisis de la situación actual | M103: Gerente_de_Servicio_de_Apoyo_a_la_Implementación | N103: =+L103&M103 -> Relevamiento y análisis de la situación actualGerente_de_Servicio_de_Apoyo_a_la_Implementación | O103: Gerenciamiento
L104: Diseño de la Solución | M104: Gerente_de_Servicio_de_Apoyo_a_la_Implementación | N104: =+L104&M104 -> Diseño de la SoluciónGerente_de_Servicio_de_Apoyo_a_la_Implementación | O104: Gerenciamiento
L105: Diseño detallado | M105: Gerente_de_Servicio_de_Apoyo_a_la_Implementación | N105: =+L105&M105 -> Diseño detalladoGerente_de_Servicio_de_Apoyo_a_la_Implementación | O105: Gerenciamiento
L106: Construcción y pruebas | M106: Gerente_de_Servicio_de_Apoyo_a_la_Implementación | N106: =+L106&M106 -> Construcción y pruebasGerente_de_Servicio_de_Apoyo_a_la_Implementación | O106: Gerenciamiento
L107: Preparación | M107: Gerente_de_Servicio_de_Apoyo_a_la_Implementación | N107: =+L107&M107 -> PreparaciónGerente_de_Servicio_de_Apoyo_a_la_Implementación | O107: Gerenciamiento
L108: Implementación y Roll Out | M108: Gerente_de_Servicio_de_Apoyo_a_la_Implementación | N108: =+L108&M108 -> Implementación y Roll OutGerente_de_Servicio_de_Apoyo_a_la_Implementación | O108: Gerenciamiento
L109: Soporte Post Implementación (3 Meses) | M109: Gerente_de_Servicio_de_Apoyo_a_la_Implementación | N109: =+L109&M109 -> Soporte Post Implementación (3 Meses)Gerente_de_Servicio_de_Apoyo_a_la_Implementación | O109: Gerenciamiento
L110: Servicio Soporte a la Aplicación ERP - AMS | M110: Gerente_de_Servicio_de_Apoyo_a_la_Implementación | N110: =+L110&M110 -> Servicio Soporte a la Aplicación ERP - AMSGerente_de_Servicio_de_Apoyo_a_la_Implementación | O110: Gerenciamiento
L111: Preparación e Iniciación | M111: Project_Manager | N111: =+L111&M111 -> Preparación e IniciaciónProject_Manager | O111: PM
L112: Relevamiento y análisis de la situación actual | M112: Project_Manager | N112: =+L112&M112 -> Relevamiento y análisis de la situación actualProject_Manager | O112: PM
L113: Diseño de la Solución | M113: Project_Manager | N113: =+L113&M113 -> Diseño de la SoluciónProject_Manager | O113: PM
... L155: Servicio Soporte a la Aplicación ERP - AMS | M155: Gestor_del_Riesgo | N155: =+L155&M155 -> Servicio Soporte a la Aplicación ERP - AMSGestor_del_Riesgo | O155: Riesgos
