Workbook
Name ba: #REF!
Name MONEDA: Hoja3!$A$1:$A$6
Name MONEDAS: Hoja3!$A$1:$A$6
Name PESOS: 'PORTADA '!$B$10:$G$10

Sheet PORTADA 
D3: 2017- Año de las Energías Renovables
A5: PLANILLA DE COTIZACION - RESUMEN MANTENIMIENTO PREVENTIVO MEDIANO DE LOCOMOTORAS Y COCHES DE LA LINEA SAN MARTIN
A7: OFERENTE
A8: CUIT
A9: OFERTA SIN IVA | B9: =+G20+G24+G33 -> 0
A10: TIPO DE MONEDA | B10: USD (DOLARES ESTADOUNIDENSES)
A11: ALICUOTA IVA
A13: RENGLON | B13: SUBRENGLON | C13: DESCRIPCION | E13: CANTIDAD | F13: UNITARIO | G13: TOTAL
A14: I LOCOMOTORAS | B14: 1.1 | C14: TOTAL SUBRENGLON 1.1 | D14: MANO DE OBRA PARA MANTENIMIENTO PREVENTIVO MEDIANO DE LOCOMOTORAS SDD7 + CAPACITACION TECNICA A 20 OPERARIOS + TABLA 1.1 | E14: =+'[1]Subrenglon 1.1 y 1.2'!D4 -> 11 | F14: ='Subrenglon 1.1 y 1.2'!E4+'Subrenglon 1.1 y 1.2'!E5 -> 0 | G14: =+F14*E14 -> 0
A15: 0 | B15: 1.2 | C15: TOTAL SUBRENGLON 1.2 | D15: ASISTENCIA Y SUPERVISION TECNICA A 20 OPERARIOS PARA EL MANTENIMIENTO PREVENTIVO MEDIANO DE LOCOMOTORA SDD7 + TABLA 1.1 | E15: =+'[1]Subrenglon 1.1 y 1.2'!D5 -> 11 | F15: ='Subrenglon 1.1 y 1.2'!E9+'Subrenglon 1.1 y 1.2'!E10 -> 0 | G15: =+F15*E15 -> 0
A16: 0 | B16: 1.3 | C16: TOTAL SUBRENGLON 1.3 | D16: ASISTENCIA Y SUPERVISION TECNICA A 20 OPERARIOS PARA LA REPARACION DE LAS LOCOMOTORAS SDD7 B961 + TABLA 1.3.1 | E16: 1 | F16: ='Subrenglon 1.3'!F4 -> 0 | G16: =+F16*E16 -> 0
D17: ASISTENCIA Y SUPERVISION TECNICA A 20 OPERARIOS PARA LA REPARACION DE LAS LOCOMOTORAS SDD7 B962 + TABLA 1.3.2 | E17: 1 | F17: ='Subrenglon 1.3'!F6 -> 0 | G17: =+F17*E17 -> 0
A18: 0 | B18: 1.4 | C18: TOTAL SUBRENGLON 1.4 | D18: REPUESTOS DE LOCOMOTORAS PARA STOCK - TABLA 1.4.1 Y 1.4.2 | E18: 1 | F18: ='Subrenglon 1.4'!E6 -> 0 | G18: =+F18*E18 -> 0
A19: 0 | B19: 1.5 | C19: TOTAL SUBRENGLON 1.5 | D19: EVENTUALES PARA LOCOMOTORAS - TABLA 1.5 | E19: 1 | F19: ='Subrenglon 1.5'!E5 -> 0 | G19: =+F19*E19 -> 0
A20: TOTAL RENGLON I LOCOMOTORAS | G20: =SUM(G14:G19) -> 0
A22: RENGLON | B22: SUBRENGLON | C22: DESCRIPCION | E22: CANTIDAD | F22: UNITARIO | G22: TOTAL
A23: II HERRAMENTAL | B23: 2.1 | C23: TOTAL SUBRENGOL 2.1 | D23: BANCO DE PRUEBA PARA VALVULAS 26 L. | E23: 1 | F23: ='2.1 Planilla Cotizacion Banco'!D4 -> 0 | G23: ='2.1 Planilla Cotizacion Banco'!D5 -> 0
A24: TOTAL RENGLON II HERRAMENTAL | G24: =+G23 -> 0
A26: RENGLON | B26: SUBRENGLON | C26: DESCRIPCION | E26: CANTIDAD | F26: UNITARIO | G26: TOTAL
A27: III COCHES | B27: 3.1 | C27: TOTAL SUBRENGLON 3.1 | D27: MANO DE OBRA PARA MANTENIMIENTO PREVENTIVO MEDIANO DE FURGON CSR PUZHEN + CAPACITACION TECNICA A 20 OPERARIOS + TABLA 3.1.1 Y 3.1.2 | E27: 24 | F27: ='Subrenglon 3.1 y 3.2'!E4+'Subrenglon 3.1 y 3.2'!E5 -> 0 | G27: =F27*E27 -> 0
D28: MANO DE OBRA PARA MANTENIMIENTO PREVENTIVO MEDIANO DE COCHES CSR PUZHEN + CAPACITACION TECNICA A 20 OPERARIOS + TABLA 3.1.1 Y 3.1.2 | E28: 56 | F28: ='Subrenglon 3.1 y 3.2'!E6+'Subrenglon 3.1 y 3.2'!E7 -> 0 | G28: =F28*E28 -> 0
A29: 0 | B29: 3.2 | C29: TOTAL SUBRENGLON 3.2 | D29: ASISTENCIA Y SUPERVISION TECNICA A 20 OPERARIOS PARA EL MANTENIMIENTO PREVENTIVO MEDIANO DE FURGON CSR PUZHEN + TABLA 3.1.1 Y 3.1.2 | E29: 24 | F29: ='Subrenglon 3.1 y 3.2'!E11+'Subrenglon 3.1 y 3.2'!E12 -> 0 | G29: =F29*E29 -> 0
D30: ASISTENCIA Y SUPERVISION TECNICA A 20 OPERARIOS PARA EL MANTENIMIENTO PREVENTIVO MEDIANO DE COCHES CSR PUZHEN + TABLA 3.1.1 Y 3.1.2 | E30: 56 | F30: ='Subrenglon 3.1 y 3.2'!E13+'Subrenglon 3.1 y 3.2'!E14 -> 0 | G30: =F30*E30 -> 0
A31: 0 | B31: 3.3 | C31: TOTAL SUBRENGLON 3.3 | D31: REPUESTOS DE COCHES Y FURGONES SCR PARA STOCK TABLA - 3.3.1, 3.3.2 Y 3.3.3 | E31: 1 | F31: ='Subrenglon 3.3'!D7 -> 0 | G31: =F31*E31 -> 0
A32: 0 | B32: 3.4 | C32: TOTAL SUBRENGLON 3.4 | D32: EVENTUALES PARA COCHES Y FURGONES SCR - TABLA 3.4.1 Y 3.4.2 | E32: 1 | F32: ='Subrenglon 3.4'!D6 -> 0 | G32: =F32*E32 -> 0
A33: TOTAL RENGLON III COCHES | G33: =SUM(G27:G32) -> 0

Sheet Hoja3
A1: $ (PESOS)
A2: USD (DOLARES ESTADOUNIDENSES)
A3: € (EUROS)
A4: ¥ (YUANES)
A5: £ (LIBRAS ESTERLINAS)
A6: OTROS

Sheet Subrenglon 1.1 y 1.2
B1: PORTADA | C1: PLANILLA DE COTIZACION
B3: SUBRENGLON | C3: DESCRIPCION | D3: CANTIDAD | E3: P. UNITARIO | F3: P. TOTAL
B4: 1.1 | C4: MANO DE OBRA PARA MANTENIMIENTO PREVENTIVO MEDIANO DE LOCOMOTORAS SDD7 Y CAPACITACION TECNICA A 20 OPERARIOS PARA EL MANTENIMIENTO PREVENTIVO MEDIANO DE LOCOMOTORAS SDD7 | D4: 11 | E4: ='1.7 Planilla Cotizacion LOCs'!G8 -> 0 | F4: =+(E4+E5)*D4 -> 0
C5: TOTAL REPUESTOS MANDATARIOS LOCOMOTORAS - TABLA 1.1 | D5: 11 | E5: =SUM(H16:H609) -> 0
B6: TOTAL SUBRENGLON 1.1 | E6: =+E5+E4 -> 0 | F6: =+F4 -> 0
B8: SUBRENGLON | C8: DESCRIPCION | D8: CANTIDAD | E8: P. UNITARIO | F8: P. TOTAL
B9: 1.2 | C9: ASISTENCIA Y SUPERVISION TECNICA A 20 OPERARIOS PARA EL MANTENIMIENTO PREVENTIVO MEDIANO DE LOCOMOTORAS SDD7 | D9: 11 | E9: ='1.7 Planilla Cotizacion LOCs'!G10 -> 0 | F9: =+(E9+E10)*D9 -> 0
C10: TOTAL REPUESTOS MANDATARIOS LOCOMOTORAS - TABLA 1.1 | D10: 11 | E10: =SUM(H16:H609) -> 0
B11: TOTAL SUBRENGLON 1.2 | E11: =+E10+E9 -> 0 | F11: =+F9 -> 0
A14: REPUESTOS MANDATARIOS TABLA 1.1
A15: Tarea | B15: Grupo | C15: Descripción | D15: Código CSR/ RF | E15: Otra RF | F15: Cantidad | G15: P. Unitario | H15: P. Total
A16: 3.1.1 | B16: Baterías | C16: Terminales de conexión de batería | F16: 4 | G16: =VLOOKUP(C16,'1.7 Planilla Cotizacion LOCs'!E$16:G$1040,3,FALSE) -> 0 | H16: =+F16*G16 -> 0
A17: 3.1.2 | B17: Tanque de combustible | C17: Manga de salida de tanque de combustible | D17: 606030200004 | E17: DLJG-DH-92 | F17: 1 | G17: =VLOOKUP(C17,'1.7 Planilla Cotizacion LOCs'!E$16:G$1040,3,FALSE) -> 0 | H17: =+F17*G17 -> 0
A18: 3.1.2 | B18: Tanque de combustible | C18: Manga de retorno de tanque de combustible | D18: 606030200005 | F18: 1 | G18: =VLOOKUP(C18,'1.7 Planilla Cotizacion LOCs'!E$16:G$1040,3,FALSE) -> 0 | H18: =+F18*G18 -> 0
A19: 3.1.2 | B19: Tanque de combustible | C19: Conjunto de entrada combustible. Brida y Caño de succion. | D19: 606030201010 | F19: 1 | G19: =VLOOKUP(C19,'1.7 Planilla Cotizacion LOCs'!E$16:G$1040,3,FALSE) -> 0 | H19: =+F19*G19 -> 0
A20: 3.1.2 | B20: Tanque de combustible | C20: Conjunto de retorno de combustible. Brida y caño de retorno | D20: 606030201012 | F20: 1 | G20: =VLOOKUP(C20,'1.7 Planilla Cotizacion LOCs'!E$16:G$1040,3,FALSE) -> 0 | H20: =+F20*G20 -> 0
A21: 3.1.2 | B21: Tanque de combustible | C21: CONJUNTO DE INDICADOR DE NIVEL DE COMBUSTIBLE INFERIOR. LOC SDD7 | D21: 606030201015 | F21: 2 | G21: =VLOOKUP(C21,'1.7 Planilla Cotizacion LOCs'!E$16:G$1040,3,FALSE) -> 0 | H21: =+F21*G21 -> 0
A22: 3.1.2 | B22: Tanque de combustible | C22: Conjunto de valvula de drenaje de tanque | D22: 606030201024 | F22: 1 | G22: =VLOOKUP(C22,'1.7 Planilla Cotizacion LOCs'!E$16:G$1040,3,FALSE) -> 0 | H22: =+F22*G22 -> 0
A23: 3.1.2 | B23: Tanque de combustible | C23: Junta tapa de tanque de combustible - Loc. SDD7 | D23: CONSUMIBLE | F23: 2 | G23: =VLOOKUP(C23,'1.7 Planilla Cotizacion LOCs'!E$16:G$1040,3,FALSE) -> 0 | H23: =+F23*G23 -> 0
A24: 3.1.2 | B24: Tanque de combustible | C24: Indicador de nivel de combustible, con elemento flotante | F24: 2 | G24: =VLOOKUP(C24,'1.7 Planilla Cotizacion LOCs'!E$16:G$1040,3,FALSE) -> 0 | H24: =+F24*G24 -> 0
A25: 3.1.2 | B25: Tanque de combustible | C25: Conjunto tapa de tanque de combustible - Loc. SDD7 | F25: 2 | G25: =VLOOKUP(C25,'1.7 Planilla Cotizacion LOCs'!E$16:G$1040,3,FALSE) -> 0 | H25: =+F25*G25 -> 0
A26: 3.1.2 | B26: Tanque de combustible | C26: TRABA DE TAPA DE TANQUE DE COMBUSTIBLE- LOC SDD 7 | F26: 2 | G26: =VLOOKUP(C26,'1.7 Planilla Cotizacion LOCs'!E$16:G$1040,3,FALSE) -> 0 | H26: =+F26*G26 -> 0
A27: 3.1.2 | B27: Tanque de combustible | C27: Tapas de inspección de tanque | F27: 2 | G27: =VLOOKUP(C27,'1.7 Planilla Cotizacion LOCs'!E$16:G$1040,3,FALSE) -> 0 | H27: =+F27*G27 -> 0
A28: 3.1.2 | B28: Tanque de combustible | C28: Protector de indicador de nivel | F28: 2 | G28: =VLOOKUP(C28,'1.7 Planilla Cotizacion LOCs'!E$16:G$1040,3,FALSE) -> 0 | H28: =+F28*G28 -> 0
A29: 3.1.3 | B29: Depósito de Aire Principal | C29: Cubierta de proteccion de valvula de drenaje | D29: 606050103002 | F29: 2 | G29: =VLOOKUP(C29,'1.7 Planilla Cotizacion LOCs'!E$16:G$1040,3,FALSE) -> 0 | H29: =+F29*G29 -> 0
A30: 3.1.3 | B30: Depósito de Aire Principal | C30: Válvulas de drenaje de agua. (grifo) | D30: 606050103004 | E30: SOBLRCB-10-40 | F30: 2 | G30: =VLOOKUP(C30,'1.7 Planilla Cotizacion LOCs'!E$16:G$1040,3,FALSE) -> 0 | H30: =+F30*G30 -> 0
A31: 3.1.3 | B31: Depósito de Aire Principal | C31: Codo de entrada y salida de aire. | D31: 606050103008 | F31: 4 | G31: =VLOOKUP(C31,'1.7 Planilla Cotizacion LOCs'!E$16:G$1040,3,FALSE) -> 0 | H31: =+F31*G31 -> 0
A32: 3.10 | B32: Contactores y relés | C32: Apaga arco de contactor de arranque | E32: S1001/06-PB-44-80V-B | F32: 1 | G32: =VLOOKUP(C32,'1.7 Planilla Cotizacion LOCs'!E$16:G$1040,3,FALSE) -> 0 | H32: =+F32*G32 -> 0
A33: 3.10 | B33: Contactores y relés | C33: Apaga arco de contactor Ppal. | E33: S1115/10-P-33-110V-B | F33: 6 | G33: =VLOOKUP(C33,'1.7 Planilla Cotizacion LOCs'!E$16:G$1040,3,FALSE) -> 0 | H33: =+F33*G33 -> 0
A34: 3.10 | B34: Contactores y relés | C34: Dedo de contacto fijo y movil de contactores ppal - Loc. SDD 7 | F34: 6 | G34: =VLOOKUP(C34,'1.7 Planilla Cotizacion LOCs'!E$16:G$1040,3,FALSE) -> 0 | H34: =+F34*G34 -> 0
A35: 3.2.1 | B35: Bogies - Suspensión | C35: ELASTICO DE GOMA PARA SUSPENSION PRIMARIA BOGIE. LOC CSR SDD7. | D35: 606040200001 | F35: 24 | G35: =VLOOKUP(C35,'1.7 Planilla Cotizacion LOCs'!E$16:G$1040,3,FALSE) -> 0 | H35: =+F35*G35 -> 0
A36: 3.2.1 | B36: Bogies - Suspensión | C36: Arandela de ajuste para suspension primaria. (placa suplememto) | D36: 606040200006 | F36: 24 | G36: =VLOOKUP(C36,'1.7 Planilla Cotizacion LOCs'!E$16:G$1040,3,FALSE) -> 0 | H36: =+F36*G36 -> 0
A37: 3.2.1 | B37: Bogies - Suspensión | C37: RESORTE DE GOMA. APOYO ENTRE BOGIE Y CARROCERIA Loc CSR SDD7 | D37: 606040400000 | F37: 8 | G37: =VLOOKUP(C37,'1.7 Planilla Cotizacion LOCs'!E$16:G$1040,3,FALSE) -> 0 | H37: =+F37*G37 -> 0
A38: 3.2.1 | B38: Bogies - Suspensión | C38: Arandela de ajuste de resorte de goma apoyo lateral. (placa de suplemento) | D38: 606040400002 | F38: 8 | G38: =VLOOKUP(C38,'1.7 Planilla Cotizacion LOCs'!E$16:G$1040,3,FALSE) -> 0 | H38: =+F38*G38 -> 0
A39: 3.2.2 | B39: Bogies - Disp. tracción | C39: Placa de seguridad. Arandela de centro de bogue. | D39: 606040500005 | F39: 2 | G39: =VLOOKUP(C39,'1.7 Planilla Cotizacion LOCs'!E$16:G$1040,3,FALSE) -> 0 | H39: =+F39*G39 -> 0
A40: 3.2.2 | B40: Bogies - Disp. tracción | C40: Anillo guardapolvo | D40: 606040500010 | F40: 16 | G40: =VLOOKUP(C40,'1.7 Planilla Cotizacion LOCs'!E$16:G$1040,3,FALSE) -> 0 | H40: =+F40*G40 -> 0
A41: 3.2.2 | B41: Bogies - Disp. tracción | C41: PASADOR DE ALETAS DE ACERO 7.7 X 110 MM | D41: 606040500016 | F41: 2 | G41: =VLOOKUP(C41,'1.7 Planilla Cotizacion LOCs'!E$16:G$1040,3,FALSE) -> 0 | H41: =+F41*G41 -> 0
A42: 3.2.2 | B42: Bogies - Disp. tracción | C42: PASADOR DE ALETAS TIPO D CINCADO 4.7 X 50 MM | D42: 606040500017 | F42: 8 | G42: =VLOOKUP(C42,'1.7 Planilla Cotizacion LOCs'!E$16:G$1040,3,FALSE) -> 0 | H42: =+F42*G42 -> 0
A43: 3.2.2 | B43: Bogies - Disp. tracción | C43: Alemite de lubricacion M10x1 | D43: 606040500019 | F43: 8 | G43: =VLOOKUP(C43,'1.7 Planilla Cotizacion LOCs'!E$16:G$1040,3,FALSE) -> 0 | H43: =+F43*G43 -> 0
A44: 3.2.3 | B44: Bogies - Par montado - Punta de eje | C44: Alambre L280 para bulones de barras traccion | D44: 606040200010 | F44: 20 | G44: =VLOOKUP(C44,'1.7 Planilla Cotizacion LOCs'!E$16:G$1040,3,FALSE) -> 0 | H44: =+F44*G44 -> 0
A45: 3.2.3 | B45: Bogies - Par montado - Punta de eje | C45: Alambre L400 para bulones de barras traccion | D45: 606040200015 | F45: 20 | G45: =VLOOKUP(C45,'1.7 Planilla Cotizacion LOCs'!E$16:G$1040,3,FALSE) -> 0 | H45: =+F45*G45 -> 0
A46: 3.2.3 | B46: Bogies - Par montado - Punta de eje | C46: Arandela de seguridad bulones de punta de eje-Loc SCR SDD7 | D46: 606040200019 | F46: 12 | G46: =VLOOKUP(C46,'1.7 Planilla Cotizacion LOCs'!E$16:G$1040,3,FALSE) -> 0 | H46: =+F46*G46 -> 0
... A64: 3.2.4 | B64: Bogies - Lubricador de pestaña | C64: Varilla de lubricador de pestaña Loc. CSR SDD7 | D64: CONSUMIBLE | F64: 24 | G64: =VLOOKUP(C64,'1.7 Planilla Cotizacion LOCs'!E$16:G$1040,3,FALSE) -> 0 | H64: =+F64*G64 -> 0
A65: 3.2.5 | B65: Bogies - Disp. Alarma Temperatura | C65: Sensores de temperatura | F65: 12 | G65: =VLOOKUP(C65,'1.7 Planilla Cotizacion LOCs'!E$16:G$1040,3,FALSE) -> 0 | H65: =+F65*G65 -> 0
A66: 3.2.6 | B66: Bogies - Caja de engranajes | C66: Sellos de caja de engranajes cuello de piñon. Anillo de goma en O | D66: 606040600019 | F66: 6 | G66: =VLOOKUP(C66,'1.7 Planilla Cotizacion LOCs'!E$16:G$1040,3,FALSE) -> 0 | H66: =+F66*G66 -> 0
A67: 3.2.6 | B67: Bogies - Caja de engranajes | C67: ARANDELA DE PRESION GROWER CINCADA M30 - 1 1/8" DIN 127 | D67: 606040600031 | F67: 6 | G67: =VLOOKUP(C67,'1.7 Planilla Cotizacion LOCs'!E$16:G$1040,3,FALSE) -> 0 | H67: =+F67*G67 -> 0
A68: 3.2.6 | B68: Bogies - Caja de engranajes | C68: Sello de goma de caja cuello de corona. Anillo en O 412×7-G-N | D68: 606040600042 | F68: 6 | G68: =VLOOKUP(C68,'1.7 Planilla Cotizacion LOCs'!E$16:G$1040,3,FALSE) -> 0 | H68: =+F68*G68 -> 0
A69: 3.2.6 | B69: Bogies - Caja de engranajes | C69: Tornillo cabeza hexagonal M20X2,5x220 - GB /T8-1988-Cal 8.8 Bulon de union | D69: 606040604001 | F69: 24 | G69: =VLOOKUP(C69,'1.7 Planilla Cotizacion LOCs'!E$16:G$1040,3,FALSE) -> 0 | H69: =+F69*G69 -> 0
A70: 3.2.6 | B70: Bogies - Caja de engranajes | C70: Tuerca hexagonal M20X2,5 - GB/T6170-2000. Tuerca de bulon de union | D70: 606040604002 | F70: 24 | G70: =VLOOKUP(C70,'1.7 Planilla Cotizacion LOCs'!E$16:G$1040,3,FALSE) -> 0 | H70: =+F70*G70 -> 0
A71: 3.2.6 | B71: Bogies - Caja de engranajes | C71: Arandela elástica M20 - GB/T93-1987 Arandela de union | D71: 606040604003 | F71: 24 | G71: =VLOOKUP(C71,'1.7 Planilla Cotizacion LOCs'!E$16:G$1040,3,FALSE) -> 0 | H71: =+F71*G71 -> 0
A72: 3.2.6 | B72: Bogies - Caja de engranajes | C72: Tornillo M12×60. Allen (union de carcazas) | D72: 606040604004 | F72: 18 | G72: =VLOOKUP(C72,'1.7 Planilla Cotizacion LOCs'!E$16:G$1040,3,FALSE) -> 0 | H72: =+F72*G72 -> 0
A73: 3.2.6 | B73: Bogies - Caja de engranajes | C73: ACEITE LUBRICANTE PARA CARCASA DE ENGRANAJE (PIÑÓN Y CORONA) DE LOCOMOTORAS DE ORIGEN CHINO | D73: CONSUMIBLE | F73: 60 | G73: =VLOOKUP(C73,'1.7 Planilla Cotizacion LOCs'!E$16:G$1040,3,FALSE) -> 0 | H73: =+F73*G73 -> 0
A74: 3.2.6 | B74: Bogies - Caja de engranajes | C74: Tapa completa para caja grasera Loc CSR SDD7 | F74: 6 | G74: =VLOOKUP(C74,'1.7 Planilla Cotizacion LOCs'!E$16:G$1040,3,FALSE) -> 0 | H74: =+F74*G74 -> 0
A75: 3.2.6 | B75: Bogies - Caja de engranajes | C75: Cadena de retención p/tapa de caja grasera Loc CSR SDD7 | F75: 6 | G75: =VLOOKUP(C75,'1.7 Planilla Cotizacion LOCs'!E$16:G$1040,3,FALSE) -> 0 | H75: =+F75*G75 -> 0
A76: 3.2.6 | B76: Bogies - Caja de engranajes | C76: Esparrago con cabeza en "T" p/ tapa de caja grasera Loc CSR SDD7 | F76: 6 | G76: =VLOOKUP(C76,'1.7 Planilla Cotizacion LOCs'!E$16:G$1040,3,FALSE) -> 0 | H76: =+F76*G76 -> 0
A77: 3.2.6 | B77: Bogies - Caja de engranajes | C77: BULON CABEZA HEXAGONAL ROSCA MA DE ACERO M12 X 45 MM PASO 1,75 MM GRADO 8.8 | F77: 12 | G77: =VLOOKUP(C77,'1.7 Planilla Cotizacion LOCs'!E$16:G$1040,3,FALSE) -> 0 | H77: =+F77*G77 -> 0
A78: 3.2.6 | B78: Bogies - Caja de engranajes | C78: Felpa para cuello de caja lado externo. | F78: 6 | G78: =VLOOKUP(C78,'1.7 Planilla Cotizacion LOCs'!E$16:G$1040,3,FALSE) -> 0 | H78: =+F78*G78 -> 0
A79: 3.2.7 | B79: Bogies - Amortiguadores | C79: Amortiguador SACHS Mod. 42 1300 001 042 para Loc CSR SDD7. Vertical | D79: 606040200004 | E79: 42 1300 001 042 | F79: 8 | G79: =VLOOKUP(C79,'1.7 Planilla Cotizacion LOCs'!E$16:G$1040,3,FALSE) -> 0 | H79: =+F79*G79 -> 0
A80: 3.2.8 | B80: Bogies - Areneros | C80: TUBO DE ARENA (I) DE CONJUNTO ARENERO (I). LOC SDD7 | D80: 606040800011 | F80: 2 | G80: =VLOOKUP(C80,'1.7 Planilla Cotizacion LOCs'!E$16:G$1040,3,FALSE) -> 0 | H80: =+F80*G80 -> 0
A81: 3.2.8 | B81: Bogies - Areneros | C81: BOQUILLA DE INYECCION PARA ARENERO. LOC SDD7. boquilla de caño. | D81: 606040800012 | F81: 8 | G81: =VLOOKUP(C81,'1.7 Planilla Cotizacion LOCs'!E$16:G$1040,3,FALSE) -> 0 | H81: =+F81*G81 -> 0
A82: 3.2.8 | B82: Bogies - Areneros | C82: TUBO DE ARENA (II) PARA CONJUNTO ARENERO (II). LOC SDD7. | D82: 606040800013 | F82: 2 | G82: =VLOOKUP(C82,'1.7 Planilla Cotizacion LOCs'!E$16:G$1040,3,FALSE) -> 0 | H82: =+F82*G82 -> 0
A83: 3.2.8 | B83: Bogies - Areneros | C83: TUBO DE ARENA (III) PARA CONJUNTO ARENERO (III). LOC SDD7. | D83: 606040800014 | F83: 2 | G83: =VLOOKUP(C83,'1.7 Planilla Cotizacion LOCs'!E$16:G$1040,3,FALSE) -> 0 | H83: =+F83*G83 -> 0
A84: 3.2.8 | B84: Bogies - Areneros | C84: TUBO DE CONJUNTO ARENERO (IV). LOC SDD7. | D84: 606040800015 | F84: 2 | G84: =VLOOKUP(C84,'1.7 Planilla Cotizacion LOCs'!E$16:G$1040,3,FALSE) -> 0 | H84: =+F84*G84 -> 0
A85: 3.2.8 | B85: Bogies - Areneros | C85: SUPLEMENTO DE GOMA. ARENERO. LCO SDD7. No posee. | D85: 606040800016 | F85: 8 | G85: =VLOOKUP(C85,'1.7 Planilla Cotizacion LOCs'!E$16:G$1040,3,FALSE) -> 0 | H85: =+F85*G85 -> 0
A86: 3.2.8 | B86: Bogies - Areneros | C86: Manguera carrocería - bogie. Areneros. Loc CSR SDD7. Plano 0.32.5.02.1382 | D86: 606050200001 | F86: 4 | G86: =VLOOKUP(C86,'1.7 Planilla Cotizacion LOCs'!E$16:G$1040,3,FALSE) -> 0 | H86: =+F86*G86 -> 0
A87: 3.2.8 | B87: Bogies - Areneros | C87: BISAGRA PARA TAPA ARENEROS. LOC CSR SDD7. | F87: 8 | G87: =VLOOKUP(C87,'1.7 Planilla Cotizacion LOCs'!E$16:G$1040,3,FALSE) -> 0 | H87: =+F87*G87 -> 0
A88: 3.2.8 | B88: Bogies - Areneros | C88: TAPA PARA ARENERO. LOC. CSR SDD7 | F88: 8 | G88: =VLOOKUP(C88,'1.7 Planilla Cotizacion LOCs'!E$16:G$1040,3,FALSE) -> 0 | H88: =+F88*G88 -> 0
A89: 3.2.8 | B89: Bogies - Areneros | C89: PERNO DE TAPA. ARENEROS. LOC CSR SDD7 | F89: 8 | G89: =VLOOKUP(C89,'1.7 Planilla Cotizacion LOCs'!E$16:G$1040,3,FALSE) -> 0 | H89: =+F89*G89 -> 0
A90: 3.2.8 | B90: Bogies - Areneros | C90: RESORTE PARA TAPA DE ARENEROS. LOC CSR SDD7 | F90: 8 | G90: =VLOOKUP(C90,'1.7 Planilla Cotizacion LOCs'!E$16:G$1040,3,FALSE) -> 0 | H90: =+F90*G90 -> 0
A91: 3.2.8 | B91: Bogies - bastidor | C91: SOPORTE DE SEGURIDAD SUPERIOR DE BASTIDOR DE BOGUE PARA MT. LOC SDD7 | D91: 606040800017 | F91: 6 | G91: =VLOOKUP(C91,'1.7 Planilla Cotizacion LOCs'!E$16:G$1040,3,FALSE) -> 0 | H91: =+F91*G91 -> 0
A92: 3.2.9 | B92: Bogies - Dispositivo de freno | C92: Conjunto pasador para cuña de zapata de freno Loc CSR SDD7 pasador seguro de cuña | D92: 606040701001 | F92: 24 | G92: =VLOOKUP(C92,'1.7 Planilla Cotizacion LOCs'!E$16:G$1040,3,FALSE) -> 0 | H92: =+F92*G92 -> 0
A93: 3.2.9 | B93: Bogies - Dispositivo de freno | C93: Conjunto Cilindro de freno. Unidad de freno. Loc CSR SDD7. | D93: 606040701200 | F93: 12 | G93: =VLOOKUP(C93,'1.7 Planilla Cotizacion LOCs'!E$16:G$1040,3,FALSE) -> 0 | H93: =+F93*G93 -> 0
A94: 3.2.9 | B94: Bogies - Dispositivo de freno | C94: Manguera carrocería - bogie. Cilindro de freno. Loc CSR SDD7. Plano 0.32.5.02.1380 | D94: 606050100035 | F94: 2 | G94: =VLOOKUP(C94,'1.7 Planilla Cotizacion LOCs'!E$16:G$1040,3,FALSE) -> 0 | H94: =+F94*G94 -> 0
A95: 3.2.9 | B95: Bogies - Dispositivo de freno | C95: Perno biela porta zapata de locomotora SDD7 | D95: 606040701004-45 | F95: 24 | G95: =VLOOKUP(C95,'1.7 Planilla Cotizacion LOCs'!E$16:G$1040,3,FALSE) -> 0 | H95: =+F95*G95 -> 0
A96: 3.2.9 | B96: Bogies - Dispositivo de freno | C96: CLAVIJA RETENEDORA DE ZAPATA. UNIDAD DE FRENO. LOC CSR SDD7. | D96: 606040701004-49 | F96: 24 | G96: =VLOOKUP(C96,'1.7 Planilla Cotizacion LOCs'!E$16:G$1040,3,FALSE) -> 0 | H96: =+F96*G96 -> 0
A97: 3.2.9 | B97: Bogies - Dispositivo de freno | C97: Soporte de zapatas. (Portazapatas) | D97: 606040701004-51 | F97: 24 | G97: =VLOOKUP(C97,'1.7 Planilla Cotizacion LOCs'!E$16:G$1040,3,FALSE) -> 0 | H97: =+F97*G97 -> 0
A98: 3.2.9 | B98: Bogies - Dispositivo de freno | C98: Zapata de composicion YFC-44-00-00 p/ CSR SDD7 | D98: CONSUMIBLE | F98: 24 | G98: =VLOOKUP(C98,'1.7 Planilla Cotizacion LOCs'!E$16:G$1040,3,FALSE) -> 0 | H98: =+F98*G98 -> 0
A99: 3.2.9 | B99: Bogies - Dispositivo de freno | C99: PERNO FIJACION DE ALINEADOR DE PORTA ZAPATA SDD7 | F99: 12 | G99: =VLOOKUP(C99,'1.7 Planilla Cotizacion LOCs'!E$16:G$1040,3,FALSE) -> 0 | H99: =+F99*G99 -> 0
A100: 3.2.9 | B100: Bogies - Dispositivo de freno | C100: RESORTE CONICO CON OJAL P/ALINEDOR DE PORTA ZAPATAS RESORTE CONICO CON OJAL P/ALINEDOR DE PORTA ZAP | F100: 12 | G100: =VLOOKUP(C100,'1.7 Planilla Cotizacion LOCs'!E$16:G$1040,3,FALSE) -> 0 | H100: =+F100*G100 -> 0
A101: 3.2.9 | B101: Bogies - Dispositivo de freno | C101: Esparrago M8 con cabeza en T p/alinedor de porta zapatas | F101: 12 | G101: =VLOOKUP(C101,'1.7 Planilla Cotizacion LOCs'!E$16:G$1040,3,FALSE) -> 0 | H101: =+F101*G101 -> 0
A102: 3.2.z11 | B102: Bogies - Suspensión de motor - Barra de elevación | C102: Almohadilla de goma de la barra de elevación. | D102: 606040600012 | F102: 6 | G102: =VLOOKUP(C102,'1.7 Planilla Cotizacion LOCs'!E$16:G$1040,3,FALSE) -> 0 | H102: =+F102*G102 -> 0
A103: 3.2.z11 | B103: Bogies - Suspensión de motor - Barra de elevación | C103: PLACA DE AMORTIGUACION. BARRA DE ELEVACION MOTOR DE TRACCION. LOC CSR SDD7 | D103: 606040600015 | F103: 6 | G103: =VLOOKUP(C103,'1.7 Planilla Cotizacion LOCs'!E$16:G$1040,3,FALSE) -> 0 | H103: =+F103*G103 -> 0
A104: 3.2.z11 | B104: Bogies - Suspensión de motor - Barra de elevación | C104: Arandela plana M42 | D104: 606040600035 | F104: 6 | G104: =VLOOKUP(C104,'1.7 Planilla Cotizacion LOCs'!E$16:G$1040,3,FALSE) -> 0 | H104: =+F104*G104 -> 0
A105: 3.2.z11 | B105: Bogies - Suspensión de motor - Barra de elevación | C105: Pasador 8 x 80 | D105: 606040600036 | F105: 6 | G105: =VLOOKUP(C105,'1.7 Planilla Cotizacion LOCs'!E$16:G$1040,3,FALSE) -> 0 | H105: =+F105*G105 -> 0
A106: 3.2.z11 | B106: Bogies - Suspensión de motor - Barra de elevación | C106: Pasador 5 x 40 | D106: 606040602001 | F106: 6 | G106: =VLOOKUP(C106,'1.7 Planilla Cotizacion LOCs'!E$16:G$1040,3,FALSE) -> 0 | H106: =+F106*G106 -> 0
A107: 3.2.z11 | B107: Bogies - Suspensión de motor - Barra de elevación | C107: Tapa de compresión de perno superior de barra de elevacion. | D107: 606040602003 | F107: 6 | G107: =VLOOKUP(C107,'1.7 Planilla Cotizacion LOCs'!E$16:G$1040,3,FALSE) -> 0 | H107: =+F107*G107 -> 0
A108: 3.2.z11 | B108: Bogies - Suspensión de motor - Barra de elevación | C108: Manguera de separación (buje) | D108: 606040602004 | F108: 12 | G108: =VLOOKUP(C108,'1.7 Planilla Cotizacion LOCs'!E$16:G$1040,3,FALSE) -> 0 | H108: =+F108*G108 -> 0
A109: 3.2.z11 | B109: Bogies - Suspensión de motor - Barra de elevación | C109: Cojinete mixto GE50ES-2RS | D109: 606040602006 | F109: 6 | G109: =VLOOKUP(C109,'1.7 Planilla Cotizacion LOCs'!E$16:G$1040,3,FALSE) -> 0 | H109: =+F109*G109 -> 0
A110: 3.2.z11 | B110: Bogies - Suspensión de motor - Barra de elevación | C110: Anillo de retención 75 (seguer) | D110: 606040602007 | F110: 12 | G110: =VLOOKUP(C110,'1.7 Planilla Cotizacion LOCs'!E$16:G$1040,3,FALSE) -> 0 | H110: =+F110*G110 -> 0
A111: 3.2.z11 | B111: Bogies - Suspensión de motor - Barra de elevación | C111: Anillo a prueba de polvo | D111: 606040602008 | F111: 12 | G111: =VLOOKUP(C111,'1.7 Planilla Cotizacion LOCs'!E$16:G$1040,3,FALSE) -> 0 | H111: =+F111*G111 -> 0
A112: 3.2.z11 | B112: Bogies - Suspensión de motor - Barra de elevación | C112: Taza de aceite M10 x 1 (ademite) | D112: 606040602010 | F112: 6 | G112: =VLOOKUP(C112,'1.7 Planilla Cotizacion LOCs'!E$16:G$1040,3,FALSE) -> 0 | H112: =+F112*G112 -> 0
A113: 3.2.z11 | B113: Bogies - Suspensión de motor - Barra de elevación | C113: Pasador 10 x 30 | D113: 606040602011 | F113: 6 | G113: =VLOOKUP(C113,'1.7 Planilla Cotizacion LOCs'!E$16:G$1040,3,FALSE) -> 0 | H113: =+F113*G113 -> 0
A114: 3.2.z12 | B114: Motor de tracción | C114: FUELLE DE VENTILACION DE MOTOR DE TRACCION. LOC CSR SDD7 | D114: 606040601004 | F114: 6 | G114: =VLOOKUP(C114,'1.7 Planilla Cotizacion LOCs'!E$16:G$1040,3,FALSE) -> 0 | H114: =+F114*G114 -> 0
A115: 3.2.z12 | B115: Motor de tracción | C115: Tapa de Inspección inclinada MT SDD7 | D115: 606040603001 | E115: CDZD101-080-000 | F115: 6 | G115: =VLOOKUP(C115,'1.7 Planilla Cotizacion LOCs'!E$16:G$1040,3,FALSE) -> 0 | H115: =+F115*G115 -> 0
A116: 3.2.z12 | B116: Motor de tracción | C116: Tapa de Inspección inferior MT SDD7 | D116: 606040603002 | E116: CDZD101-090-000 | F116: 6 | G116: =VLOOKUP(C116,'1.7 Planilla Cotizacion LOCs'!E$16:G$1040,3,FALSE) -> 0 | H116: =+F116*G116 -> 0
A117: 3.2.z12 | B117: Motor de tracción | C117: Escobilla motor de traccion | D117: 606040603005 | E117: CONSUMIBLE | F117: 48 | G117: =VLOOKUP(C117,'1.7 Planilla Cotizacion LOCs'!E$16:G$1040,3,FALSE) -> 0 | H117: =+F117*G117 -> 0
A118: 3.2.z12 | B118: Motor de tracción | C118: JUNTA DE FUELLE DE VENTILACION PARA MOTOR DE TRACCION. LOC. CSR SDD7 | D118: CONSUMIBLE | F118: 12 | G118: =VLOOKUP(C118,'1.7 Planilla Cotizacion LOCs'!E$16:G$1040,3,FALSE) -> 0 | H118: =+F118*G118 -> 0
A119: 3.2.z12 | B119: Motor de tracción | C119: Disco de Medición de Velocidad MT SDD7 | E119: CDZD101-000-002 | F119: 6 | G119: =VLOOKUP(C119,'1.7 Planilla Cotizacion LOCs'!E$16:G$1040,3,FALSE) -> 0 | H119: =+F119*G119 -> 0
A120: 3.2.z12 | B120: Motor de tracción | C120: Suplemento de Seguridad MT SDD7 | E120: CDZD101-000-002 | F120: 12 | G120: =VLOOKUP(C120,'1.7 Planilla Cotizacion LOCs'!E$16:G$1040,3,FALSE) -> 0 | H120: =+F120*G120 -> 0
A121: 3.2.z12 | B121: Motor de tracción | C121: Junta Tapa de Rodamiento LC MT SDD7 | E121: CDZD101-000-004 | F121: 6 | G121: =VLOOKUP(C121,'1.7 Planilla Cotizacion LOCs'!E$16:G$1040,3,FALSE) -> 0 | H121: =+F121*G121 -> 0
...

Sheet Subrenglon 1.3
B1: PORTADA | C1: PLANILLA DE COTIZACION
B3: SUBRENGLON | C3: DESCRIPCION | D3: CANTIDAD | E3: P. UNITARIO | F3: P. TOTAL
B4: 1.3 | C4: ASISTENCIA Y SUPERVISION TECNICA A 20 OPERARIOS PARA LA REPARACION DE LA LOCOMOTORA SDD7 961 | D4: 1 | E4: ='1.7 Planilla Cotizacion LOCs'!G12 -> 0 | F4: =+(E4+E5)*D4 -> 0
C5: REPUESTOS MANDATARIOS TABLA 1.3.1 | D5: 1 | E5: =SUM(H13:H569) -> 0
C6: ASISTENCIA Y SUPERVISION TECNICA A 20 OPERARIOS PARA LA REPARACION DE LA LOCOMOTORA SDD7 962 | D6: 1 | E6: ='1.7 Planilla Cotizacion LOCs'!G14 -> 0 | F6: =+(E6+E7)*D6 -> 0
C7: REPUESTOS MANDATARIOS TABLA 1.3.2 | D7: 1 | E7: =SUM(H574:H1082) -> 0
B8: TOTAL SUBRENGLON 1.3 | F8: =F4+F6 -> 0
A11: REPUESTOS MANDATARIOS TABLA 1.3.1 - LOC 961
A12: Item | B12: Grupo | C12: Descripción | D12: Código CSR/ RF | E12: Otra RF | F12: Cantidad | G12: P. Unitario | H12: P. Total
A13: 3.1.1 | B13: Baterías | C13: Cuchilla de baterias | D13: 606070701008 | E13: N209 | F13: 1 | G13: =VLOOKUP(C13,'1.7 Planilla Cotizacion LOCs'!$E$16:$G$1040,3,FALSE) -> 0 | H13: =+F13*G13 -> 0
A14: 3.1.1 | B14: Baterías | C14: ELECTROLITO PARA BATERIAS NIQUEL CADMIO. COCHE CSR PUZHEN. | D14: CONSUMIBLE | F14: 80 | G14: =VLOOKUP(C14,'1.7 Planilla Cotizacion LOCs'!$E$16:$G$1040,3,FALSE) -> 0 | H14: =+F14*G14 -> 0
A15: 3.1.2 | B15: Tanque de combustible | C15: Manga de salida de tanque de combustible | D15: 606030200004 | E15: DLJG-DH-92 | F15: 6 | G15: =VLOOKUP(C15,'1.7 Planilla Cotizacion LOCs'!$E$16:$G$1040,3,FALSE) -> 0 | H15: =+F15*G15 -> 0
A16: 3.1.2 | B16: Tanque de combustible | C16: Conjunto de valvula de drenaje de tanque | D16: 606030201024 | F16: 1 | G16: =VLOOKUP(C16,'1.7 Planilla Cotizacion LOCs'!$E$16:$G$1040,3,FALSE) -> 0 | H16: =+F16*G16 -> 0
A17: 3.1.2 | B17: Tanque de combustible | C17: CONJUNTO DE INDICADOR DE NIVEL DE COMBUSTIBLE INFERIOR. LOC SDD7 | D17: 606030201015 | F17: 2 | G17: =VLOOKUP(C17,'1.7 Planilla Cotizacion LOCs'!$E$16:$G$1040,3,FALSE) -> 0 | H17: =+F17*G17 -> 0
A18: 3.1.2 | B18: Tanque de combustible | C18: Indicador de nivel de combustible, con elemento flotante | F18: 2 | G18: =VLOOKUP(C18,'1.7 Planilla Cotizacion LOCs'!$E$16:$G$1040,3,FALSE) -> 0 | H18: =+F18*G18 -> 0
A19: 3.1.2 | B19: Tanque de combustible | C19: Conjunto de entrada combustible. Brida y Caño de succion. | D19: 606030201010 | F19: 1 | G19: =VLOOKUP(C19,'1.7 Planilla Cotizacion LOCs'!$E$16:$G$1040,3,FALSE) -> 0 | H19: =+F19*G19 -> 0
A20: 3.1.2 | B20: Tanque de combustible | C20: Conjunto de retorno de combustible. Brida y caño de retorno | D20: 606030201012 | F20: 1 | G20: =VLOOKUP(C20,'1.7 Planilla Cotizacion LOCs'!$E$16:$G$1040,3,FALSE) -> 0 | H20: =+F20*G20 -> 0
A21: 3.1.2 | B21: Tanque de combustible | C21: Tapas de inspección de tanque | F21: 2 | G21: =VLOOKUP(C21,'1.7 Planilla Cotizacion LOCs'!$E$16:$G$1040,3,FALSE) -> 0 | H21: =+F21*G21 -> 0
A22: 3.1.2 | B22: Tanque de combustible | C22: Conjunto tapa de tanque de combustible - Loc. SDD7 | F22: 2 | G22: =VLOOKUP(C22,'1.7 Planilla Cotizacion LOCs'!$E$16:$G$1040,3,FALSE) -> 0 | H22: =+F22*G22 -> 0
A23: 3.1.2 | B23: Tanque de combustible | C23: Manga de retorno de tanque de combustible | D23: 606030200005 | F23: 1 | G23: =VLOOKUP(C23,'1.7 Planilla Cotizacion LOCs'!$E$16:$G$1040,3,FALSE) -> 0 | H23: =+F23*G23 -> 0
A24: 3.1.2 | B24: Tanque de combustible | C24: Protector de indicador de nivel | F24: 2 | G24: =VLOOKUP(C24,'1.7 Planilla Cotizacion LOCs'!$E$16:$G$1040,3,FALSE) -> 0 | H24: =+F24*G24 -> 0
A25: 3.1.2 | B25: Tanque de combustible | C25: TRABA DE TAPA DE TANQUE DE COMBUSTIBLE- LOC SDD 7 | F25: 2 | G25: =VLOOKUP(C25,'1.7 Planilla Cotizacion LOCs'!$E$16:$G$1040,3,FALSE) -> 0 | H25: =+F25*G25 -> 0
A26: 3.1.2 | B26: Tanque de combustible | C26: Junta tapa de tanque de combustible - Loc. SDD7 | D26: CONSUMIBLE | F26: 2 | G26: =VLOOKUP(C26,'1.7 Planilla Cotizacion LOCs'!$E$16:$G$1040,3,FALSE) -> 0 | H26: =+F26*G26 -> 0
A27: 3.1.3 | B27: Depósito de Aire Principal | C27: Codo de entrada y salida de aire. | D27: 606050103008 | F27: 4 | G27: =VLOOKUP(C27,'1.7 Planilla Cotizacion LOCs'!$E$16:$G$1040,3,FALSE) -> 0 | H27: =+F27*G27 -> 0
A28: 3.1.3 | B28: Depósito de Aire Principal | C28: Válvulas de drenaje de agua. (grifo) | D28: 606050103004 | E28: SOBLRCB-10-40 | F28: 2 | G28: =VLOOKUP(C28,'1.7 Planilla Cotizacion LOCs'!$E$16:$G$1040,3,FALSE) -> 0 | H28: =+F28*G28 -> 0
A29: 3.1.3 | B29: Depósito de Aire Principal | C29: Cubierta de proteccion de valvula de drenaje | D29: 606050103002 | F29: 2 | G29: =VLOOKUP(C29,'1.7 Planilla Cotizacion LOCs'!$E$16:$G$1040,3,FALSE) -> 0 | H29: =+F29*G29 -> 0
A30: 3.10 | B30: Contactores y relés | C30: Apaga arco de contactor Ppal. | E30: S1115/10-P-33-110V-B | F30: 6 | G30: =VLOOKUP(C30,'1.7 Planilla Cotizacion LOCs'!$E$16:$G$1040,3,FALSE) -> 0 | H30: =+F30*G30 -> 0
A31: 3.10 | B31: Contactores y relés | C31: Dedo de contacto fijo y movil de contactores ppal - Loc. SDD 7 | F31: 6 | G31: =VLOOKUP(C31,'1.7 Planilla Cotizacion LOCs'!$E$16:$G$1040,3,FALSE) -> 0 | H31: =+F31*G31 -> 0
A32: 3.10 | B32: Contactores y relés | C32: Conmutador de direccion | D32: 606070702006 | E32: T830A-B | F32: 1 | G32: =VLOOKUP(C32,'1.7 Planilla Cotizacion LOCs'!$E$16:$G$1040,3,FALSE) -> 0 | H32: =+F32*G32 -> 0
A33: 3.10 | B33: Contactores y relés | C33: Conmutador de estado de operación | D33: 606070702007 | E33: T829A-B | F33: 1 | G33: =VLOOKUP(C33,'1.7 Planilla Cotizacion LOCs'!$E$16:$G$1040,3,FALSE) -> 0 | H33: =+F33*G33 -> 0
A34: 3.10 | B34: Contactores y relés | C34: Apaga arco de contactor de arranque | E34: S1001/06-PB-44-80V-B | F34: 1 | G34: =VLOOKUP(C34,'1.7 Planilla Cotizacion LOCs'!$E$16:$G$1040,3,FALSE) -> 0 | H34: =+F34*G34 -> 0
A35: 3.10 | B35: Contactores y relés | C35: RELAY DE parada 1KD2 | D35: 606070701013 | E35: S145A-110V-B | F35: 5 | G35: =VLOOKUP(C35,'1.7 Planilla Cotizacion LOCs'!$E$16:$G$1040,3,FALSE) -> 0 | H35: =+F35*G35 -> 0
A36: 3.10 | B36: Contactores y relés | C36: CONTACTOR GENERADOR AUXILIAR 5KM1 | E36: S140A-2-110V-B | F36: 1 | G36: =VLOOKUP(C36,'1.7 Planilla Cotizacion LOCs'!$E$16:$G$1040,3,FALSE) -> 0 | H36: =+F36*G36 -> 0
A37: 3.10 | B37: Contactores y relés | C37: CONTACTOR GENERADOR PRINCIPAL 5KM2 | E37: S140A-2-110V-B | F37: 1 | G37: =VLOOKUP(C37,'1.7 Planilla Cotizacion LOCs'!$E$16:$G$1040,3,FALSE) -> 0 | H37: =+F37*G37 -> 0
A38: 3.10 | B38: Contactores y relés | C38: CONTACTOR DE EXITACION DE EXITATRIZ 7KM1 | E38: S140A-2-110V-B | F38: 1 | G38: =VLOOKUP(C38,'1.7 Planilla Cotizacion LOCs'!$E$16:$G$1040,3,FALSE) -> 0 | H38: =+F38*G38 -> 0
A39: 3.10 | B39: Contactores y relés | C39: CONTACTOR DE EXITACION DE EXITATRIZ 7KM2 | E39: S140A-2-110V-B | F39: 1 | G39: =VLOOKUP(C39,'1.7 Planilla Cotizacion LOCs'!$E$16:$G$1040,3,FALSE) -> 0 | H39: =+F39*G39 -> 0
A40: 3.10 | B40: Contactores y relés | C40: RELAY DE CONTROL 1KD1 | D40: 606070701013 | E40: S145A-110V-B | F40: 2 | G40: =VLOOKUP(C40,'1.7 Planilla Cotizacion LOCs'!$E$16:$G$1040,3,FALSE) -> 0 | H40: =+F40*G40 -> 0
A41: 3.10 | B41: Contactores y relés | C41: RELAY DE PUESTA A TIERRA DE LOC. CSR SDD7 - MOD.: T659C - KE | D41: 606070702012 | E41: T659C | F41: 1 | G41: =VLOOKUP(C41,'1.7 Planilla Cotizacion LOCs'!$E$16:$G$1040,3,FALSE) -> 0 | H41: =+F41*G41 -> 0
A42: 3.10 | B42: Contactores y relés | C42: RELAY DE SOBRE CORRIENTE DE LOC. CSR SDD7 - - MOD.: N429C - KC | D42: 606070702013 | E42: N429C | F42: 1 | G42: =VLOOKUP(C42,'1.7 Planilla Cotizacion LOCs'!$E$16:$G$1040,3,FALSE) -> 0 | H42: =+F42*G42 -> 0
A43: 3.10 | B43: Contactores y relés | C43: RELAY DE SEPARADOR DE TIERRA 1KD5 | D43: 606070701013 | E43: S145A-110V-B | F43: 1 | G43: =VLOOKUP(C43,'1.7 Planilla Cotizacion LOCs'!$E$16:$G$1040,3,FALSE) -> 0 | H43: =+F43*G43 -> 0
A44: 3.10 | B44: Contactores y relés | C44: RELAY DE SELECCIÓN DE COMPUTADORA 1KD4 | D44: 606070701013 | E44: S145A-110V-B | F44: 1 | G44: =VLOOKUP(C44,'1.7 Planilla Cotizacion LOCs'!$E$16:$G$1040,3,FALSE) -> 0 | H44: =+F44*G44 -> 0
A45: 3.2.1 | B45: Bogies - Suspensión | C45: RESORTE DE GOMA. APOYO ENTRE BOGIE Y CARROCERIA Loc CSR SDD7 | D45: 606040400000 | F45: 8 | G45: =VLOOKUP(C45,'1.7 Planilla Cotizacion LOCs'!$E$16:$G$1040,3,FALSE) -> 0 | H45: =+F45*G45 -> 0
A46: 3.2.1 | B46: Bogies - Suspensión | C46: ELASTICO DE GOMA PARA SUSPENSION PRIMARIA BOGIE. LOC CSR SDD7. | D46: 606040200001 | F46: 24 | G46: =VLOOKUP(C46,'1.7 Planilla Cotizacion LOCs'!$E$16:$G$1040,3,FALSE) -> 0 | H46: =+F46*G46 -> 0
A47: 3.2.1 | B47: Bogies - Suspensión | C47: Arandela de ajuste para suspension primaria. (placa suplememto) | D47: 606040200006 | F47: 24 | G47: =VLOOKUP(C47,'1.7 Planilla Cotizacion LOCs'!$E$16:$G$1040,3,FALSE) -> 0 | H47: =+F47*G47 -> 0
A48: 3.2.1 | B48: Bogies - Suspensión | C48: Arandela de ajuste de resorte de goma apoyo lateral. (placa de suplemento) | D48: 606040400002 | F48: 8 | G48: =VLOOKUP(C48,'1.7 Planilla Cotizacion LOCs'!$E$16:$G$1040,3,FALSE) -> 0 | H48: =+F48*G48 -> 0
A49: 3.2.1 | B49: Bogies - Suspensión | C49: RESORTE DE GOMA. APOYO ENTRE BOGIE Y CARROCERIA Loc CSR SDD7 | D49: 606040400001 | F49: 8 | G49: =VLOOKUP(C49,'1.7 Planilla Cotizacion LOCs'!$E$16:$G$1040,3,FALSE) -> 0 | H49: =+F49*G49 -> 0
A50: 3.2.2 | B50: Bogies - Disp. tracción | C50: Anillo guardapolvo | D50: 606040500010 | F50: 16 | G50: =VLOOKUP(C50,'1.7 Planilla Cotizacion LOCs'!$E$16:$G$1040,3,FALSE) -> 0 | H50: =+F50*G50 -> 0
A51: 3.2.2 | B51: Bogies - Disp. tracción | C51: Placa de seguridad. Arandela de centro de bogue. | D51: 606040500005 | F51: 2 | G51: =VLOOKUP(C51,'1.7 Planilla Cotizacion LOCs'!$E$16:$G$1040,3,FALSE) -> 0 | H51: =+F51*G51 -> 0
A52: 3.2.2 | B52: Bogies - Disp. tracción | C52: Alemite de lubricacion M10x1 | D52: 606040500019 | F52: 8 | G52: =VLOOKUP(C52,'1.7 Planilla Cotizacion LOCs'!$E$16:$G$1040,3,FALSE) -> 0 | H52: =+F52*G52 -> 0
A53: 3.2.2 | B53: Bogies - Disp. tracción | C53: PASADOR DE ALETAS DE ACERO 7.7 X 110 MM | D53: 606040500016 | F53: 2 | G53: =VLOOKUP(C53,'1.7 Planilla Cotizacion LOCs'!$E$16:$G$1040,3,FALSE) -> 0 | H53: =+F53*G53 -> 0
A54: 3.2.2 | B54: Bogies - Disp. tracción | C54: PASADOR DE ALETAS TIPO D CINCADO 4.7 X 50 MM | D54: 606040500017 | F54: 8 | G54: =VLOOKUP(C54,'1.7 Planilla Cotizacion LOCs'!$E$16:$G$1040,3,FALSE) -> 0 | H54: =+F54*G54 -> 0
A55: 3.2.3 | B55: Bogies - Par montado - Punta de eje | C55: Par montado con motor de traccion | F55: 6 | G55: =VLOOKUP(C55,'1.7 Planilla Cotizacion LOCs'!$E$16:$G$1040,3,FALSE) -> 0 | H55: =+F55*G55 -> 0
A56: 3.2.3 | B56: Bogies - Par montado - Punta de eje | C56: Barras de tracción superior de punta de eje. Loc CSR SDD7. RF. 606040201000 (CSR) Completa | D56: 606040201000 | F56: 12 | G56: =VLOOKUP(C56,'1.7 Planilla Cotizacion LOCs'!$E$16:$G$1040,3,FALSE) -> 0 | H56: =+F56*G56 -> 0
A57: 3.2.3 | B57: Bogies - Par montado - Punta de eje | C57: Barras de tracción inferior de punta de eje. Loc CSR SDD7. RF. 606040202000 (CSR) completa | D57: 606040202000 | F57: 12 | G57: =VLOOKUP(C57,'1.7 Planilla Cotizacion LOCs'!$E$16:$G$1040,3,FALSE) -> 0 | H57: =+F57*G57 -> 0
A58: 3.2.3 | B58: Bogies - Par montado - Punta de eje | C58: Tornillo cabeza hexagonal M20x2,5x70 - GB/T5783-2000-Cal 8.8 | D58: 606040200026 | F58: 96 | G58: =VLOOKUP(C58,'1.7 Planilla Cotizacion LOCs'!$E$16:$G$1040,3,FALSE) -> 0 | H58: =+F58*G58 -> 0
A59: 3.2.3 | B59: Bogies - Par montado - Punta de eje | C59: Tornillo cabeza hexagonal M24x3x65 - GB/T32.1-1988-Cal 8.8 (anillo de sujecion punta de eje) | D59: 606040200032 | F59: 36 | G59: =VLOOKUP(C59,'1.7 Planilla Cotizacion LOCs'!$E$16:$G$1040,3,FALSE) -> 0 | H59: =+F59*G59 -> 0
A60: 3.2.3 | B60: Bogies - Par montado - Punta de eje | C60: Tornillo M16x2x35 - GB/T5783-2000 - Cal.8.8 (sujeta bloque de detencion de caja) | D60: 606040200042 | F60: 48 | G60: =VLOOKUP(C60,'1.7 Planilla Cotizacion LOCs'!$E$16:$G$1040,3,FALSE) -> 0 | H60: =+F60*G60 -> 0
A61: 3.2.3 | B61: Bogies - Par montado - Punta de eje | C61: Tornillo cabeza hexagonal M16x2x90 - GB/T5783-2000-Cal 8.8 (sujecion superior amortiguadores) | D61: 606040200028 | F61: 16 | G61: =VLOOKUP(C61,'1.7 Planilla Cotizacion LOCs'!$E$16:$G$1040,3,FALSE) -> 0 | H61: =+F61*G61 -> 0
A62: 3.2.3 | B62: Bogies - Par montado - Punta de eje | C62: Tornillo cabeza hexagonal M22x2,5x45 - GB/T5783-2000-Cal 8.8 | D62: 606040200040 | F62: 96 | G62: =VLOOKUP(C62,'1.7 Planilla Cotizacion LOCs'!$E$16:$G$1040,3,FALSE) -> 0 | H62: =+F62*G62 -> 0
A63: 3.2.3 | B63: Bogies - Par montado - Punta de eje | C63: Tornillo cabeza hexagonal M16x2x40-GB/T5783-2000-Cal.8.8 (sujacion inferior amortiguadores) | D63: 606040200031 | F63: 16 | G63: =VLOOKUP(C63,'1.7 Planilla Cotizacion LOCs'!$E$16:$G$1040,3,FALSE) -> 0 | H63: =+F63*G63 -> 0
A64: 3.2.3 | B64: Bogies - Par montado - Punta de eje | C64: Grasa para rodameintosKajo Waelzlagerfett 085.30 en Kg | D64: 606040200025 | F64: 20 | G64: =VLOOKUP(C64,'1.7 Planilla Cotizacion LOCs'!$E$16:$G$1040,3,FALSE) -> 0 | H64: =+F64*G64 -> 0
A65: 3.2.3 | B65: Bogies - Par montado - Punta de eje | C65: ORING DE GOMA DE NITRILO BUTADIENO METRICO 285 X 293 MM (junta tapa punta de eje) | D65: 606040200023 | F65: 24 | G65: =VLOOKUP(C65,'1.7 Planilla Cotizacion LOCs'!$E$16:$G$1040,3,FALSE) -> 0 | H65: =+F65*G65 -> 0
A66: 3.2.3 | B66: Bogies - Par montado - Punta de eje | C66: ARANDELA PRESION COMUN CINCADA PARA DIAMETRO M22 | D66: 606040200041 | F66: 96 | G66: =VLOOKUP(C66,'1.7 Planilla Cotizacion LOCs'!$E$16:$G$1040,3,FALSE) -> 0 | H66: =+F66*G66 -> 0
A67: 3.2.3 | B67: Bogies - Par montado - Punta de eje | C67: Arandela elástica M16 - GB/T93-1987 (amortiguadores) | D67: 606040200029 | F67: 96 | G67: =VLOOKUP(C67,'1.7 Planilla Cotizacion LOCs'!$E$16:$G$1040,3,FALSE) -> 0 | H67: =+F67*G67 -> 0
... A74: 3.2.4 | B74: Bogies - Lubricador de pestaña | C74: Dispositivo de lubricación de pestaña izquierdo | D74: 606040900006 | F74: 4 | G74: =VLOOKUP(C74,'1.7 Planilla Cotizacion LOCs'!$E$16:$G$1040,3,FALSE) -> 0 | H74: =+F74*G74 -> 0
A75: 3.2.5 | B75: Bogies - Disp. Alarma Temperatura | C75: Sensores de temperatura | F75: 12 | G75: =VLOOKUP(C75,'1.7 Planilla Cotizacion LOCs'!$E$16:$G$1040,3,FALSE) -> 0 | H75: =+F75*G75 -> 0
A76: 3.2.6 | B76: Bogies - Caja de engranajes | C76: Caja cubre engranajes de MT | D76: 606040604000 | F76: 6 | G76: =VLOOKUP(C76,'1.7 Planilla Cotizacion LOCs'!$E$16:$G$1040,3,FALSE) -> 0 | H76: =+F76*G76 -> 0
A77: 3.2.6 | B77: Bogies - Caja de engranajes | C77: Tornillo cabeza hexagonal M20X2,5x220 - GB /T8-1988-Cal 8.8 Bulon de union | D77: 606040604001 | F77: 24 | G77: =VLOOKUP(C77,'1.7 Planilla Cotizacion LOCs'!$E$16:$G$1040,3,FALSE) -> 0 | H77: =+F77*G77 -> 0
A78: 3.2.6 | B78: Bogies - Caja de engranajes | C78: Placa de seguridad. Fijacion lateral interna. (suplemento) | D78: 606040600024 | F78: 36 | G78: =VLOOKUP(C78,'1.7 Planilla Cotizacion LOCs'!$E$16:$G$1040,3,FALSE) -> 0 | H78: =+F78*G78 -> 0
A79: 3.2.6 | B79: Bogies - Caja de engranajes | C79: Tapa completa para caja grasera Loc CSR SDD7 | F79: 6 | G79: =VLOOKUP(C79,'1.7 Planilla Cotizacion LOCs'!$E$16:$G$1040,3,FALSE) -> 0 | H79: =+F79*G79 -> 0
A80: 3.2.6 | B80: Bogies - Caja de engranajes | C80: ACEITE LUBRICANTE PARA CARCASA DE ENGRANAJE (PIÑÓN Y CORONA) DE LOCOMOTORAS DE ORIGEN CHINO | D80: CONSUMIBLE | F80: 60 | G80: =VLOOKUP(C80,'1.7 Planilla Cotizacion LOCs'!$E$16:$G$1040,3,FALSE) -> 0 | H80: =+F80*G80 -> 0
A81: 3.2.6 | B81: Bogies - Caja de engranajes | C81: Sellos de caja de engranajes cuello de piñon. Anillo de goma en O | D81: 606040600019 | F81: 6 | G81: =VLOOKUP(C81,'1.7 Planilla Cotizacion LOCs'!$E$16:$G$1040,3,FALSE) -> 0 | H81: =+F81*G81 -> 0
A82: 3.2.6 | B82: Bogies - Caja de engranajes | C82: Sello de goma de caja cuello de corona. Anillo en O 412×7-G-N | D82: 606040600042 | F82: 6 | G82: =VLOOKUP(C82,'1.7 Planilla Cotizacion LOCs'!$E$16:$G$1040,3,FALSE) -> 0 | H82: =+F82*G82 -> 0
A83: 3.2.6 | B83: Bogies - Caja de engranajes | C83: Esparrago con cabeza en "T" p/ tapa de caja grasera Loc CSR SDD7 | F83: 6 | G83: =VLOOKUP(C83,'1.7 Planilla Cotizacion LOCs'!$E$16:$G$1040,3,FALSE) -> 0 | H83: =+F83*G83 -> 0
A84: 3.2.6 | B84: Bogies - Caja de engranajes | C84: Felpa para cuello de caja lado externo. | F84: 6 | G84: =VLOOKUP(C84,'1.7 Planilla Cotizacion LOCs'!$E$16:$G$1040,3,FALSE) -> 0 | H84: =+F84*G84 -> 0
A85: 3.2.6 | B85: Bogies - Caja de engranajes | C85: Tuerca hexagonal M20X2,5 - GB/T6170-2000. Tuerca de bulon de union | D85: 606040604002 | F85: 24 | G85: =VLOOKUP(C85,'1.7 Planilla Cotizacion LOCs'!$E$16:$G$1040,3,FALSE) -> 0 | H85: =+F85*G85 -> 0
A86: 3.2.6 | B86: Bogies - Caja de engranajes | C86: Cadena de retención p/tapa de caja grasera Loc CSR SDD7 | F86: 6 | G86: =VLOOKUP(C86,'1.7 Planilla Cotizacion LOCs'!$E$16:$G$1040,3,FALSE) -> 0 | H86: =+F86*G86 -> 0
A87: 3.2.6 | B87: Bogies - Caja de engranajes | C87: Tornillo M12×60. Allen (union de carcazas) | D87: 606040604004 | F87: 18 | G87: =VLOOKUP(C87,'1.7 Planilla Cotizacion LOCs'!$E$16:$G$1040,3,FALSE) -> 0 | H87: =+F87*G87 -> 0
A88: 3.2.6 | B88: Bogies - Caja de engranajes | C88: BULON CABEZA HEXAGONAL ROSCA MA DE ACERO M12 X 45 MM PASO 1,75 MM GRADO 8.8 | F88: 12 | G88: =VLOOKUP(C88,'1.7 Planilla Cotizacion LOCs'!$E$16:$G$1040,3,FALSE) -> 0 | H88: =+F88*G88 -> 0
A89: 3.2.6 | B89: Bogies - Caja de engranajes | C89: Arandela elástica M20 - GB/T93-1987 Arandela de union | D89: 606040604003 | F89: 24 | G89: =VLOOKUP(C89,'1.7 Planilla Cotizacion LOCs'!$E$16:$G$1040,3,FALSE) -> 0 | H89: =+F89*G89 -> 0
A90: 3.2.6 | B90: Bogies - Caja de engranajes | C90: ARANDELA DE PRESION GROWER CINCADA M30 - 1 1/8" DIN 127 | D90: 606040600031 | F90: 6 | G90: =VLOOKUP(C90,'1.7 Planilla Cotizacion LOCs'!$E$16:$G$1040,3,FALSE) -> 0 | H90: =+F90*G90 -> 0
A91: 3.2.7 | B91: Bogies - Amortiguadores | C91: Amortiguador SACHS Mod. 42 1300 001 042 para Loc CSR SDD7. Vertical | D91: 606040200004 | E91: 42 1300 001 042 | F91: 8 | G91: =VLOOKUP(C91,'1.7 Planilla Cotizacion LOCs'!$E$16:$G$1040,3,FALSE) -> 0 | H91: =+F91*G91 -> 0
A92: 3.2.7 | B92: Bogies - Amortiguadores | C92: Amortiguador SACHS Mod. 42 1300 001 043 para Loc CSR SDD7. Horizontal | D92: 606040400003 | E92: 42 1300 001 043 | F92: 4 | G92: =VLOOKUP(C92,'1.7 Planilla Cotizacion LOCs'!$E$16:$G$1040,3,FALSE) -> 0 | H92: =+F92*G92 -> 0
A93: 3.2.8 | B93: Bogies - Areneros | C93: Juego de areneros | D93: Tapas, caños, valvulas y mangas | F93: 1 | G93: =VLOOKUP(C93,'1.7 Planilla Cotizacion LOCs'!$E$16:$G$1040,3,FALSE) -> 0 | H93: =+F93*G93 -> 0
A94: 3.2.8 | B94: Bogies - Areneros | C94: Manguera carrocería - bogie. Areneros. Loc CSR SDD7. Plano 0.32.5.02.1382 | D94: 606050200001 | F94: 4 | G94: =VLOOKUP(C94,'1.7 Planilla Cotizacion LOCs'!$E$16:$G$1040,3,FALSE) -> 0 | H94: =+F94*G94 -> 0
A95: 3.2.8 | B95: Bogies - bastidor | C95: Caja de paso MT4, sensor Temp. Eje | E95: FZH-A | F95: 1 | G95: =VLOOKUP(C95,'1.7 Planilla Cotizacion LOCs'!$E$16:$G$1040,3,FALSE) -> 0 | H95: =+F95*G95 -> 0
A96: 3.2.8 | B96: Bogies - bastidor | C96: Caja de paso MT5, sensor Temp. Eje | E96: FZH-B | F96: 1 | G96: =VLOOKUP(C96,'1.7 Planilla Cotizacion LOCs'!$E$16:$G$1040,3,FALSE) -> 0 | H96: =+F96*G96 -> 0
A97: 3.2.8 | B97: Bogies - bastidor | C97: Caja de paso MT6, sensor Temp. Eje | E97: FZH-C | F97: 1 | G97: =VLOOKUP(C97,'1.7 Planilla Cotizacion LOCs'!$E$16:$G$1040,3,FALSE) -> 0 | H97: =+F97*G97 -> 0
A98: 3.2.8 | B98: Bogies - bastidor | C98: Caja de paso MT3, sensor Temp. Eje | E98: FZH-D | F98: 1 | G98: =VLOOKUP(C98,'1.7 Planilla Cotizacion LOCs'!$E$16:$G$1040,3,FALSE) -> 0 | H98: =+F98*G98 -> 0
A99: 3.2.8 | B99: Bogies - bastidor | C99: Caja de paso MT1, sensor Temp. Eje | E99: FZH-E | F99: 1 | G99: =VLOOKUP(C99,'1.7 Planilla Cotizacion LOCs'!$E$16:$G$1040,3,FALSE) -> 0 | H99: =+F99*G99 -> 0
A100: 3.2.8 | B100: Bogies - bastidor | C100: Caja de paso MT2, sensor Temp. Eje | E100: FZH-F | F100: 1 | G100: =VLOOKUP(C100,'1.7 Planilla Cotizacion LOCs'!$E$16:$G$1040,3,FALSE) -> 0 | H100: =+F100*G100 -> 0
A101: 3.2.8 | B101: Bogies - bastidor | C101: Caja general, sensor Temp. Eje | E101: FZH-G | F101: 1 | G101: =VLOOKUP(C101,'1.7 Planilla Cotizacion LOCs'!$E$16:$G$1040,3,FALSE) -> 0 | H101: =+F101*G101 -> 0
A102: 3.2.8 | B102: Bogies - Areneros | C102: BOQUILLA DE INYECCION PARA ARENERO. LOC SDD7. boquilla de caño. | D102: 606040800012 | F102: 8 | G102: =VLOOKUP(C102,'1.7 Planilla Cotizacion LOCs'!$E$16:$G$1040,3,FALSE) -> 0 | H102: =+F102*G102 -> 0
A103: 3.2.8 | B103: Bogies - Areneros | C103: Valvula esferica de TF y DP | F103: 4 | G103: =VLOOKUP(C103,'1.7 Planilla Cotizacion LOCs'!$E$16:$G$1040,3,FALSE) -> 0 | H103: =+F103*G103 -> 0
A104: 3.2.8 | B104: Bogies - bastidor | C104: SOPORTE DE SEGURIDAD SUPERIOR DE BASTIDOR DE BOGUE PARA MT. LOC SDD7 | D104: 606040800017 | F104: 6 | G104: =VLOOKUP(C104,'1.7 Planilla Cotizacion LOCs'!$E$16:$G$1040,3,FALSE) -> 0 | H104: =+F104*G104 -> 0
A105: 3.2.8 | B105: Bogies - Areneros | C105: ELECTROVALVULA CQSS-A-053 p/Loc CSR SDD7 para accionamiento de areneros | D105: 606050108002 | F105: 2 | G105: =VLOOKUP(C105,'1.7 Planilla Cotizacion LOCs'!$E$16:$G$1040,3,FALSE) -> 0 | H105: =+F105*G105 -> 0
A106: 3.2.9 | B106: Bogies - Dispositivo de freno | C106: Unidad de freno I | D106: 606040702000 | F106: 10 | G106: =VLOOKUP(C106,'1.7 Planilla Cotizacion LOCs'!$E$16:$G$1040,3,FALSE) -> 0 | H106: =+F106*G106 -> 0
A107: 3.2.9 | B107: Bogies - Dispositivo de freno | C107: Unidad de Freno II | D107: 606040701000 | F107: 2 | G107: =VLOOKUP(C107,'1.7 Planilla Cotizacion LOCs'!$E$16:$G$1040,3,FALSE) -> 0 | H107: =+F107*G107 -> 0
A108: 3.2.9 | B108: Bogies - Dispositivo de freno | C108: Manguera carrocería - bogie. Cilindro de freno. Loc CSR SDD7. Plano 0.32.5.02.1380 | D108: 606050100035 | F108: 2 | G108: =VLOOKUP(C108,'1.7 Planilla Cotizacion LOCs'!$E$16:$G$1040,3,FALSE) -> 0 | H108: =+F108*G108 -> 0
A109: 3.2.9 | B109: Bogies - Dispositivo de freno | C109: Dispositivo de alineción de porta zapatas Dispositivo de alineción de porta zapatas loc SDD7 | D109: 606040701004-6 | F109: 12 | G109: =VLOOKUP(C109,'1.7 Planilla Cotizacion LOCs'!$E$16:$G$1040,3,FALSE) -> 0 | H109: =+F109*G109 -> 0
...

Sheet Subrenglon 1.4
B1: PORTADA | C1: PLANILLA DE COTIZACION
B3: SUBRENGLON | C3: DESCRIPCION | D3: CANTIDAD | E3: P. TOTAL
B4: 1.4 | C4: TOTAL REPUESTOS DE LOCOMOTORAS PARA STOCK - TABLA 1.4.1 | D4: 1 | E4: =SUM(H12:H994) -> 0
C5: TOTAL REPUESTOS DE LOCOMOTORAS PARA STOCK - TABLA 1.4.2 | D5: 1 | E5: =SUM(H1001:H1818) -> 0
B6: TOTAL SUBRENGLON 1.4 | E6: =+E5+E4 -> 0
A10: REPUESTOS DE LOCOMOTORAS PARA STOCK - TABLA 1.4.1
A11: Item | B11: Grupo | C11: Descripción | D11: Código CSR/ RF | E11: Otra RF | F11: Cantidad | G11: P. Unitario | H11: P. Total
A12: 3.1.1 | B12: Baterías | C12: Bateria GNC210 78 93,6V Loc CSR SDD7 | D12: 606070300000 | E12: GNC210 | F12: 94 | G12: =VLOOKUP(C12,'1.7 Planilla Cotizacion LOCs'!$E$16:$G$1040,3,FALSE) -> 0 | H12: =+F12*G12 -> 0
A13: 3.1.1 | B13: Baterías | C13: Chapa de conexión larga entre baterias. | D13: 606070300002 | F13: 38 | G13: =VLOOKUP(C13,'1.7 Planilla Cotizacion LOCs'!$E$16:$G$1040,3,FALSE) -> 0 | H13: =+F13*G13 -> 0
A14: 3.1.1 | B14: Baterías | C14: Chapa de conexión corta entre baterias. | D14: 606070300003 | F14: 45 | G14: =VLOOKUP(C14,'1.7 Planilla Cotizacion LOCs'!$E$16:$G$1040,3,FALSE) -> 0 | H14: =+F14*G14 -> 0
A15: 3.1.1 | B15: Baterías | C15: Cuchilla de baterias | D15: 606070701008 | E15: N209 | F15: 2 | G15: =VLOOKUP(C15,'1.7 Planilla Cotizacion LOCs'!$E$16:$G$1040,3,FALSE) -> 0 | H15: =+F15*G15 -> 0
A16: 3.1.1 | B16: Baterías | C16: ELECTROLITO PARA BATERIAS NIQUEL CADMIO. COCHE CSR PUZHEN. | D16: CONSUMIBLE | F16: 96 | G16: =VLOOKUP(C16,'1.7 Planilla Cotizacion LOCs'!$E$16:$G$1040,3,FALSE) -> 0 | H16: =+F16*G16 -> 0
A17: 3.1.1 | B17: Baterías | C17: Terminales de conexión de batería | F17: 24 | G17: =VLOOKUP(C17,'1.7 Planilla Cotizacion LOCs'!$E$16:$G$1040,3,FALSE) -> 0 | H17: =+F17*G17 -> 0
A18: 3.1.1 | B18: Baterías | C18: Cables de conexión de baterías | F18: 3 | G18: =VLOOKUP(C18,'1.7 Planilla Cotizacion LOCs'!$E$16:$G$1040,3,FALSE) -> 0 | H18: =+F18*G18 -> 0
A19: 3.1.2 | B19: Tanque de combustible | C19: Manga de salida de tanque de combustible | D19: 606030200004 | E19: DLJG-DH-92 | F19: 6 | G19: =VLOOKUP(C19,'1.7 Planilla Cotizacion LOCs'!$E$16:$G$1040,3,FALSE) -> 0 | H19: =+F19*G19 -> 0
A20: 3.1.2 | B20: Tanque de combustible | C20: Manga de retorno de tanque de combustible | D20: 606030200005 | F20: 6 | G20: =VLOOKUP(C20,'1.7 Planilla Cotizacion LOCs'!$E$16:$G$1040,3,FALSE) -> 0 | H20: =+F20*G20 -> 0
A21: 3.1.2 | B21: Tanque de combustible | C21: Conjunto de entrada combustible. Brida y Caño de succion. | D21: 606030201010 | F21: 6 | G21: =VLOOKUP(C21,'1.7 Planilla Cotizacion LOCs'!$E$16:$G$1040,3,FALSE) -> 0 | H21: =+F21*G21 -> 0
A22: 3.1.2 | B22: Tanque de combustible | C22: Conjunto de retorno de combustible. Brida y caño de retorno | D22: 606030201012 | F22: 6 | G22: =VLOOKUP(C22,'1.7 Planilla Cotizacion LOCs'!$E$16:$G$1040,3,FALSE) -> 0 | H22: =+F22*G22 -> 0
A23: 3.1.2 | B23: Tanque de combustible | C23: CONJUNTO DE INDICADOR DE NIVEL DE COMBUSTIBLE INFERIOR. LOC SDD7 | D23: 606030201015 | F23: 12 | G23: =VLOOKUP(C23,'1.7 Planilla Cotizacion LOCs'!$E$16:$G$1040,3,FALSE) -> 0 | H23: =+F23*G23 -> 0
A24: 3.1.2 | B24: Tanque de combustible | C24: Conjunto de valvula de drenaje de tanque | D24: 606030201024 | F24: 6 | G24: =VLOOKUP(C24,'1.7 Planilla Cotizacion LOCs'!$E$16:$G$1040,3,FALSE) -> 0 | H24: =+F24*G24 -> 0
A25: 3.1.2 | B25: Tanque de combustible | C25: Junta tapa de tanque de combustible - Loc. SDD7 | D25: CONSUMIBLE | F25: 12 | G25: =VLOOKUP(C25,'1.7 Planilla Cotizacion LOCs'!$E$16:$G$1040,3,FALSE) -> 0 | H25: =+F25*G25 -> 0
A26: 3.1.2 | B26: Tanque de combustible | C26: Indicador de nivel de combustible, con elemento flotante | F26: 12 | G26: =VLOOKUP(C26,'1.7 Planilla Cotizacion LOCs'!$E$16:$G$1040,3,FALSE) -> 0 | H26: =+F26*G26 -> 0
A27: 3.1.2 | B27: Tanque de combustible | C27: Conjunto tapa de tanque de combustible - Loc. SDD7 | F27: 12 | G27: =VLOOKUP(C27,'1.7 Planilla Cotizacion LOCs'!$E$16:$G$1040,3,FALSE) -> 0 | H27: =+F27*G27 -> 0
A28: 3.1.2 | B28: Tanque de combustible | C28: TRABA DE TAPA DE TANQUE DE COMBUSTIBLE- LOC SDD 7 | F28: 12 | G28: =VLOOKUP(C28,'1.7 Planilla Cotizacion LOCs'!$E$16:$G$1040,3,FALSE) -> 0 | H28: =+F28*G28 -> 0
A29: 3.1.2 | B29: Tanque de combustible | C29: Tapas de inspección de tanque | F29: 12 | G29: =VLOOKUP(C29,'1.7 Planilla Cotizacion LOCs'!$E$16:$G$1040,3,FALSE) -> 0 | H29: =+F29*G29 -> 0
A30: 3.1.2 | B30: Tanque de combustible | C30: Protector de indicador de nivel | F30: 12 | G30: =VLOOKUP(C30,'1.7 Planilla Cotizacion LOCs'!$E$16:$G$1040,3,FALSE) -> 0 | H30: =+F30*G30 -> 0
A31: 3.1.3 | B31: Depósito de Aire Principal | C31: Cubierta de proteccion de valvula de drenaje | D31: 606050103002 | F31: 12 | G31: =VLOOKUP(C31,'1.7 Planilla Cotizacion LOCs'!$E$16:$G$1040,3,FALSE) -> 0 | H31: =+F31*G31 -> 0
A32: 3.1.3 | B32: Depósito de Aire Principal | C32: Válvulas de drenaje de agua. (grifo) | D32: 606050103004 | E32: SOBLRCB-10-40 | F32: 12 | G32: =VLOOKUP(C32,'1.7 Planilla Cotizacion LOCs'!$E$16:$G$1040,3,FALSE) -> 0 | H32: =+F32*G32 -> 0
A33: 3.1.3 | B33: Depósito de Aire Principal | C33: Codo de entrada y salida de aire. | D33: 606050103008 | F33: 24 | G33: =VLOOKUP(C33,'1.7 Planilla Cotizacion LOCs'!$E$16:$G$1040,3,FALSE) -> 0 | H33: =+F33*G33 -> 0
A34: 3.10 | B34: Contactores y relés | C34: CONTACTOR PRINCIPAL LOC. CHINA CSR SDD7 1KM1-6 | D34: 606070701001 | E34: S1115/10-P-33-110V-B | F34: 8 | G34: =VLOOKUP(C34,'1.7 Planilla Cotizacion LOCs'!$E$16:$G$1040,3,FALSE) -> 0 | H34: =+F34*G34 -> 0
A35: 3.10 | B35: Contactores y relés | C35: CONTACTOR DE ARRANQUE DE LOC. CSR SDD7 6KM | D35: 606070701010 | E35: S1001/06-PB-44-80V-B | F35: 2 | G35: =VLOOKUP(C35,'1.7 Planilla Cotizacion LOCs'!$E$16:$G$1040,3,FALSE) -> 0 | H35: =+F35*G35 -> 0
A36: 3.10 | B36: Contactores y relés | C36: RELAY DE CONTROL 1KD1 | D36: 606070701013 | E36: S145A-110V-B | F36: 2 | G36: =VLOOKUP(C36,'1.7 Planilla Cotizacion LOCs'!$E$16:$G$1040,3,FALSE) -> 0 | H36: =+F36*G36 -> 0
A37: 3.10 | B37: Contactores y relés | C37: RELAY DE parada 1KD2 | D37: 606070701013 | E37: S145A-110V-B | F37: 2 | G37: =VLOOKUP(C37,'1.7 Planilla Cotizacion LOCs'!$E$16:$G$1040,3,FALSE) -> 0 | H37: =+F37*G37 -> 0
A38: 3.10 | B38: Contactores y relés | C38: RELAY DE SEPARADOR DE TIERRA 1KD5 | D38: 606070701013 | E38: S145A-110V-B | F38: 2 | G38: =VLOOKUP(C38,'1.7 Planilla Cotizacion LOCs'!$E$16:$G$1040,3,FALSE) -> 0 | H38: =+F38*G38 -> 0
A39: 3.10 | B39: Contactores y relés | C39: RELAY DE PUESTA A TIERRA DE LOC. CSR SDD7 - MOD.: T659C - KE | D39: 606070702012 | E39: T659C | F39: 2 | G39: =VLOOKUP(C39,'1.7 Planilla Cotizacion LOCs'!$E$16:$G$1040,3,FALSE) -> 0 | H39: =+F39*G39 -> 0
A40: 3.10 | B40: Contactores y relés | C40: RELAY DE SOBRE CORRIENTE DE LOC. CSR SDD7 - - MOD.: N429C - KC | D40: 606070702013 | E40: N429C | F40: 2 | G40: =VLOOKUP(C40,'1.7 Planilla Cotizacion LOCs'!$E$16:$G$1040,3,FALSE) -> 0 | H40: =+F40*G40 -> 0
A41: 3.10 | B41: Contactores y relés | C41: Apaga arco de contactor de arranque | E41: S1001/06-PB-44-80V-B | F41: 6 | G41: =VLOOKUP(C41,'1.7 Planilla Cotizacion LOCs'!$E$16:$G$1040,3,FALSE) -> 0 | H41: =+F41*G41 -> 0
A42: 3.10 | B42: Contactores y relés | C42: Apaga arco de contactor Ppal. | E42: S1115/10-P-33-110V-B | F42: 36 | G42: =VLOOKUP(C42,'1.7 Planilla Cotizacion LOCs'!$E$16:$G$1040,3,FALSE) -> 0 | H42: =+F42*G42 -> 0
A43: 3.10 | B43: Contactores y relés | C43: CONTACTOR GENERADOR AUXILIAR 5KM1 | E43: S140A-2-110V-B | F43: 2 | G43: =VLOOKUP(C43,'1.7 Planilla Cotizacion LOCs'!$E$16:$G$1040,3,FALSE) -> 0 | H43: =+F43*G43 -> 0
A44: 3.10 | B44: Contactores y relés | C44: CONTACTOR GENERADOR PRINCIPAL 5KM2 | E44: S140A-2-110V-B | F44: 2 | G44: =VLOOKUP(C44,'1.7 Planilla Cotizacion LOCs'!$E$16:$G$1040,3,FALSE) -> 0 | H44: =+F44*G44 -> 0
A45: 3.10 | B45: Contactores y relés | C45: CONTACTOR DE EXITACION DE EXITATRIZ 7KM1 | E45: S140A-2-110V-B | F45: 2 | G45: =VLOOKUP(C45,'1.7 Planilla Cotizacion LOCs'!$E$16:$G$1040,3,FALSE) -> 0 | H45: =+F45*G45 -> 0
A46: 3.10 | B46: Contactores y relés | C46: CONTACTOR DE EXITACION DE EXITATRIZ 7KM2 | E46: S140A-2-110V-B | F46: 2 | G46: =VLOOKUP(C46,'1.7 Planilla Cotizacion LOCs'!$E$16:$G$1040,3,FALSE) -> 0 | H46: =+F46*G46 -> 0
A47: 3.10 | B47: Contactores y relés | C47: Dedo de contacto fijo y movil de contactores ppal - Loc. SDD 7 | F47: 36 | G47: =VLOOKUP(C47,'1.7 Planilla Cotizacion LOCs'!$E$16:$G$1040,3,FALSE) -> 0 | H47: =+F47*G47 -> 0
A48: 3.10 | B48: Otros | C48: Vidrio para camara de video. Loc SDD7 | F48: 3 | G48: =VLOOKUP(C48,'1.7 Planilla Cotizacion LOCs'!$E$16:$G$1040,3,FALSE) -> 0 | H48: =+F48*G48 -> 0
A49: 3.2.1 | B49: Bogies - Suspensión | C49: ELASTICO DE GOMA PARA SUSPENSION PRIMARIA BOGIE. LOC CSR SDD7. | D49: 606040200001 | F49: 144 | G49: =VLOOKUP(C49,'1.7 Planilla Cotizacion LOCs'!$E$16:$G$1040,3,FALSE) -> 0 | H49: =+F49*G49 -> 0
A50: 3.2.1 | B50: Bogies - Suspensión | C50: Base del resorte. | D50: 606040200002 | F50: 29 | G50: =VLOOKUP(C50,'1.7 Planilla Cotizacion LOCs'!$E$16:$G$1040,3,FALSE) -> 0 | H50: =+F50*G50 -> 0
A51: 3.2.1 | B51: Bogies - Suspensión | C51: Tapa de resorte. | D51: 606040200003 | F51: 29 | G51: =VLOOKUP(C51,'1.7 Planilla Cotizacion LOCs'!$E$16:$G$1040,3,FALSE) -> 0 | H51: =+F51*G51 -> 0
A52: 3.2.1 | B52: Bogies - Suspensión | C52: Arandela de ajuste para suspension primaria. (placa suplememto) | D52: 606040200006 | F52: 144 | G52: =VLOOKUP(C52,'1.7 Planilla Cotizacion LOCs'!$E$16:$G$1040,3,FALSE) -> 0 | H52: =+F52*G52 -> 0
A53: 3.2.1 | B53: Bogies - Suspensión | C53: Resorte exterior de suspensión primaria. Boguie locomotora CSR SDD7 | D53: 606040200008 | F53: 15 | G53: =VLOOKUP(C53,'1.7 Planilla Cotizacion LOCs'!$E$16:$G$1040,3,FALSE) -> 0 | H53: =+F53*G53 -> 0
A54: 3.2.1 | B54: Bogies - Suspensión | C54: Resorte interior de suspension primaria. Locomotora CSR SDD7 | D54: 606040200009 | F54: 15 | G54: =VLOOKUP(C54,'1.7 Planilla Cotizacion LOCs'!$E$16:$G$1040,3,FALSE) -> 0 | H54: =+F54*G54 -> 0
A55: 3.2.1 | B55: Bogies - Suspensión | C55: RESORTE DE GOMA. APOYO ENTRE BOGIE Y CARROCERIA Loc CSR SDD7 | D55: 606040400000 | F55: 48 | G55: =VLOOKUP(C55,'1.7 Planilla Cotizacion LOCs'!$E$16:$G$1040,3,FALSE) -> 0 | H55: =+F55*G55 -> 0
A56: 3.2.1 | B56: Bogies - Suspensión | C56: RESORTE DE GOMA. APOYO ENTRE BOGIE Y CARROCERIA Loc CSR SDD7 | D56: 606040400001 | F56: 10 | G56: =VLOOKUP(C56,'1.7 Planilla Cotizacion LOCs'!$E$16:$G$1040,3,FALSE) -> 0 | H56: =+F56*G56 -> 0
A57: 3.2.1 | B57: Bogies - Suspensión | C57: Arandela de ajuste de resorte de goma apoyo lateral. (placa de suplemento) | D57: 606040400002 | F57: 48 | G57: =VLOOKUP(C57,'1.7 Planilla Cotizacion LOCs'!$E$16:$G$1040,3,FALSE) -> 0 | H57: =+F57*G57 -> 0
A58: 3.2.13 | B58: Tubo de eje | C58: Perno M30x2x150 Bulon especial Expandible de sujecion de tubo de eje | D58: 606040600003 | F58: 58 | G58: =VLOOKUP(C58,'1.7 Planilla Cotizacion LOCs'!$E$16:$G$1040,3,FALSE) -> 0 | H58: =+F58*G58 -> 0
A59: 3.2.13 | B59: Tubo de eje | C59: Tornillo del lado que no tiene engranaje. | D59: 606040600023 | F59: 10 | G59: =VLOOKUP(C59,'1.7 Planilla Cotizacion LOCs'!$E$16:$G$1040,3,FALSE) -> 0 | H59: =+F59*G59 -> 0
A60: 3.2.2 | B60: Bogies - Disp. tracción | C60: Dispositivo de traccion. Centro de bogue. Conjunto. | D60: 606040500000 | F60: 3 | G60: =VLOOKUP(C60,'1.7 Planilla Cotizacion LOCs'!$E$16:$G$1040,3,FALSE) -> 0 | H60: =+F60*G60 -> 0
... A100: 3.2.4 | B100: Bogies - Lubricador de pestaña | C100: Varilla de lubricador de pestaña Loc. CSR SDD7 | D100: CONSUMIBLE | F100: 144 | G100: =VLOOKUP(C100,'1.7 Planilla Cotizacion LOCs'!$E$16:$G$1040,3,FALSE) -> 0 | H100: =+F100*G100 -> 0
A101: 3.2.5 | B101: Bogies - Disp. Alarma Temperatura | C101: Sensores de temperatura | F101: 72 | G101: =VLOOKUP(C101,'1.7 Planilla Cotizacion LOCs'!$E$16:$G$1040,3,FALSE) -> 0 | H101: =+F101*G101 -> 0
A102: 3.2.5 | B102: Bogies - Disp. Alarma Temperatura | C102: Tomacorrientes | F102: 8 | G102: =VLOOKUP(C102,'1.7 Planilla Cotizacion LOCs'!$E$16:$G$1040,3,FALSE) -> 0 | H102: =+F102*G102 -> 0
A103: 3.2.5 | B103: Bogies - Disp. Alarma Temperatura | C103: Cableado de sensores | F103: 15 | G103: =VLOOKUP(C103,'1.7 Planilla Cotizacion LOCs'!$E$16:$G$1040,3,FALSE) -> 0 | H103: =+F103*G103 -> 0
A104: 3.2.6 | B104: Bogies - Caja de engranajes | C104: Base de amortiguación elástica SNR-7 para Bulon de sujecion de Carcaza. Soporte con rosca para bulon lateral carcaza. | D104: 606040600004 | F104: 22 | G104: =VLOOKUP(C104,'1.7 Planilla Cotizacion LOCs'!$E$16:$G$1040,3,FALSE) -> 0 | H104: =+F104*G104 -> 0
A105: 3.2.6 | B105: Bogies - Caja de engranajes | C105: Bulon fijacion caja lado externo. Con cono Expansible. (trasero) | D105: 606040600005 | F105: 15 | G105: =VLOOKUP(C105,'1.7 Planilla Cotizacion LOCs'!$E$16:$G$1040,3,FALSE) -> 0 | H105: =+F105*G105 -> 0
A106: 3.2.6 | B106: Bogies - Caja de engranajes | C106: BULON FIJACION CAJA DE ENGRANAJES - LOC CSR SDD7 Lado interior. | D106: 606040600014 | F106: 22 | G106: =VLOOKUP(C106,'1.7 Planilla Cotizacion LOCs'!$E$16:$G$1040,3,FALSE) -> 0 | H106: =+F106*G106 -> 0
A107: 3.2.6 | B107: Bogies - Caja de engranajes | C107: Sellos de caja de engranajes cuello de piñon. Anillo de goma en O | D107: 606040600019 | F107: 36 | G107: =VLOOKUP(C107,'1.7 Planilla Cotizacion LOCs'!$E$16:$G$1040,3,FALSE) -> 0 | H107: =+F107*G107 -> 0
A108: 3.2.6 | B108: Bogies - Caja de engranajes | C108: Placa de seguridad. Fijacion lateral interna. (suplemento) | D108: 606040600024 | F108: 44 | G108: =VLOOKUP(C108,'1.7 Planilla Cotizacion LOCs'!$E$16:$G$1040,3,FALSE) -> 0 | H108: =+F108*G108 -> 0
A109: 3.2.6 | B109: Bogies - Caja de engranajes | C109: ARANDELA DE PRESION GROWER CINCADA M30 - 1 1/8" DIN 127 | D109: 606040600031 | F109: 36 | G109: =VLOOKUP(C109,'1.7 Planilla Cotizacion LOCs'!$E$16:$G$1040,3,FALSE) -> 0 | H109: =+F109*G109 -> 0
A110: 3.2.6 | B110: Bogies - Caja de engranajes | C110: Sello de goma de caja cuello de corona. Anillo en O 412×7-G-N | D110: 606040600042 | F110: 36 | G110: =VLOOKUP(C110,'1.7 Planilla Cotizacion LOCs'!$E$16:$G$1040,3,FALSE) -> 0 | H110: =+F110*G110 -> 0
A111: 3.2.6 | B111: Bogies - Caja de engranajes | C111: Caja cubre engranajes de MT | D111: 606040604000 | F111: 8 | G111: =VLOOKUP(C111,'1.7 Planilla Cotizacion LOCs'!$E$16:$G$1040,3,FALSE) -> 0 | H111: =+F111*G111 -> 0
A112: 3.2.6 | B112: Bogies - Caja de engranajes | C112: Tornillo cabeza hexagonal M20X2,5x220 - GB /T8-1988-Cal 8.8 Bulon de union | D112: 606040604001 | F112: 144 | G112: =VLOOKUP(C112,'1.7 Planilla Cotizacion LOCs'!$E$16:$G$1040,3,FALSE) -> 0 | H112: =+F112*G112 -> 0
A113: 3.2.6 | B113: Bogies - Caja de engranajes | C113: Tuerca hexagonal M20X2,5 - GB/T6170-2000. Tuerca de bulon de union | D113: 606040604002 | F113: 144 | G113: =VLOOKUP(C113,'1.7 Planilla Cotizacion LOCs'!$E$16:$G$1040,3,FALSE) -> 0 | H113: =+F113*G113 -> 0
A114: 3.2.6 | B114: Bogies - Caja de engranajes | C114: Arandela elástica M20 - GB/T93-1987 Arandela de union | D114: 606040604003 | F114: 144 | G114: =VLOOKUP(C114,'1.7 Planilla Cotizacion LOCs'!$E$16:$G$1040,3,FALSE) -> 0 | H114: =+F114*G114 -> 0
A115: 3.2.6 | B115: Bogies - Caja de engranajes | C115: Tornillo M12×60. Allen (union de carcazas) | D115: 606040604004 | F115: 108 | G115: =VLOOKUP(C115,'1.7 Planilla Cotizacion LOCs'!$E$16:$G$1040,3,FALSE) -> 0 | H115: =+F115*G115 -> 0
A116: 3.2.6 | B116: Bogies - Caja de engranajes | C116: ACEITE LUBRICANTE PARA CARCASA DE ENGRANAJE (PIÑÓN Y CORONA) DE LOCOMOTORAS DE ORIGEN CHINO | D116: CONSUMIBLE | F116: 360 | G116: =VLOOKUP(C116,'1.7 Planilla Cotizacion LOCs'!$E$16:$G$1040,3,FALSE) -> 0 | H116: =+F116*G116 -> 0
A117: 3.2.6 | B117: Bogies - Caja de engranajes | C117: Tapa completa para caja grasera Loc CSR SDD7 | F117: 36 | G117: =VLOOKUP(C117,'1.7 Planilla Cotizacion LOCs'!$E$16:$G$1040,3,FALSE) -> 0 | H117: =+F117*G117 -> 0
A118: 3.2.6 | B118: Bogies - Caja de engranajes | C118: Cadena de retención p/tapa de caja grasera Loc CSR SDD7 | F118: 36 | G118: =VLOOKUP(C118,'1.7 Planilla Cotizacion LOCs'!$E$16:$G$1040,3,FALSE) -> 0 | H118: =+F118*G118 -> 0
A119: 3.2.6 | B119: Bogies - Caja de engranajes | C119: Esparrago con cabeza en "T" p/ tapa de caja grasera Loc CSR SDD7 | F119: 36 | G119: =VLOOKUP(C119,'1.7 Planilla Cotizacion LOCs'!$E$16:$G$1040,3,FALSE) -> 0 | H119: =+F119*G119 -> 0
A120: 3.2.6 | B120: Bogies - Caja de engranajes | C120: BULON CABEZA HEXAGONAL ROSCA MA DE ACERO M12 X 45 MM PASO 1,75 MM GRADO 8.8 | F120: 72 | G120: =VLOOKUP(C120,'1.7 Planilla Cotizacion LOCs'!$E$16:$G$1040,3,FALSE) -> 0 | H120: =+F120*G120 -> 0
A121: 3.2.6 | B121: Bogies - Caja de engranajes | C121: Felpa para cuello de caja lado externo. | F121: 36 | G121: =VLOOKUP(C121,'1.7 Planilla Cotizacion LOCs'!$E$16:$G$1040,3,FALSE) -> 0 | H121: =+F121*G121 -> 0
A122: 3.2.7 | B122: Bogies - Amortiguadores | C122: Amortiguador SACHS Mod. 42 1300 001 042 para Loc CSR SDD7. Vertical | D122: 606040200004 | E122: 42 1300 001 042 | F122: 48 | G122: =VLOOKUP(C122,'1.7 Planilla Cotizacion LOCs'!$E$16:$G$1040,3,FALSE) -> 0 | H122: =+F122*G122 -> 0
A123: 3.2.7 | B123: Bogies - Amortiguadores | C123: Amortiguador SACHS Mod. 42 1300 001 043 para Loc CSR SDD7. Horizontal | D123: 606040400003 | E123: 42 1300 001 043 | F123: 5 | G123: =VLOOKUP(C123,'1.7 Planilla Cotizacion LOCs'!$E$16:$G$1040,3,FALSE) -> 0 | H123: =+F123*G123 -> 0
A124: 3.2.8 | B124: Bogies - Areneros | C124: Valvula de arena. | D124: 606040800009 | F124: 10 | G124: =VLOOKUP(C124,'1.7 Planilla Cotizacion LOCs'!$E$16:$G$1040,3,FALSE) -> 0 | H124: =+F124*G124 -> 0
A125: 3.2.8 | B125: Bogies - Areneros | C125: TUBO DE ARENA (I) DE CONJUNTO ARENERO (I). LOC SDD7 | D125: 606040800011 | F125: 12 | G125: =VLOOKUP(C125,'1.7 Planilla Cotizacion LOCs'!$E$16:$G$1040,3,FALSE) -> 0 | H125: =+F125*G125 -> 0
A126: 3.2.8 | B126: Bogies - Areneros | C126: BOQUILLA DE INYECCION PARA ARENERO. LOC SDD7. boquilla de caño. | D126: 606040800012 | F126: 48 | G126: =VLOOKUP(C126,'1.7 Planilla Cotizacion LOCs'!$E$16:$G$1040,3,FALSE) -> 0 | H126: =+F126*G126 -> 0
A127: 3.2.8 | B127: Bogies - Areneros | C127: TUBO DE ARENA (II) PARA CONJUNTO ARENERO (II). LOC SDD7. | D127: 606040800013 | F127: 12 | G127: =VLOOKUP(C127,'1.7 Planilla Cotizacion LOCs'!$E$16:$G$1040,3,FALSE) -> 0 | H127: =+F127*G127 -> 0
A128: 3.2.8 | B128: Bogies - Areneros | C128: TUBO DE ARENA (III) PARA CONJUNTO ARENERO (III). LOC SDD7. | D128: 606040800014 | F128: 12 | G128: =VLOOKUP(C128,'1.7 Planilla Cotizacion LOCs'!$E$16:$G$1040,3,FALSE) -> 0 | H128: =+F128*G128 -> 0
A129: 3.2.8 | B129: Bogies - Areneros | C129: TUBO DE CONJUNTO ARENERO (IV). LOC SDD7. | D129: 606040800015 | F129: 12 | G129: =VLOOKUP(C129,'1.7 Planilla Cotizacion LOCs'!$E$16:$G$1040,3,FALSE) -> 0 | H129: =+F129*G129 -> 0
A130: 3.2.8 | B130: Bogies - Areneros | C130: SUPLEMENTO DE GOMA. ARENERO. LCO SDD7. No posee. | D130: 606040800016 | F130: 48 | G130: =VLOOKUP(C130,'1.7 Planilla Cotizacion LOCs'!$E$16:$G$1040,3,FALSE) -> 0 | H130: =+F130*G130 -> 0
A131: 3.2.8 | B131: Bogies - Areneros | C131: ELECTROVALVULA CQSS-A-053 p/Loc CSR SDD7 para accionamiento de areneros | D131: 606050108002 | F131: 3 | G131: =VLOOKUP(C131,'1.7 Planilla Cotizacion LOCs'!$E$16:$G$1040,3,FALSE) -> 0 | H131: =+F131*G131 -> 0
A132: 3.2.8 | B132: Bogies - Areneros | C132: Manguera carrocería - bogie. Areneros. Loc CSR SDD7. Plano 0.32.5.02.1382 | D132: 606050200001 | F132: 24 | G132: =VLOOKUP(C132,'1.7 Planilla Cotizacion LOCs'!$E$16:$G$1040,3,FALSE) -> 0 | H132: =+F132*G132 -> 0
A133: 3.2.8 | B133: Bogies - Areneros | C133: BISAGRA PARA TAPA ARENEROS. LOC CSR SDD7. | F133: 48 | G133: =VLOOKUP(C133,'1.7 Planilla Cotizacion LOCs'!$E$16:$G$1040,3,FALSE) -> 0 | H133: =+F133*G133 -> 0
A134: 3.2.8 | B134: Bogies - Areneros | C134: TAPA PARA ARENERO. LOC. CSR SDD7 | F134: 48 | G134: =VLOOKUP(C134,'1.7 Planilla Cotizacion LOCs'!$E$16:$G$1040,3,FALSE) -> 0 | H134: =+F134*G134 -> 0
A135: 3.2.8 | B135: Bogies - Areneros | C135: PERNO DE TAPA. ARENEROS. LOC CSR SDD7 | F135: 48 | G135: =VLOOKUP(C135,'1.7 Planilla Cotizacion LOCs'!$E$16:$G$1040,3,FALSE) -> 0 | H135: =+F135*G135 -> 0
A136: 3.2.8 | B136: Bogies - Areneros | C136: RESORTE PARA TAPA DE ARENEROS. LOC CSR SDD7 | F136: 48 | G136: =VLOOKUP(C136,'1.7 Planilla Cotizacion LOCs'!$E$16:$G$1040,3,FALSE) -> 0 | H136: =+F136*G136 -> 0
A137: 3.2.8 | B137: Bogies - bastidor | C137: SOPORTE DE SEGURIDAD SUPERIOR DE BASTIDOR DE BOGUE PARA MT. LOC SDD7 | D137: 606040800017 | F137: 36 | G137: =VLOOKUP(C137,'1.7 Planilla Cotizacion LOCs'!$E$16:$G$1040,3,FALSE) -> 0 | H137: =+F137*G137 -> 0
A138: 3.2.8 | B138: Bogies - bastidor | C138: CONJUNTO DE TOPE LATERAL. LOC SDD7. | D138: 606040801000 | F138: 5 | G138: =VLOOKUP(C138,'1.7 Planilla Cotizacion LOCs'!$E$16:$G$1040,3,FALSE) -> 0 | H138: =+F138*G138 -> 0
A139: 3.2.8 | B139: Bogies - bastidor | C139: Caja de paso MT4, sensor Temp. Eje | E139: FZH-A | F139: 2 | G139: =VLOOKUP(C139,'1.7 Planilla Cotizacion LOCs'!$E$16:$G$1040,3,FALSE) -> 0 | H139: =+F139*G139 -> 0
A140: 3.2.8 | B140: Bogies - bastidor | C140: Caja de paso MT5, sensor Temp. Eje | E140: FZH-B | F140: 2 | G140: =VLOOKUP(C140,'1.7 Planilla Cotizacion LOCs'!$E$16:$G$1040,3,FALSE) -> 0 | H140: =+F140*G140 -> 0
A141: 3.2.8 | B141: Bogies - bastidor | C141: Caja de paso MT6, sensor Temp. Eje | E141: FZH-C | F141: 2 | G141: =VLOOKUP(C141,'1.7 Planilla Cotizacion LOCs'!$E$16:$G$1040,3,FALSE) -> 0 | H141: =+F141*G141 -> 0
A142: 3.2.8 | B142: Bogies - bastidor | C142: Caja de paso MT3, sensor Temp. Eje | E142: FZH-D | F142: 2 | G142: =VLOOKUP(C142,'1.7 Planilla Cotizacion LOCs'!$E$16:$G$1040,3,FALSE) -> 0 | H142: =+F142*G142 -> 0
A143: 3.2.8 | B143: Bogies - bastidor | C143: Caja de paso MT1, sensor Temp. Eje | E143: FZH-E | F143: 2 | G143: =VLOOKUP(C143,'1.7 Planilla Cotizacion LOCs'!$E$16:$G$1040,3,FALSE) -> 0 | H143: =+F143*G143 -> 0
...

Sheet Subrenglon 1.5
B1: PORTADA | C1: PLANILLA DE COTIZACION
B3: SUBRENGLON | C3: DESCRIPCION | D3: CANTIDAD | E3: P. TOTAL
B4: 1.5 | C4: TOTAL EVENTUALES PARA LOCOMOTORAS - TABLA 1.5 | D4: 1 | E4: =SUM(H11:H401) -> 0
B5: TOTAL SUBRENGLON 1.5 | E5: =+H402 -> 0
A9: EVENTUALES PARA LOCOMOTORAS - TABLA 1.5
A10: Item | B10: Grupo | C10: Descripción | D10: Código CSR/ RF | E10: Otra RF | F10: Cantidad | G10: P. Unitario | H10: P. Total
A11: 3.1.1 | B11: Baterías | C11: Bateria GNC210 78 93,6V Loc CSR SDD7 | D11: 606070300000 | E11: GNC210 | F11: 223 | G11: =VLOOKUP(C11,'1.7 Planilla Cotizacion LOCs'!$E$16:$G$1040,3,FALSE) -> 0 | H11: =+F11*G11 -> 0
A12: 3.1.1 | B12: Baterías | C12: Cuchilla de baterias | D12: 606070701008 | E12: N209 | F12: 7 | G12: =VLOOKUP(C12,'1.7 Planilla Cotizacion LOCs'!$E$16:$G$1040,3,FALSE) -> 0 | H12: =+F12*G12 -> 0
A13: 3.1.1 | B13: Baterías | C13: Chapa de conexión corta entre baterias. | D13: 606070300003 | F13: 259 | G13: =VLOOKUP(C13,'1.7 Planilla Cotizacion LOCs'!$E$16:$G$1040,3,FALSE) -> 0 | H13: =+F13*G13 -> 0
A14: 3.1.1 | B14: Baterías | C14: Chapa de conexión larga entre baterias. | D14: 606070300002 | F14: 217 | G14: =VLOOKUP(C14,'1.7 Planilla Cotizacion LOCs'!$E$16:$G$1040,3,FALSE) -> 0 | H14: =+F14*G14 -> 0
A15: 3.1.1 | B15: Baterías | C15: Cables de conexión de baterías | F15: 14 | G15: =VLOOKUP(C15,'1.7 Planilla Cotizacion LOCs'!$E$16:$G$1040,3,FALSE) -> 0 | H15: =+F15*G15 -> 0
A16: 3.1.1 | B16: Baterías | C16: ELECTROLITO PARA BATERIAS NIQUEL CADMIO. COCHE CSR PUZHEN. | D16: CONSUMIBLE | F16: 560 | G16: =VLOOKUP(C16,'1.7 Planilla Cotizacion LOCs'!$E$16:$G$1040,3,FALSE) -> 0 | H16: =+F16*G16 -> 0
A17: 3.10 | B17: Contactores y relés | C17: CONTACTOR PRINCIPAL LOC. CHINA CSR SDD7 1KM1-6 | D17: 606070701001 | E17: S1115/10-P-33-110V-B | F17: 42 | G17: =VLOOKUP(C17,'1.7 Planilla Cotizacion LOCs'!$E$16:$G$1040,3,FALSE) -> 0 | H17: =+F17*G17 -> 0
A18: 3.10 | B18: Contactores y relés | C18: CONTACTOR DE ARRANQUE DE LOC. CSR SDD7 6KM | D18: 606070701010 | E18: S1001/06-PB-44-80V-B | F18: 7 | G18: =VLOOKUP(C18,'1.7 Planilla Cotizacion LOCs'!$E$16:$G$1040,3,FALSE) -> 0 | H18: =+F18*G18 -> 0
A19: 3.10 | B19: Contactores y relés | C19: CONTACTOR GENERADOR AUXILIAR 5KM1 | E19: S140A-2-110V-B | F19: 7 | G19: =VLOOKUP(C19,'1.7 Planilla Cotizacion LOCs'!$E$16:$G$1040,3,FALSE) -> 0 | H19: =+F19*G19 -> 0
A20: 3.10 | B20: Contactores y relés | C20: CONTACTOR GENERADOR PRINCIPAL 5KM2 | E20: S140A-2-110V-B | F20: 7 | G20: =VLOOKUP(C20,'1.7 Planilla Cotizacion LOCs'!$E$16:$G$1040,3,FALSE) -> 0 | H20: =+F20*G20 -> 0
A21: 3.10 | B21: Contactores y relés | C21: CONTACTOR DE EXITACION DE EXITATRIZ 7KM1 | E21: S140A-2-110V-B | F21: 7 | G21: =VLOOKUP(C21,'1.7 Planilla Cotizacion LOCs'!$E$16:$G$1040,3,FALSE) -> 0 | H21: =+F21*G21 -> 0
A22: 3.10 | B22: Contactores y relés | C22: CONTACTOR DE EXITACION DE EXITATRIZ 7KM2 | E22: S140A-2-110V-B | F22: 7 | G22: =VLOOKUP(C22,'1.7 Planilla Cotizacion LOCs'!$E$16:$G$1040,3,FALSE) -> 0 | H22: =+F22*G22 -> 0
A23: 3.10 | B23: Contactores y relés | C23: RELAY DE PUESTA A TIERRA DE LOC. CSR SDD7 - MOD.: T659C - KE | D23: 606070702012 | E23: T659C | F23: 7 | G23: =VLOOKUP(C23,'1.7 Planilla Cotizacion LOCs'!$E$16:$G$1040,3,FALSE) -> 0 | H23: =+F23*G23 -> 0
A24: 3.10 | B24: Contactores y relés | C24: RELAY DE SOBRE CORRIENTE DE LOC. CSR SDD7 - - MOD.: N429C - KC | D24: 606070702013 | E24: N429C | F24: 7 | G24: =VLOOKUP(C24,'1.7 Planilla Cotizacion LOCs'!$E$16:$G$1040,3,FALSE) -> 0 | H24: =+F24*G24 -> 0
A25: 3.10 | B25: Contactores y relés | C25: RELAY DE CONTROL 1KD1 | D25: 606070701013 | E25: S145A-110V-B | F25: 7 | G25: =VLOOKUP(C25,'1.7 Planilla Cotizacion LOCs'!$E$16:$G$1040,3,FALSE) -> 0 | H25: =+F25*G25 -> 0
A26: 3.10 | B26: Contactores y relés | C26: RELAY DE parada 1KD2 | D26: 606070701013 | E26: S145A-110V-B | F26: 7 | G26: =VLOOKUP(C26,'1.7 Planilla Cotizacion LOCs'!$E$16:$G$1040,3,FALSE) -> 0 | H26: =+F26*G26 -> 0
A27: 3.10 | B27: Contactores y relés | C27: RELAY DE SEPARADOR DE TIERRA 1KD5 | D27: 606070701013 | E27: S145A-110V-B | F27: 7 | G27: =VLOOKUP(C27,'1.7 Planilla Cotizacion LOCs'!$E$16:$G$1040,3,FALSE) -> 0 | H27: =+F27*G27 -> 0
A28: 3.10 | B28: Otros | C28: Vidrio para camara de video. Loc SDD7 | F28: 14 | G28: =VLOOKUP(C28,'1.7 Planilla Cotizacion LOCs'!$E$16:$G$1040,3,FALSE) -> 0 | H28: =+F28*G28 -> 0
A29: 3.2.1 | B29: Bogies - Suspensión | C29: Resorte exterior de suspensión primaria. Boguie locomotora CSR SDD7 | D29: 606040200008 | F29: 84 | G29: =VLOOKUP(C29,'1.7 Planilla Cotizacion LOCs'!$E$16:$G$1040,3,FALSE) -> 0 | H29: =+F29*G29 -> 0
A30: 3.2.1 | B30: Bogies - Suspensión | C30: Resorte interior de suspension primaria. Locomotora CSR SDD7 | D30: 606040200009 | F30: 84 | G30: =VLOOKUP(C30,'1.7 Planilla Cotizacion LOCs'!$E$16:$G$1040,3,FALSE) -> 0 | H30: =+F30*G30 -> 0
A31: 3.2.1 | B31: Bogies - Suspensión | C31: Base del resorte. | D31: 606040200002 | F31: 168 | G31: =VLOOKUP(C31,'1.7 Planilla Cotizacion LOCs'!$E$16:$G$1040,3,FALSE) -> 0 | H31: =+F31*G31 -> 0
A32: 3.2.1 | B32: Bogies - Suspensión | C32: Tapa de resorte. | D32: 606040200003 | F32: 168 | G32: =VLOOKUP(C32,'1.7 Planilla Cotizacion LOCs'!$E$16:$G$1040,3,FALSE) -> 0 | H32: =+F32*G32 -> 0
A33: 3.2.1 | B33: Bogies - Suspensión | C33: RESORTE DE GOMA. APOYO ENTRE BOGIE Y CARROCERIA Loc CSR SDD7 | D33: 606040400001 | F33: 56 | G33: =VLOOKUP(C33,'1.7 Planilla Cotizacion LOCs'!$E$16:$G$1040,3,FALSE) -> 0 | H33: =+F33*G33 -> 0
A34: 3.2.13 | B34: Tubo de eje | C34: Perno M30x2x150 Bulon especial Expandible de sujecion de tubo de eje | D34: 606040600003 | F34: 336 | G34: =VLOOKUP(C34,'1.7 Planilla Cotizacion LOCs'!$E$16:$G$1040,3,FALSE) -> 0 | H34: =+F34*G34 -> 0
A35: 3.2.13 | B35: Tubo de eje | C35: Tornillo del lado que no tiene engranaje. | D35: 606040600023 | F35: 56 | G35: =VLOOKUP(C35,'1.7 Planilla Cotizacion LOCs'!$E$16:$G$1040,3,FALSE) -> 0 | H35: =+F35*G35 -> 0
A36: 3.2.2 | B36: Bogies - Disp. tracción | C36: Dispositivo de traccion. Centro de bogue. Conjunto. | D36: 606040500000 | F36: 7 | G36: =VLOOKUP(C36,'1.7 Planilla Cotizacion LOCs'!$E$16:$G$1040,3,FALSE) -> 0 | H36: =+F36*G36 -> 0
A37: 3.2.3 | B37: Bogies - Par montado - Punta de eje | C37: Mandril corto. Barras de tracción superior/inferior de punta de eje. Loc CSR SDD7. RF 0606040201006 (CSR) | D37: 606040201006 | F37: 336 | G37: =VLOOKUP(C37,'1.7 Planilla Cotizacion LOCs'!$E$16:$G$1040,3,FALSE) -> 0 | H37: =+F37*G37 -> 0
A38: 3.2.3 | B38: Bogies - Par montado - Punta de eje | C38: RODAMIENTO DE PUNTA DE EJE PARA LOCOMOTORA CSR SDD7 CODIGO CSR 606040200038 | D38: 606040200038 | F38: 84 | G38: =VLOOKUP(C38,'1.7 Planilla Cotizacion LOCs'!$E$16:$G$1040,3,FALSE) -> 0 | H38: =+F38*G38 -> 0
A39: 3.2.3 | B39: Bogies - Par montado - Punta de eje | C39: RODAMIENTO DE PUNTA DE EJE PARA LOCOMOTORA CSR SDD7 CODIGO CSR 606040200039 | D39: 606040200039 | F39: 84 | G39: =VLOOKUP(C39,'1.7 Planilla Cotizacion LOCs'!$E$16:$G$1040,3,FALSE) -> 0 | H39: =+F39*G39 -> 0
A40: 3.2.3 | B40: Bogies - Par montado - Punta de eje | C40: Tapa de extremo. Barras de tracción superior/inferior de punta de eje. Loc CSR SDD7. RF 0606040201002 (CSR) | D40: 606040201002 | F40: 672 | G40: =VLOOKUP(C40,'1.7 Planilla Cotizacion LOCs'!$E$16:$G$1040,3,FALSE) -> 0 | H40: =+F40*G40 -> 0
... A50: 3.2.4 | B50: Bogies - Lubricador de pestaña | C50: Dispositivo de lubricación de pestaña izquierdo | D50: 606040900006 | F50: 28 | G50: =VLOOKUP(C50,'1.7 Planilla Cotizacion LOCs'!$E$16:$G$1040,3,FALSE) -> 0 | H50: =+F50*G50 -> 0
A51: 3.2.5 | B51: Bogies - Disp. Alarma Temperatura | C51: Cableado de sensores | F51: 84 | G51: =VLOOKUP(C51,'1.7 Planilla Cotizacion LOCs'!$E$16:$G$1040,3,FALSE) -> 0 | H51: =+F51*G51 -> 0
A52: 3.2.5 | B52: Bogies - Disp. Alarma Temperatura | C52: Tomacorrientes | F52: 42 | G52: =VLOOKUP(C52,'1.7 Planilla Cotizacion LOCs'!$E$16:$G$1040,3,FALSE) -> 0 | H52: =+F52*G52 -> 0
A53: 3.2.6 | B53: Bogies - Caja de engranajes | C53: Caja cubre engranajes de MT | D53: 606040604000 | F53: 35 | G53: =VLOOKUP(C53,'1.7 Planilla Cotizacion LOCs'!$E$16:$G$1040,3,FALSE) -> 0 | H53: =+F53*G53 -> 0
A54: 3.2.6 | B54: Bogies - Caja de engranajes | C54: Placa de seguridad. Fijacion lateral interna. (suplemento) | D54: 606040600024 | F54: 252 | G54: =VLOOKUP(C54,'1.7 Planilla Cotizacion LOCs'!$E$16:$G$1040,3,FALSE) -> 0 | H54: =+F54*G54 -> 0
A55: 3.2.6 | B55: Bogies - Caja de engranajes | C55: Base de amortiguación elástica SNR-7 para Bulon de sujecion de Carcaza. Soporte con rosca para bulon lateral carcaza. | D55: 606040600004 | F55: 126 | G55: =VLOOKUP(C55,'1.7 Planilla Cotizacion LOCs'!$E$16:$G$1040,3,FALSE) -> 0 | H55: =+F55*G55 -> 0
A56: 3.2.6 | B56: Bogies - Caja de engranajes | C56: BULON FIJACION CAJA DE ENGRANAJES - LOC CSR SDD7 Lado interior. | D56: 606040600014 | F56: 126 | G56: =VLOOKUP(C56,'1.7 Planilla Cotizacion LOCs'!$E$16:$G$1040,3,FALSE) -> 0 | H56: =+F56*G56 -> 0
A57: 3.2.6 | B57: Bogies - Caja de engranajes | C57: Bulon fijacion caja lado externo. Con cono Expansible. (trasero) | D57: 606040600005 | F57: 84 | G57: =VLOOKUP(C57,'1.7 Planilla Cotizacion LOCs'!$E$16:$G$1040,3,FALSE) -> 0 | H57: =+F57*G57 -> 0
A58: 3.2.7 | B58: Bogies - Amortiguadores | C58: Amortiguador SACHS Mod. 42 1300 001 043 para Loc CSR SDD7. Horizontal | D58: 606040400003 | E58: 42 1300 001 043 | F58: 28 | G58: =VLOOKUP(C58,'1.7 Planilla Cotizacion LOCs'!$E$16:$G$1040,3,FALSE) -> 0 | H58: =+F58*G58 -> 0
A59: 3.2.8 | B59: Bogies - Areneros | C59: ELECTROVALVULA CQSS-A-053 p/Loc CSR SDD7 para accionamiento de areneros | D59: 606050108002 | F59: 14 | G59: =VLOOKUP(C59,'1.7 Planilla Cotizacion LOCs'!$E$16:$G$1040,3,FALSE) -> 0 | H59: =+F59*G59 -> 0
A60: 3.2.8 | B60: Bogies - bastidor | C60: Caja de paso MT4, sensor Temp. Eje | E60: FZH-A | F60: 7 | G60: =VLOOKUP(C60,'1.7 Planilla Cotizacion LOCs'!$E$16:$G$1040,3,FALSE) -> 0 | H60: =+F60*G60 -> 0
A61: 3.2.8 | B61: Bogies - bastidor | C61: Caja de paso MT5, sensor Temp. Eje | E61: FZH-B | F61: 7 | G61: =VLOOKUP(C61,'1.7 Planilla Cotizacion LOCs'!$E$16:$G$1040,3,FALSE) -> 0 | H61: =+F61*G61 -> 0
A62: 3.2.8 | B62: Bogies - bastidor | C62: Caja de paso MT6, sensor Temp. Eje | E62: FZH-C | F62: 7 | G62: =VLOOKUP(C62,'1.7 Planilla Cotizacion LOCs'!$E$16:$G$1040,3,FALSE) -> 0 | H62: =+F62*G62 -> 0
A63: 3.2.8 | B63: Bogies - bastidor | C63: Caja de paso MT3, sensor Temp. Eje | E63: FZH-D | F63: 7 | G63: =VLOOKUP(C63,'1.7 Planilla Cotizacion LOCs'!$E$16:$G$1040,3,FALSE) -> 0 | H63: =+F63*G63 -> 0
A64: 3.2.8 | B64: Bogies - bastidor | C64: Caja de paso MT1, sensor Temp. Eje | E64: FZH-E | F64: 7 | G64: =VLOOKUP(C64,'1.7 Planilla Cotizacion LOCs'!$E$16:$G$1040,3,FALSE) -> 0 | H64: =+F64*G64 -> 0
A65: 3.2.8 | B65: Bogies - bastidor | C65: Caja de paso MT2, sensor Temp. Eje | E65: FZH-F | F65: 7 | G65: =VLOOKUP(C65,'1.7 Planilla Cotizacion LOCs'!$E$16:$G$1040,3,FALSE) -> 0 | H65: =+F65*G65 -> 0
A66: 3.2.8 | B66: Bogies - bastidor | C66: Caja general, sensor Temp. Eje | E66: FZH-G | F66: 7 | G66: =VLOOKUP(C66,'1.7 Planilla Cotizacion LOCs'!$E$16:$G$1040,3,FALSE) -> 0 | H66: =+F66*G66 -> 0
A67: 3.2.8 | B67: Bogies - Areneros | C67: Valvula de arena. | D67: 606040800009 | F67: 56 | G67: =VLOOKUP(C67,'1.7 Planilla Cotizacion LOCs'!$E$16:$G$1040,3,FALSE) -> 0 | H67: =+F67*G67 -> 0
A68: 3.2.8 | B68: Bogies - bastidor | C68: CONJUNTO DE TOPE LATERAL. LOC SDD7. | D68: 606040801000 | F68: 28 | G68: =VLOOKUP(C68,'1.7 Planilla Cotizacion LOCs'!$E$16:$G$1040,3,FALSE) -> 0 | H68: =+F68*G68 -> 0
A69: 3.2.9 | B69: Bogies - Dispositivo de freno | C69: Dispositivo de alineción de porta zapatas Dispositivo de alineción de porta zapatas loc SDD7 | D69: 606040701004-6 | F69: 84 | G69: =VLOOKUP(C69,'1.7 Planilla Cotizacion LOCs'!$E$16:$G$1040,3,FALSE) -> 0 | H69: =+F69*G69 -> 0
A70: 3.2.z11 | B70: Bogies - Suspensión de motor - Barra de elevación | C70: Conjunto de barra de elevación. Completo | D70: 606040602000 | F70: 21 | G70: =VLOOKUP(C70,'1.7 Planilla Cotizacion LOCs'!$E$16:$G$1040,3,FALSE) -> 0 | H70: =+F70*G70 -> 0
A71: 3.2.z11 | B71: Bogies - Suspensión de motor - Barra de elevación | C71: Barra de elevación | D71: 606040602005 | F71: 21 | G71: =VLOOKUP(C71,'1.7 Planilla Cotizacion LOCs'!$E$16:$G$1040,3,FALSE) -> 0 | H71: =+F71*G71 -> 0
A72: 3.2.z11 | B72: Bogies - Suspensión de motor - Barra de elevación | C72: Perno de barra de elevacion | D72: 606040602009 | F72: 21 | G72: =VLOOKUP(C72,'1.7 Planilla Cotizacion LOCs'!$E$16:$G$1040,3,FALSE) -> 0 | H72: =+F72*G72 -> 0
A73: 3.2.z12 | B73: Motor de tracción | C73: Eje de Motor de Tracción | F73: 42 | G73: =VLOOKUP(C73,'1.7 Planilla Cotizacion LOCs'!$E$16:$G$1040,3,FALSE) -> 0 | H73: =+F73*G73 -> 0
A74: 3.2.z12 | B74: Motor de tracción | C74: Conjunto de porta escobillas | D74: 606040603004 | E74: CDZD101-300-000 | F74: 168 | G74: =VLOOKUP(C74,'1.7 Planilla Cotizacion LOCs'!$E$16:$G$1040,3,FALSE) -> 0 | H74: =+F74*G74 -> 0
A75: 3.2.z12 | B75: Motor de tracción | C75: Placa de sujeción | E75: CDZD101A-200-002 | F75: 84 | G75: =VLOOKUP(C75,'1.7 Planilla Cotizacion LOCs'!$E$16:$G$1040,3,FALSE) -> 0 | H75: =+F75*G75 -> 0
A76: 3.2.z12 | B76: Motor de tracción | C76: Sujetador de Cable | E76: CDZD101A-200-003 | F76: 84 | G76: =VLOOKUP(C76,'1.7 Planilla Cotizacion LOCs'!$E$16:$G$1040,3,FALSE) -> 0 | H76: =+F76*G76 -> 0
A77: 3.2.z12 | B77: Motor de tracción | C77: Escudo Lado Piñón MT SDD7 | E77: CDZD101D-010-000 | F77: 42 | G77: =VLOOKUP(C77,'1.7 Planilla Cotizacion LOCs'!$E$16:$G$1040,3,FALSE) -> 0 | H77: =+F77*G77 -> 0
A78: 3.2.z12 | B78: Motor de tracción | C78: Sensores de velocidad MT | F78: 42 | G78: =VLOOKUP(C78,'1.7 Planilla Cotizacion LOCs'!$E$16:$G$1040,3,FALSE) -> 0 | H78: =+F78*G78 -> 0
A79: 3.2.z12 | B79: Motor de tracción | C79: Piñón | F79: 42 | G79: =VLOOKUP(C79,'1.7 Planilla Cotizacion LOCs'!$E$16:$G$1040,3,FALSE) -> 0 | H79: =+F79*G79 -> 0
A80: 3.2.z12 | B80: Motor de tracción | C80: Sujetador de porta escobillas | D80: 606040603003 | E80: CDZD101-000-012 | F80: 168 | G80: =VLOOKUP(C80,'1.7 Planilla Cotizacion LOCs'!$E$16:$G$1040,3,FALSE) -> 0 | H80: =+F80*G80 -> 0
A81: 3.2.z12 | B81: Motor de tracción | C81: Tapa de Rodamientos LC MT SDD7 | E81: CDZD101-000-001 | F81: 42 | G81: =VLOOKUP(C81,'1.7 Planilla Cotizacion LOCs'!$E$16:$G$1040,3,FALSE) -> 0 | H81: =+F81*G81 -> 0
A82: 3.2.z12 | B82: Motor de tracción | C82: Tapa de Rodamiento Lado Piñón MT SDD7 | E82: CDZD101A-010-000 | F82: 42 | G82: =VLOOKUP(C82,'1.7 Planilla Cotizacion LOCs'!$E$16:$G$1040,3,FALSE) -> 0 | H82: =+F82*G82 -> 0
A83: 3.2.z12 | B83: Motor de tracción | C83: Placa de Signo de Cable A-AA | E83: CDZD101A-200-009 | F83: 42 | G83: =VLOOKUP(C83,'1.7 Planilla Cotizacion LOCs'!$E$16:$G$1040,3,FALSE) -> 0 | H83: =+F83*G83 -> 0
A84: 3.2.z12 | B84: Motor de tracción | C84: Placa de signo de cable F-FF | E84: CDZD101A-200-010 | F84: 42 | G84: =VLOOKUP(C84,'1.7 Planilla Cotizacion LOCs'!$E$16:$G$1040,3,FALSE) -> 0 | H84: =+F84*G84 -> 0
A85: 3.2.z12 | B85: Motor de tracción | C85: Anillo de arco | E85: CDZD101B-292-000 | F85: 42 | G85: =VLOOKUP(C85,'1.7 Planilla Cotizacion LOCs'!$E$16:$G$1040,3,FALSE) -> 0 | H85: =+F85*G85 -> 0
A86: 3.2.z12 | B86: Motor de tracción | C86: Tapa de Rodamiento Lado Colector | E86: CDZD101D-000-004 | F86: 42 | G86: =VLOOKUP(C86,'1.7 Planilla Cotizacion LOCs'!$E$16:$G$1040,3,FALSE) -> 0 | H86: =+F86*G86 -> 0
A87: 3.2.z12 | B87: Motor de tracción | C87: Resorte de Disco B40-1 | F87: 168 | G87: =VLOOKUP(C87,'1.7 Planilla Cotizacion LOCs'!$E$16:$G$1040,3,FALSE) -> 0 | H87: =+F87*G87 -> 0
A88: 3.2.z12 | B88: Motor de tracción | C88: Conjunto ducto de ventilación. Motor de tracción | F88: 42 | G88: =VLOOKUP(C88,'1.7 Planilla Cotizacion LOCs'!$E$16:$G$1040,3,FALSE) -> 0 | H88: =+F88*G88 -> 0
A89: 3.2.z12 | B89: Motor de tracción | C89: Cable de Salida FF | E89: CDZD101D-201-000 | F89: 42 | G89: =VLOOKUP(C89,'1.7 Planilla Cotizacion LOCs'!$E$16:$G$1040,3,FALSE) -> 0 | H89: =+F89*G89 -> 0
A90: 3.2.z12 | B90: Motor de tracción | C90: Cable de Salida F | E90: CDZD101D-202-000 | F90: 42 | G90: =VLOOKUP(C90,'1.7 Planilla Cotizacion LOCs'!$E$16:$G$1040,3,FALSE) -> 0 | H90: =+F90*G90 -> 0
A91: 3.2.z12 | B91: Motor de tracción | C91: Cable de Salida A | E91: CDZD101D-203-000 | F91: 42 | G91: =VLOOKUP(C91,'1.7 Planilla Cotizacion LOCs'!$E$16:$G$1040,3,FALSE) -> 0 | H91: =+F91*G91 -> 0
A92: 3.2.z12 | B92: Motor de tracción | C92: Cable de Salida AA | E92: CDZD101D-204-000 | F92: 42 | G92: =VLOOKUP(C92,'1.7 Planilla Cotizacion LOCs'!$E$16:$G$1040,3,FALSE) -> 0 | H92: =+F92*G92 -> 0
A93: 3.2.z12 | B93: Motor de tracción | C93: Anillo sello exterior Lado Piñón MT SDD7 | E93: CDZD101D-000-006 | F93: 42 | G93: =VLOOKUP(C93,'1.7 Planilla Cotizacion LOCs'!$E$16:$G$1040,3,FALSE) -> 0 | H93: =+F93*G93 -> 0
A94: 3.2.z12 | B94: Motor de tracción | C94: Seguro de fuelle de ventilación. Motor de tracción. | D94: 606040601003 | F94: 42 | G94: =VLOOKUP(C94,'1.7 Planilla Cotizacion LOCs'!$E$16:$G$1040,3,FALSE) -> 0 | H94: =+F94*G94 -> 0
A95: 3.2.z12 | B95: Motor de tracción | C95: Tapa de Seguridad de Piñón | F95: 42 | G95: =VLOOKUP(C95,'1.7 Planilla Cotizacion LOCs'!$E$16:$G$1040,3,FALSE) -> 0 | H95: =+F95*G95 -> 0
A96: 3.2.z12 | B96: Motor de tracción | C96: Anillo sello Interior Lado Piñón MT SDD7 | E96: CDZD101-000-008 | F96: 42 | G96: =VLOOKUP(C96,'1.7 Planilla Cotizacion LOCs'!$E$16:$G$1040,3,FALSE) -> 0 | H96: =+F96*G96 -> 0
A97: 3.2.z12 | B97: Motor de tracción | C97: Tapa de Inspección superior Con Traba | E97: CDZD101D-020-000 | F97: 42 | G97: =VLOOKUP(C97,'1.7 Planilla Cotizacion LOCs'!$E$16:$G$1040,3,FALSE) -> 0 | H97: =+F97*G97 -> 0
A98: 3.2.z12 | B98: Motor de tracción | C98: Junta de tapa de Rodamiento LP MT SDD7 | E98: CDZD101-000-016 | F98: 42 | G98: =VLOOKUP(C98,'1.7 Planilla Cotizacion LOCs'!$E$16:$G$1040,3,FALSE) -> 0 | H98: =+F98*G98 -> 0
A99: 3.3 | B99: Cuarto Eléctrico | C99: disyuntor | D99: 606070702004 | E99: NDM2Z-125/2300 125A | F99: 7 | G99: =VLOOKUP(C99,'1.7 Planilla Cotizacion LOCs'!$E$16:$G$1040,3,FALSE) -> 0 | H99: =+F99*G99 -> 0
A100: 3.4.1 | B100: Eje de transm. y caja de vel. DELANTERA | C100: Eje Cardan Delantero Loc CSR SDD7 | F100: 7 | G100: =VLOOKUP(C100,'1.7 Planilla Cotizacion LOCs'!$E$16:$G$1040,3,FALSE) -> 0 | H100: =+F100*G100 -> 0
A101: 3.4.1 | B101: Eje de transm. y caja de vel. DELANTERA | C101: ACOPLE ELASTICO FRONTAL Entre AP y MD | D101: 606020200000 | E101: WULCAM | F101: 7 | G101: =VLOOKUP(C101,'1.7 Planilla Cotizacion LOCs'!$E$16:$G$1040,3,FALSE) -> 0 | H101: =+F101*G101 -> 0
A102: 3.4.1 | B102: Eje de transm. y caja de vel. DELANTERA | C102: ACOPLAMIENTO ELASTICO ENTRE EJES. LOC SDD7 Entre AP y Caja nro 1 VKP1422 | D102: 606030700004 | E102: WULCAM VKP1422 | F102: 7 | G102: =VLOOKUP(C102,'1.7 Planilla Cotizacion LOCs'!$E$16:$G$1040,3,FALSE) -> 0 | H102: =+F102*G102 -> 0
A103: 3.4.1 | B103: Eje de transm. y caja de vel. DELANTERA | C103: CONJUNTO DE GOMA DE ACOPLE ELASTICO FRONTAL. MOTOR DIESEL/ALTERNADOR. LOC SDD7. | D103: 606020200003 | E103: WULCAM | F103: 7 | G103: =VLOOKUP(C103,'1.7 Planilla Cotizacion LOCs'!$E$16:$G$1040,3,FALSE) -> 0 | H103: =+F103*G103 -> 0
A104: 3.4.1 | B104: Eje de transm. y caja de vel. DELANTERA | C104: Acople elástico KTR. Caja reductora delantera - Compresor. Loc CSR SDD7. | E104: KTR 90DF98ShA3b-GGG | F104: 7 | G104: =VLOOKUP(C104,'1.7 Planilla Cotizacion LOCs'!$E$16:$G$1040,3,FALSE) -> 0 | H104: =+F104*G104 -> 0
A105: 3.4.1 | B105: Eje de transm. y caja de vel. DELANTERA | C105: Pernos eje de transmisión y caja vel trasera. Perno M20x170 | D105: 606030703024 | F105: 84 | G105: =VLOOKUP(C105,'1.7 Planilla Cotizacion LOCs'!$E$16:$G$1040,3,FALSE) -> 0 | H105: =+F105*G105 -> 0
A106: 3.4.1 | B106: Eje de transm. y caja de vel. DELANTERA | C106: Acople entre Caja numero 1 y generador auxiliar. | F106: 7 | G106: =VLOOKUP(C106,'1.7 Planilla Cotizacion LOCs'!$E$16:$G$1040,3,FALSE) -> 0 | H106: =+F106*G106 -> 0
A107: 3.4.1 | B107: Eje de transm. y caja de vel. DELANTERA | C107: Araña plástica de Acople elástico KTR. Caja reductora delantera - Compresor. Loc CSR SDD7 | F107: 7 | G107: =VLOOKUP(C107,'1.7 Planilla Cotizacion LOCs'!$E$16:$G$1040,3,FALSE) -> 0 | H107: =+F107*G107 -> 0
A108: 3.4.1 | B108: Eje de transm. y caja de vel. DELANTERA | C108: Conjunto de mecanismo de ventilacion | D108: 606030703003 | F108: 7 | G108: =VLOOKUP(C108,'1.7 Planilla Cotizacion LOCs'!$E$16:$G$1040,3,FALSE) -> 0 | H108: =+F108*G108 -> 0
A109: 3.4.1 | B109: Eje de transm. y caja de vel. DELANTERA | C109: Tapa extremo libre eje N°2 y N°3 | D109: 606030703004 | F109: 14 | G109: =VLOOKUP(C109,'1.7 Planilla Cotizacion LOCs'!$E$16:$G$1040,3,FALSE) -> 0 | H109: =+F109*G109 -> 0
A110: 3.4.1 | B110: Eje de transm. y caja de vel. DELANTERA | C110: Tapa eje N°4 | D110: 606030703006 | F110: 14 | G110: =VLOOKUP(C110,'1.7 Planilla Cotizacion LOCs'!$E$16:$G$1040,3,FALSE) -> 0 | H110: =+F110*G110 -> 0
A111: 3.4.1 | B111: Eje de transm. y caja de vel. DELANTERA | C111: Tapa extremo libre eje N°1 y N°5 | D111: 606030703008 | F111: 7 | G111: =VLOOKUP(C111,'1.7 Planilla Cotizacion LOCs'!$E$16:$G$1040,3,FALSE) -> 0 | H111: =+F111*G111 -> 0
A112: 3.4.2 | B112: Soplador de piso DELANTERO | C112: EJE DE SOPLADOR DE PISO 1 Y 2 . LOC SDD7. | D112: 606030101007 | F112: 14 | G112: =VLOOKUP(C112,'1.7 Planilla Cotizacion LOCs'!$E$16:$G$1040,3,FALSE) -> 0 | H112: =+F112*G112 -> 0
A113: 3.4.2 | B113: Soplador de piso TRASERO | C113: EJE DE SOPLADOR DE PISO 1 Y 2 . LOC SDD7. | D113: 606030102008 | F113: 14 | G113: =VLOOKUP(C113,'1.7 Planilla Cotizacion LOCs'!$E$16:$G$1040,3,FALSE) -> 0 | H113: =+F113*G113 -> 0
...

Sheet 1.7 Planilla Cotizacion LOCs
A3: 2017- Año de las Energías Renovables
A5: PLANILLA DE COTIZACION - RESUMEN MANTENIMIENTO PREVENTIVO MEDIANO DE LOCOMOTORAS DE LA LINEA SAN MARTIN
A7: ITEM | B7: SUBR. | C7: CODIGO | D7: DESCRIPCION | E7: DESCRIPCION AMPLIADA | F7: CANTIDAD | G7: P. UNITARIO | H7: P. TOTAL
A8: 1 | B8: 1.1 | C8: SER10002020N | D8: MANTENIMIENTO PREVENTIVO DE LOCOMOTORAS | E8: MANO DE OBRA PARA MANTENIMIENTO PREVENTIVO MEDIANO DE LOCOMOTORAS SDD7 Y CAPACITACION TECNICA A 20 OPERARIOS PARA EL MANTENIMIENTO PREVENTIVO MEDIANO DE LOCOMOTORAS SDD7 | F8: 11 | H8: =(G8+G9)*F8 -> 0
E9: TOTAL REPUESTOS MANDATARIOS LOCOMOTORAS - TABLA 1.1 | F9: 11 | G9: =SUM('Subrenglon 1.1 y 1.2'!H16:H609) -> 0
A10: 2 | B10: 1.2 | C10: SER10002020N | D10: MANTENIMIENTO PREVENTIVO DE LOCOMOTORAS | E10: ASISTENCIA Y SUPERVISION TECNICA A 20 OPERARIOS PARA EL MANTENIMIENTO PREVENTIVO MEDIANO DE LOCOMOTORAS SDD7 | F10: 11 | H10: =(G10+G11)*F10 -> 0
E11: TOTAL REPUESTOS MANDATARIOS LOCOMOTORAS - TABLA 1.1 | F11: 11 | G11: =SUM('Subrenglon 1.1 y 1.2'!H16:H609) -> 0
A12: 3 | B12: 1.3 | C12: SER10002020N | D12: REPARACION DE LOCOMOTORAS | E12: ASISTENCIA Y SUPERVISION TECNICA A 20 OPERARIOS PARA LA REPARACION DE LA LOCOMOTORA SDD7 961 | F12: 1 | H12: =(G12+G13)*F12 -> 0
E13: REPUESTOS MANDATARIOS TABLA 1.3.1 | F13: 1 | G13: =SUM('Subrenglon 1.3'!H13:H569) -> 0
A14: 4 | B14: 1.3 | C14: SER10002020N | D14: REPARACION DE LOCOMOTORAS | E14: ASISTENCIA Y SUPERVISION TECNICA A 20 OPERARIOS PARA LA REPARACION DE LA LOCOMOTORA SDD7 962 | F14: 1 | H14: =(G14+G15)*F14 -> 0
E15: REPUESTOS MANDATARIOS TABLA 1.3.2 | F15: 1 | G15: =SUM('Subrenglon 1.3'!H574:H1082) -> 0
A16: 5 | B16: 1.4 / 1.5 | C16: NUM03299000010N | D16: STOCK / EVENTUALES | E16: Barra de elevación | F16: 25 | H16: =+G16*F16 -> 0
A17: 6 | B17: 1.4 / 1.5 | C17: NUM96600000000N | D17: STOCK / EVENTUALES | E17: CONTACTOR GENERADOR AUXILIAR 5KM1 | F17: 10 | H17: =+F17*G17 -> 0
A18: 7 | B18: 1.4 / 1.5 | C18: NUM96600000000N | D18: STOCK / EVENTUALES | E18: CONTACTOR GENERADOR PRINCIPAL 5KM2 | F18: 10 | H18: =+F18*G18 -> 0
A19: 8 | B19: 1.4 / 1.5 | C19: NUM96600000000N | D19: STOCK / EVENTUALES | E19: CONTACTOR DE EXITACION DE EXITATRIZ 7KM1 | F19: 10 | H19: =+F19*G19 -> 0
A20: 9 | B20: 1.4 / 1.5 | C20: NUM96600000000N | D20: STOCK / EVENTUALES | E20: CONTACTOR DE EXITACION DE EXITATRIZ 7KM2 | F20: 10 | H20: =+F20*G20 -> 0
A21: 10 | B21: 1.4 / 1.5 | C21: NUM89110414320N | D21: STOCK / EVENTUALES | E21: Arandela Plana DIA.56xDIA.31x2 | F21: 65 | H21: =+F21*G21 -> 0
A22: 11 | B22: 1.4 / 1.5 | C22: NUM89110414320N | D22: STOCK / EVENTUALES | E22: Arandela Plana M30 - DIN 125 | F22: 156 | H22: =+F22*G22 -> 0
A23: 12 | B23: 1.4 / 1.5 | C23: NUM03220930100N | D23: STOCK / EVENTUALES | E23: Cerradura gabinete neumatico | F23: 18 | H23: =+F23*G23 -> 0
A24: 13 | B24: 1.4 / 1.5 | C24: NUM03290115110N | D24: STOCK / EVENTUALES | E24: Alemite de lubricacion M10x1 | F24: 52 | H24: =+F24*G24 -> 0
A25: 14 | B25: 1.4 / 1.5 | C25: NUM03290115110N | D25: STOCK / EVENTUALES | E25: ALEMITE M10 X 1 RECTA PARA EJE SOPLADOR. LOC CSR SDD7. | F25: 48 | H25: =+F25*G25 -> 0
A26: 15 | B26: 1.4 / 1.5 | C26: NUM03280230200N | D26: STOCK / EVENTUALES | E26: SENSOR DE TENSION MODELO CV3-1500 | F26: 7 | H26: =+F26*G26 -> 0
A27: 16 | B27: 1.4 / 1.5 | C27: NUM03280226000N | D27: STOCK / EVENTUALES | E27: Conmutador de estado de operación | F27: 71 | H27: =+F27*G27 -> 0
A28: 17 | B28: 1.4 / 1.5 | C28: NUM03280225000N | D28: STOCK / EVENTUALES | E28: Conmutador de direccion | F28: 8 | H28: =+F28*G28 -> 0
... A60: 49 | B60: 1.4 / 1.5 | C60: NUM03231201200N | D60: STOCK / EVENTUALES | E60: RODAMIENTO RÍGIDO DE RODILLOS 6215/P5 PARA CAJA PUENTE TRASERA | F60: 51 | H60: =+F60*G60 -> 0
A61: 50 | B61: 1.4 / 1.5 | C61: NUM03231201200N | D61: STOCK / EVENTUALES | E61: RODAMIENTO RIGIDO DE BOLAS 6215/p5 DE CONJUNTO DE EJE No 1 PARA CAJA PUENTE POSTERIOR. LOC SDD7 | F61: 39 | H61: =F61*G61 -> 0
A62: 51 | B62: 1.4 / 1.5 | C62: NUM03221021800N | D62: STOCK / EVENTUALES | E62: Cilindro de desenganche (conjunto) de Acople Scharfenberg | F62: 18 | H62: =+F62*G62 -> 0
A63: 52 | B63: 1.4 / 1.5 | C63: NUM03221012100N | D63: STOCK / EVENTUALES | E63: CAJA ELÉCTRICA DEL ACOPLADOR SCHARFENBERG MARCA SCHABU CÓDIGO 08.009.059-Z1 MODELO ID N° 230.0221601 | F63: 19 | H63: =+F63*G63 -> 0
A64: 53 | B64: 1.4 / 1.5 | C64: NUM03220930100N | D64: STOCK / EVENTUALES | E64: Traba de puerta gabiente neumatico | F64: 18 | H64: =+F64*G64 -> 0
A65: 54 | B65: 1.4 / 1.5 | C65: NUM03220560100N | D65: STOCK / EVENTUALES | E65: VENTILADOR DE TECHO DE CABINA TIPO LGF-40 | F65: 35 | H65: =+F65*G65 -> 0
A66: 55 | B66: 1.4 / 1.5 | C66: NUM03210170340N | D66: STOCK / EVENTUALES | E66: BOQUILLA DE INYECCION PARA ARENERO. LOC SDD7. boquilla de caño. | F66: 52 | H66: =+F66*G66 -> 0
A67: 56 | B67: 1.4 / 1.5 | C67: NUM03299001440N | D67: STOCK / EVENTUALES | E67: Filtro de aire pasillo (metalico tubular) | F67: 35 | H67: =+F67*G67 -> 0
A68: 57 | B68: 1.4 / 1.5 | C68: NUM03280225900N | D68: STOCK / EVENTUALES | E68: CQJZ-A Válvula magnética de aplicacion de freno de emergencia | F68: 1 | H68: =+F68*G68 -> 0
A69: 58 | B69: 1.4 / 1.5 | C69: NUM03231201700N | D69: STOCK / EVENTUALES | E69: Conjunto indicador de aceite caja de velocidad. | F69: 28 | H69: =+F69*G69 -> 0
A70: 59 | B70: 1.4 / 1.5 | C70: NUM03231201700N | D70: STOCK / EVENTUALES | E70: Conjunto indicador de nivel de aceite delantero | F70: 13 | H70: =+F70*G70 -> 0
A71: 60 | B71: 1.4 / 1.5 | C71: NUM03299001440N | D71: STOCK / EVENTUALES | E71: Filtros de carrocería | F71: 44 | H71: =+F71*G71 -> 0
A72: 61 | B72: 1.4 / 1.5 | C72: NUM03250302470N | D72: STOCK / EVENTUALES | E72: Junta de Cobre de Válvula de Admisión y Escape | F72: 38 | H72: =+F72*G72 -> 0
A73: 62 | B73: 1.4 / 1.5 | C73: NUM03250302470N | D73: STOCK / EVENTUALES | E73: Junta | F73: 13 | H73: =+F73*G73 -> 0
... A367: 356 | B367: 1.4 / 1.5 | C367: NUM03250821500N | D367: STOCK / EVENTUALES | E367: VALVULA WABCO H5 | F367: 2 | H367: =+F367*G367 -> 0
A368: 357 | C368: NUM03250890640N | D368: STOCK / EVENTUALES | E368: RESORTE INTERNO. Valvula rele de aire H5. Loc CSR SDD7. | F368: 12 | H368: =+F368*G368 -> 0
A369: 358 | C369: NUM03250890650N | D369: STOCK / EVENTUALES | E369: RESORTE EXTERNO. Valvula rele de aire H5. Loc CSR SDD7. | F369: 12 | H369: =+F369*G369 -> 0
A370: 359 | C370: NUM03250890440N | E370: Guía. Valvula MU-2-A. Loc CSR SDD7. | F370: 12 | H370: =+F370*G370 -> 0
A371: 360 | C371: NUM03250890450N | E371: Resorte. Valvula MU-2-A. Loc CSR SDD7. | F371: 12 | H371: =+F371*G371 -> 0
A372: 361 | C372: NUM03250890460N | E372: Manija. Valvula MU-2-A. Loc CSR SDD7. | F372: 12 | H372: =+F372*G372 -> 0
A373: 362 | B373: 1.4 / 1.5 | C373: NUM03250821300N | D373: STOCK / EVENTUALES | E373: VALVULA WABCO MU2A | F373: 1 | H373: =+F373*G373 -> 0
A374: 363 | B374: 1.4 / 1.5 | C374: NUM03250890080N | D374: STOCK / EVENTUALES | E374: Filtro. Valvula de descompresion N-1. Loc CSR SDD7. | F374: 24 | H374: =+F374*G374 -> 0
A375: 364 | B375: 1.4 / 1.5 | C375: NUM03250890090N | D375: STOCK / EVENTUALES | E375: O-RING Ø EXT. 3/4. Valvula de descompresion N-1. Loc CSR SDD7. | F375: 24 | H375: =+F375*G375 -> 0
A376: 365 | B376: 1.4 / 1.5 | C376: NUM03250890100N | D376: STOCK / EVENTUALES | E376: Resorte. Valvula de descompresion N-1. Loc CSR SDD7. | F376: 12 | H376: =+F376*G376 -> 0
A377: 366 | B377: 1.4 / 1.5 | C377: NUM03250890110N | D377: STOCK / EVENTUALES | E377: O-RING Ø EXT. 3/4. Valvula de descompresion N-1. Loc CSR SDD7. | F377: 12 | H377: =+F377*G377 -> 0
A378: 367 | B378: 1.4 / 1.5 | C378: NUM03250890120N | D378: STOCK / EVENTUALES | E378: CONJUNTO DIAFRAGMA. Valvula de descompresion N-1. Loc CSR SDD7. | F378: 12 | H378: =+F378*G378 -> 0
A379: 368 | B379: 1.4 / 1.5 | C379: NUM03250890130N | D379: STOCK / EVENTUALES | E379: Diagrafma. Valvula de descompresion N-1. Loc CSR SDD7. | F379: 12 | H379: =+F379*G379 -> 0
A380: 369 | B380: 1.4 / 1.5 | C380: NUM03250890140N | D380: STOCK / EVENTUALES | E380: Resorte. Valvula de descompresion N-1. Loc CSR SDD7. | F380: 12 | H380: =+F380*G380 -> 0
A381: 370 | B381: 1.4 / 1.5 | C381: NUM03250890150N | D381: STOCK / EVENTUALES | E381: TUERCA HEXAGONAL 3/8. Valvula de descompresion N-1. Loc CSR SDD7. | F381: 24 | H381: =+F381*G381 -> 0
A382: 371 | B382: 1.4 / 1.5 | C382: NUM03250890160N | D382: STOCK / EVENTUALES | E382: Resorte. Valvula de descompresion N-1. Loc CSR SDD7. | F382: 12 | H382: =+F382*G382 -> 0
A383: 372 | B383: 1.4 / 1.5 | C383: NUM03250890550N | D383: STOCK / EVENTUALES | E383: CARRETE DE VÁLVULA.Valvula de descompresion N-1. Loc CSR SDD7. | F383: 12 | H383: =+F383*G383 -> 0
A384: 373 | B384: 1.4 / 1.5 | C384: NUM03250890560N | D384: STOCK / EVENTUALES | E384: TUERCA HEX. 9/16. Valvula de descompresion N-1. Loc CSR SDD7. | F384: 12 | H384: =+F384*G384 -> 0
... A1040: 1029 | B1040: 1.4 / 1.5 | C1040: NUM03230712200N | D1040: STOCK / EVENTUALES | E1040: Manguera de retorno de combustible de MD | F1040: 2 | H1040: =+F1040*G1040 -> 0

Sheet 2.1 Planilla Cotizacion Banco
B1: PORTADA
A3: RENGLON | B3: SUBRENGLON | C3: DESCRIPCION | D3: TOTAL
A4: II HERRAMENTAL | B4: 2.1 | C4: BANCO DE PRUEBAS PARA VALVULAS 26 L.
A5: TOTAL RENGLON II HERRAMENTAL | D5: =D4 -> 0

Sheet Subrenglon 3.1 y 3.2
B1: PORTADA | C1: PLANILLA DE COTIZACION
A3: SUBRENGLON | B3: CONCEPTO | C3: DESCRIPCION | D3: CANTIDAD | E3: P. UNITARIO | F3: P. TOTAL
A4: 3.1 | B4: MANTENIMIENTO Y CAPACITACION DE 80 COCHES CSR PUZHEN | C4: MANO DE OBRA PARA MANTENIMIENTO PREVENTIVO MEDIANO DE FURGON CSR PUZHEN Y CAPACITACION TECNICA A 20 OPERARIOS PARA LA REPARACION DE FURGONES CSR PUZHEN | D4: 24 | E4: ='3.6 Planilla Cotizacion CyF'!G8 -> 0 | F4: =+(E4+E5)*D4 -> 0
C5: TOTAL REPUESTOS MANDATARIOS TABLA 3.1.1 | D5: 24 | E5: =SUM(F21:F246) -> 0
C6: MANO DE OBRA PARA MANTENIMIENTO PREVENTIVO MEDIANO DE COCHES CSR PUZHEN Y CAPACITACION TECNICA A 20 OPERARIOS PARA LA REPARACION DE COCHES CSR PUZHEN | D6: 56 | E6: ='3.6 Planilla Cotizacion CyF'!G10 -> 0 | F6: =+(E6+E7)*D6 -> 0
C7: TOTAL REPUESTOS MANDATARIOS TABLA 3.1.2 | D7: 56 | E7: =SUM(F252:F337) -> 0
A8: TOTAL SUBRENGLON 3.1 | F8: =SUM(F4:F7) -> 0
A10: SUBRENGLON | B10: CONCEPTO | C10: DESCRIPCION | D10: CANTIDAD | E10: P. UNITARIO | F10: P. TOTAL
A11: 3.2 | B11: ASISTENCIA Y SUPERVISION TECNICA DE 80 COCHES CSR PUZHEN | C11: ASISTENCIA Y SUPERVISION TECNICA A 20 OPERARIOS PARA EL MANTENIMIENTO PREVENTIVO MEDIANO DE FURGON CSR PUZHEN | D11: 24 | E11: ='3.6 Planilla Cotizacion CyF'!G12 -> 0 | F11: =(E11+E12)*D11 -> 0
C12: TOTAL REPUESTOS MANDATARIOS TABLA 3.1.1 | D12: 24 | E12: =SUM(F21:F246) -> 0
C13: ASISTENCIA Y SUPERVISION TECNICA A 20 OPERARIOS PARA EL MANTENIMIENTO PREVENTIVO MEDIANO DE COCHES CSR PUZHEN | D13: 56 | E13: ='3.6 Planilla Cotizacion CyF'!G14 -> 0 | F13: =(E13+E14)*D13 -> 0
C14: TOTAL REPUESTOS MANDATARIOS TABLA 3.1.2 | D14: 56 | E14: =SUM(F252:F337) -> 0
A15: TOTAL SUBRENGLON 3.2 | F15: =SUM(F11:F14) -> 0
A19: TOTAL REPUESTOS MANDATARIOS TABLA 3.1.1
A20: Item | B20: Grupo | C20: Descripcion | D20: Mandatorio | E20: P. Unitario | F20: P. Total
A21: I-1 INST. INTERIORES | B21: Cerraduras | C21: CERRADURA PUERTA MOTOGENERADOR | D21: 1 | E21: =VLOOKUP(C21,'3.6 Planilla Cotizacion CyF'!$E$16:$G$574,3,FALSE) -> 0 | F21: =E21*D21 -> 0
A22: I-1 INST. INTERIORES | B22: Cerraduras | C22: CERRADURA PARA CERROJO ANULACIÓN PUERTAS COCHE CSR PUZHEN | D22: 1 | E22: =VLOOKUP(C22,'3.6 Planilla Cotizacion CyF'!$E$16:$G$574,3,FALSE) -> 0 | F22: =E22*D22 -> 0
A23: I-1 INST. INTERIORES | B23: Cerraduras | C23: CERRADURA PARA BOTONERA DE COMANDO DE PUERTAS LATERALES (Guarda) | D23: 1 | E23: =VLOOKUP(C23,'3.6 Planilla Cotizacion CyF'!$E$16:$G$574,3,FALSE) -> 0 | F23: =E23*D23 -> 0
A24: I-1 INST. INTERIORES | B24: Cerraduras | C24: CERRADURA PARA TABLERO DE COMANDO DE MOTOGENERADOR Y TABLERO GENERAL | D24: 1 | E24: =VLOOKUP(C24,'3.6 Planilla Cotizacion CyF'!$E$16:$G$574,3,FALSE) -> 0 | F24: =E24*D24 -> 0
A25: I-1 INST. INTERIORES | B25: Cerraduras | C25: CERRADURA RETRACTIL TAMBOR LARGO PARA PUERTA DE GABINETE DE PLC/INTERCOM | D25: 1 | E25: =VLOOKUP(C25,'3.6 Planilla Cotizacion CyF'!$E$16:$G$574,3,FALSE) -> 0 | F25: =E25*D25 -> 0
A26: I-1 INST. INTERIORES | B26: Cerraduras | C26: CERRADURA STANDAR PARA TAPA DE INSPECCION MAQUINA DE PUERTAS,TAPAS INT TABLEROS,F.EMERG | D26: 12 | E26: =VLOOKUP(C26,'3.6 Planilla Cotizacion CyF'!$E$16:$G$574,3,FALSE) -> 0 | F26: =E26*D26 -> 0
A27: I-1 INST. INTERIORES | B27: Cerraduras | C27: CERRADURA PARA ACCESO EXTERNO DE PUERTAS (HEXAGONAL) | D27: 1 | E27: =VLOOKUP(C27,'3.6 Planilla Cotizacion CyF'!$E$16:$G$574,3,FALSE) -> 0 | F27: =E27*D27 -> 0
A28: I-1 INST. INTERIORES | B28: Cerraduras | C28: CERRADURA RETRACTIL TAMBOR CORTO TAPA PRINCIPAL DE TABLEROS ELECTRICOS/ FRENO EMERG SALON | D28: 1 | E28: =VLOOKUP(C28,'3.6 Planilla Cotizacion CyF'!$E$16:$G$574,3,FALSE) -> 0 | F28: =E28*D28 -> 0
A29: I-1 INST. INTERIORES | B29: Materiales Generales | C29: ARANDELA PLANA - DIAMETRO INT- 6 MM X DIAMETRO EXT- 16 MM X 2.5 MM ESPESOR - ACERO SAE 1010.- | D29: 100 | E29: =VLOOKUP(C29,'3.6 Planilla Cotizacion CyF'!$E$16:$G$574,3,FALSE) -> 0 | F29: =E29*D29 -> 0
A30: I-1 INST. INTERIORES | B30: Materiales Generales | C30: TORNILLO C/FRESADA M6X1X20 CINC AMAR | D30: 100 | E30: =VLOOKUP(C30,'3.6 Planilla Cotizacion CyF'!$E$16:$G$574,3,FALSE) -> 0 | F30: =E30*D30 -> 0
A31: I-1 INST. INTERIORES | B31: Materiales Generales | C31: TORNILLOS CABEZA FRESADA - ALLEN - M5 X 0.8 X 16 MM - ACERO INOXIDABLE.- | D31: 100 | E31: =VLOOKUP(C31,'3.6 Planilla Cotizacion CyF'!$E$16:$G$574,3,FALSE) -> 0 | F31: =E31*D31 -> 0
A32: I-1 INST. INTERIORES | B32: Materiales Generales | C32: TORNILLOS CABEZA FRESADA - ALLEN - M6 X 1 X 26 MM - ACERO INOXIDABLE.- | D32: 100 | E32: =VLOOKUP(C32,'3.6 Planilla Cotizacion CyF'!$E$16:$G$574,3,FALSE) -> 0 | F32: =E32*D32 -> 0
... A246: IV-NEUMÁTICA | B246: Suspensión secundaria | C246: PLACA DE PRESIÓN SUSP. NEUM. BALONA FI520D P/ COCHE PUZHEN | D246: 4 | E246: =VLOOKUP(C246,'3.6 Planilla Cotizacion CyF'!$E$16:$G$574,3,FALSE) -> 0 | F246: =E246*D246 -> 0
A250: REPUESTOS MANDATARIOS TABLA 3.1.2
A251: Item | B251: Grupo | C251: Descripcion | D251: Mandatorio | E251: P. Unitario | F251: P. Total
A252: I-1 INST. INTERIORES | B252: Cerraduras | C252: CERRADURA PUERTA MOTOGENERADOR | D252: 1 | E252: =VLOOKUP(C252,'3.6 Planilla Cotizacion CyF'!$E$16:$G$574,3,FALSE) -> 0 | F252: =E252*D252 -> 0
A253: I-1 INST. INTERIORES | B253: Cerraduras | C253: CERRADURA PARA CERROJO ANULACIÓN PUERTAS COCHE CSR PUZHEN | D253: 1 | E253: =VLOOKUP(C253,'3.6 Planilla Cotizacion CyF'!$E$16:$G$574,3,FALSE) -> 0 | F253: =E253*D253 -> 0
A254: I-1 INST. INTERIORES | B254: Cerraduras | C254: CERRADURA PARA BOTONERA DE COMANDO DE PUERTAS LATERALES (Guarda) | D254: 1 | E254: =VLOOKUP(C254,'3.6 Planilla Cotizacion CyF'!$E$16:$G$574,3,FALSE) -> 0 | F254: =E254*D254 -> 0
A255: I-1 INST. INTERIORES | B255: Cerraduras | C255: CERRADURA PARA TABLERO DE COMANDO DE MOTOGENERADOR Y TABLERO GENERAL | D255: 1 | E255: =VLOOKUP(C255,'3.6 Planilla Cotizacion CyF'!$E$16:$G$574,3,FALSE) -> 0 | F255: =E255*D255 -> 0
A256: I-1 INST. INTERIORES | B256: Cerraduras | C256: CERRADURA RETRACTIL TAMBOR LARGO PARA PUERTA DE GABINETE DE PLC/INTERCOM | D256: 1 | E256: =VLOOKUP(C256,'3.6 Planilla Cotizacion CyF'!$E$16:$G$574,3,FALSE) -> 0 | F256: =E256*D256 -> 0
A257: I-1 INST. INTERIORES | B257: Cerraduras | C257: CERRADURA STANDAR PARA TAPA DE INSPECCION MAQUINA DE PUERTAS,TAPAS INT TABLEROS,F.EMERG | D257: 12 | E257: =VLOOKUP(C257,'3.6 Planilla Cotizacion CyF'!$E$16:$G$574,3,FALSE) -> 0 | F257: =E257*D257 -> 0
A258: I-1 INST. INTERIORES | B258: Cerraduras | C258: CERRADURA PARA ACCESO EXTERNO DE PUERTAS (HEXAGONAL) | D258: 1 | E258: =VLOOKUP(C258,'3.6 Planilla Cotizacion CyF'!$E$16:$G$574,3,FALSE) -> 0 | F258: =E258*D258 -> 0
A259: I-1 INST. INTERIORES | B259: Cerraduras | C259: CERRADURA RETRACTIL TAMBOR CORTO TAPA PRINCIPAL DE TABLEROS ELECTRICOS/ FRENO EMERG SALON | D259: 1 | E259: =VLOOKUP(C259,'3.6 Planilla Cotizacion CyF'!$E$16:$G$574,3,FALSE) -> 0 | F259: =E259*D259 -> 0
A260: I-1 INST. INTERIORES | B260: Materiales Generales | C260: ARANDELA PLANA - DIAMETRO INT- 6 MM X DIAMETRO EXT- 16 MM X 2.5 MM ESPESOR - ACERO SAE 1010.- | D260: 100 | E260: =VLOOKUP(C260,'3.6 Planilla Cotizacion CyF'!$E$16:$G$574,3,FALSE) -> 0 | F260: =E260*D260 -> 0
A261: I-1 INST. INTERIORES | B261: Materiales Generales | C261: TORNILLO C/FRESADA M6X1X20 CINC AMAR | D261: 100 | E261: =VLOOKUP(C261,'3.6 Planilla Cotizacion CyF'!$E$16:$G$574,3,FALSE) -> 0 | F261: =E261*D261 -> 0
A262: I-1 INST. INTERIORES | B262: Materiales Generales | C262: TORNILLOS CABEZA FRESADA - ALLEN - M5 X 0.8 X 16 MM - ACERO INOXIDABLE.- | D262: 100 | E262: =VLOOKUP(C262,'3.6 Planilla Cotizacion CyF'!$E$16:$G$574,3,FALSE) -> 0 | F262: =E262*D262 -> 0
A263: I-1 INST. INTERIORES | B263: Materiales Generales | C263: TORNILLOS CABEZA FRESADA - ALLEN - M6 X 1 X 26 MM - ACERO INOXIDABLE.- | D263: 100 | E263: =VLOOKUP(C263,'3.6 Planilla Cotizacion CyF'!$E$16:$G$574,3,FALSE) -> 0 | F263: =E263*D263 -> 0
... A337: IV-NEUMÁTICA | B337: Suspensión secundaria | C337: PLACA DE PRESIÓN SUSP. NEUM. BALONA FI520D P/ COCHE PUZHEN | D337: 4 | E337: =VLOOKUP(C337,'3.6 Planilla Cotizacion CyF'!$E$16:$G$574,3,FALSE) -> 0 | F337: =E337*D337 -> 0

Sheet Subrenglon 3.3
B1: PORTADA | C1: PLANILLA DE COTIZACION
B3: SUBRENGLON | C3: DESCRIPCION | D3: P. TOTAL
B4: 3.3 | C4: TOTAL REPUESTOS PARA STOCK FURGON CSR - TABLA 3.3.1 | D4: =SUM(F13:F441) -> 0
C5: TOTAL REPUESTOS PARA STOCK COCHES CSR - TABLA 3.3.2 | D5: =SUM(F448:F700) -> 0
C6: TOTAL REPUESTOS PARA STOCK FORMACION 15 - TABLA 3.3.3 | D6: =SUM(F705:F840) -> 0
B7: TOTAL SUBRENGLON 3.3 | D7: =SUM(D4:D6) -> 0
A11: REPUESTOS PARA STOCK FURGON CSR - TABLA 3.3.1
A12: Item | B12: Grupo | C12: Descripcion | D12: Stock de Seguridad | E12: P. Unitario | F12: P. Total
A13: III-2 - ACOPLES | B13: Acople Automático Scharfenberg | C13: conjunto de acoplador semipermanente - coche puzhen | D13: 6 | E13: =VLOOKUP(C13,'3.6 Planilla Cotizacion CyF'!$E$16:$G$574,3,FALSE) -> 0 | F13: =E13*D13 -> 0
A14: III-2 - ACOPLES | B14: Acople Automático Scharfenberg | C14: Acoplador automático Scharfenberg coche CSR PUZHEN | D14: 2 | E14: =VLOOKUP(C14,'3.6 Planilla Cotizacion CyF'!$E$16:$G$574,3,FALSE) -> 0 | F14: =E14*D14 -> 0
A15: III-2 - ACOPLES | B15: Acople Automático Scharfenberg | C15: DISPOSITIVO DE CENTRADO. ACOPLADOR AUTOMATICO SCHARFENBERG VOITH | D15: 4 | E15: =VLOOKUP(C15,'3.6 Planilla Cotizacion CyF'!$E$16:$G$574,3,FALSE) -> 0 | F15: =E15*D15 -> 0
A16: III-7 - BOGIES | B16: Bogies | C16: ELEMENTO FRENANTE COMPLETO DE COCHE PUZHEN | D16: 20 | E16: =VLOOKUP(C16,'3.6 Planilla Cotizacion CyF'!$E$16:$G$574,3,FALSE) -> 0 | F16: =E16*D16 -> 0
A17: IV-NEUMÁTICA | B17: Acople Automático Scharfenberg | C17: CAJA ELÉCTRICA DEL ACOPLADOR SCHARFENBERG MARCA SCHABU CÓDIGO 08.009.059-Z1 MODELO ID N° 230.0221601 | D17: 5 | E17: =VLOOKUP(C17,'3.6 Planilla Cotizacion CyF'!$E$16:$G$574,3,FALSE) -> 0 | F17: =E17*D17 -> 0
A18: III-5 - MOTOR DIESEL | B18: Perkins | C18: BOMBA INYECTORA MOTOR PERKINS | D18: 12 | E18: =VLOOKUP(C18,'3.6 Planilla Cotizacion CyF'!$E$16:$G$574,3,FALSE) -> 0 | F18: =E18*D18 -> 0
A19: III-2 - ACOPLES | B19: Acople Automático Scharfenberg | C19: Soporte de dispositivo de centrado de acopador automatico Scharfenberg. | D19: 48 | E19: =VLOOKUP(C19,'3.6 Planilla Cotizacion CyF'!$E$16:$G$574,3,FALSE) -> 0 | F19: =E19*D19 -> 0
A20: III-2 - ACOPLES | B20: Acople Automático Scharfenberg | C20: Barra. Mecanismo de mando de la botonera. Acople automatico Scharfenberg. Loc CSR SDD7. | D20: 24 | E20: =VLOOKUP(C20,'3.6 Planilla Cotizacion CyF'!$E$16:$G$574,3,FALSE) -> 0 | F20: =E20*D20 -> 0
A21: III-7 - BOGIES | B21: Bogies | C21: CAJA DE PUNTA DE EJE. COCHE CSR PUZHEN | D21: 20 | E21: =VLOOKUP(C21,'3.6 Planilla Cotizacion CyF'!$E$16:$G$574,3,FALSE) -> 0 | F21: =E21*D21 -> 0
A22: III-7 - BOGIES | B22: Bogies | C22: Eslinga de seguridad. Boguies Coches CSR Puzhen. | D22: 96 | E22: =VLOOKUP(C22,'3.6 Planilla Cotizacion CyF'!$E$16:$G$574,3,FALSE) -> 0 | F22: =E22*D22 -> 0
A23: I-2 FUELLES INTERCONEXIÓN | B23: Pasarela | C23: FUELLE DE INTERCOMUNICACIËN ENTRE COCHES CSR PUZHEN | D23: 18 | E23: =VLOOKUP(C23,'3.6 Planilla Cotizacion CyF'!$E$16:$G$574,3,FALSE) -> 0 | F23: =E23*D23 -> 0
A24: III-7 - BOGIES | B24: Bogies | C24: DISCO DE FRENO DE COCHE REMOLCADO CSR PUZHEN | D24: 20 | E24: =VLOOKUP(C24,'3.6 Planilla Cotizacion CyF'!$E$16:$G$574,3,FALSE) -> 0 | F24: =E24*D24 -> 0
... A30: II-1 - PUERTA CORREDIZA | B30: Electricidad | C30: Conjunto sensor de traba de puerta - coche Puzhen | D30: 72 | E30: =VLOOKUP(C30,'3.6 Planilla Cotizacion CyF'!$E$16:$G$574,3,FALSE) -> 0 | F30: =E30*D30 -> 0
A31: III-LEVANTE | C31: Mecanismo anti acaballamiento de coches CSR PUZHEN | D31: 10 | E31: =VLOOKUP(C31,'3.6 Planilla Cotizacion CyF'!$E$16:$G$574,3,FALSE) -> 0 | F31: =E31*D31 -> 0
B32: Electrónica | C32: UNIDAD ELECTRONICA WSP (ANTIPATINAMIENTO)-COCHE PUZHEN | D32: 3 | E32: =VLOOKUP(C32,'3.6 Planilla Cotizacion CyF'!$E$16:$G$574,3,FALSE) -> 0 | F32: =E32*D32 -> 0
A33: I-1 INST. INTERIORES | B33: Ventanas | C33: PAÑO MOVIL VENTANA SALON 1200MM (MODIFICADO) REVESTIMIENTO INT. COCHES CSR PUZHEN. | D33: 50 | E33: =VLOOKUP(C33,'3.6 Planilla Cotizacion CyF'!$E$16:$G$574,3,FALSE) -> 0 | F33: =E33*D33 -> 0
A34: I-1 INST. INTERIORES | B34: Asientos | C34: Respaldo derecho. Asiento doble. Coche Puzhen | D34: 53 | E34: =VLOOKUP(C34,'3.6 Planilla Cotizacion CyF'!$E$16:$G$574,3,FALSE) -> 0 | F34: =E34*D34 -> 0
A35: I-1 INST. INTERIORES | B35: Asientos | C35: Respaldo izquierdo. Asiento doble. Coche Puzhen | D35: 53 | E35: =VLOOKUP(C35,'3.6 Planilla Cotizacion CyF'!$E$16:$G$574,3,FALSE) -> 0 | F35: =E35*D35 -> 0
A36: IV-NEUMÁTICA | B36: Cilindro de Freno | C36: Cilindro de freno.- Coche CSR Puzhen. | D36: 20 | E36: =VLOOKUP(C36,'3.6 Planilla Cotizacion CyF'!$E$16:$G$574,3,FALSE) -> 0 | F36: =E36*D36 -> 0
A37: III-7 - BOGIES | B37: Suspensión | C37: Conjunto Suspensión Neumática Balona de Aire FI520D p/ COCHE PUZHEN | D37: 10 | E37: =VLOOKUP(C37,'3.6 Planilla Cotizacion CyF'!$E$16:$G$574,3,FALSE) -> 0 | F37: =E37*D37 -> 0
A38: III-5 - MOTOR DIESEL | B38: Perkins | C38: Juego de juntas superior. Motor diesel de motogenerador. CSR Puzhen. | D38: 48 | E38: =VLOOKUP(C38,'3.6 Planilla Cotizacion CyF'!$E$16:$G$574,3,FALSE) -> 0 | F38: =E38*D38 -> 0
A39: I-1 INST. INTERIORES | B39: Asientos | C39: Brazo del Apoyabraso coche CSR Puzhen | D39: 53 | E39: =VLOOKUP(C39,'3.6 Planilla Cotizacion CyF'!$E$16:$G$574,3,FALSE) -> 0 | F39: =E39*D39 -> 0
A40: III-2 - ACOPLES | B40: Acople Automático Scharfenberg | C40: CONTACTO HEMBRA DORADO K08 DE ACOPLADOR | D40: 360 | E40: =VLOOKUP(C40,'3.6 Planilla Cotizacion CyF'!$E$16:$G$574,3,FALSE) -> 0 | F40: =E40*D40 -> 0
A41: III-7 - BOGIES | B41: Bogies | C41: RODAMIENTO DE PUNTA DE EJE | D41: 20 | E41: =VLOOKUP(C41,'3.6 Planilla Cotizacion CyF'!$E$16:$G$574,3,FALSE) -> 0 | F41: =E41*D41 -> 0
A42: III-7 - BOGIES | B42: Bogies | C42: RODAMIENTO PUNTA DE EJE | D42: 20 | E42: =VLOOKUP(C42,'3.6 Planilla Cotizacion CyF'!$E$16:$G$574,3,FALSE) -> 0 | F42: =E42*D42 -> 0
A43: III-2 - ACOPLES | B43: Acople Automático Scharfenberg | C43: Palanca. Mecanismo de mando de la botonera. Acople automatico Scharfenberg. Loc CSR SDD7. | D43: 24 | E43: =VLOOKUP(C43,'3.6 Planilla Cotizacion CyF'!$E$16:$G$574,3,FALSE) -> 0 | F43: =E43*D43 -> 0
A44: II-ELECTRICIDAD | B44: Ventiladores | C44: Motor de Ventilador | D44: 13 | E44: =VLOOKUP(C44,'3.6 Planilla Cotizacion CyF'!$E$16:$G$574,3,FALSE) -> 0 | F44: =E44*D44 -> 0
... A185: IV-NEUMÁTICA | B185: Suspensión secundaria | C185: PLACA DE PRESIÓN SUSP. NEUM. BALONA FI520D P/ COCHE PUZHEN | D185: 10 | E185: =VLOOKUP(C185,'3.6 Planilla Cotizacion CyF'!$E$16:$G$574,3,FALSE) -> 0 | F185: =E185*D185 -> 0
C186: BALASTO ELECTRONICO DE 1X28W 220V CA. COCHE PUZHEN | D186: 10 | E186: =VLOOKUP(C186,'3.6 Planilla Cotizacion CyF'!$E$16:$G$574,3,FALSE) -> 0 | F186: =E186*D186 -> 0
A187: IV-NEUMÁTICA | B187: Acople Automático Scharfenberg | C187: Rotulo avisador de Componente Neumático Ac. Sch. | D187: 24 | E187: =VLOOKUP(C187,'3.6 Planilla Cotizacion CyF'!$E$16:$G$574,3,FALSE) -> 0 | F187: =E187*D187 -> 0
A188: I-1 INST. INTERIORES | B188: Porta equipajes | C188: TUBO PARA PORTAEQUIPAJE X 3430MM Ï 17. COCHE CSR PUZHEN. | D188: 20 | E188: =VLOOKUP(C188,'3.6 Planilla Cotizacion CyF'!$E$16:$G$574,3,FALSE) -> 0 | F188: =E188*D188 -> 0
A189: III-2 - ACOPLES | B189: Acople Automático Scharfenberg | C189: Trinquete. Cabeza de enganche. Acople automatico Scharfenberg. Loc CSR SDD7. | D189: 24 | E189: =VLOOKUP(C189,'3.6 Planilla Cotizacion CyF'!$E$16:$G$574,3,FALSE) -> 0 | F189: =E189*D189 -> 0
A190: IV-NEUMÁTICA | B190: Tuberías | C190: TUBO DE ACERO INOXIDABLE SIN COSTURA 8 X 1 MM AISI 304 | D190: 63 | E190: =VLOOKUP(C190,'3.6 Planilla Cotizacion CyF'!$E$16:$G$574,3,FALSE) -> 0 | F190: =E190*D190 -> 0
A191: IV-NEUMÁTICA | B191: Tuberías | C191: TUBO DE ACERO INOXIDABLE SIN COSTURA 10 X 1 MM AISI 304 | D191: 63 | E191: =VLOOKUP(C191,'3.6 Planilla Cotizacion CyF'!$E$16:$G$574,3,FALSE) -> 0 | F191: =E191*D191 -> 0
A192: IV-NEUMÁTICA | B192: Tuberías | C192: TUBO DE ACERO INOXIDABLE SIN COSTURA 15 X 1,5 MM AISI 304 | D192: 63 | E192: =VLOOKUP(C192,'3.6 Planilla Cotizacion CyF'!$E$16:$G$574,3,FALSE) -> 0 | F192: =E192*D192 -> 0
A193: IV-NEUMÁTICA | B193: Tuberías | C193: TUBO DE ACERO INOXIDABLE SIN COSTURA 18 X 1,5 MM AISI 304 | D193: 63 | E193: =VLOOKUP(C193,'3.6 Planilla Cotizacion CyF'!$E$16:$G$574,3,FALSE) -> 0 | F193: =E193*D193 -> 0
A194: II-ELECTRICIDAD | B194: Electricidad | C194: CABLE COBRE PVC 450/750V 1X16MM2 CELESTE | D194: 600 | E194: =VLOOKUP(C194,'3.6 Planilla Cotizacion CyF'!$E$16:$G$574,3,FALSE) -> 0 | F194: =E194*D194 -> 0
A195: III-2 - ACOPLES | B195: Acople Automático Scharfenberg | C195: SOPORTE ELÁSTICO DE ACOPLE SCHARFENBERG | D195: 24 | E195: =VLOOKUP(C195,'3.6 Planilla Cotizacion CyF'!$E$16:$G$574,3,FALSE) -> 0 | F195: =E195*D195 -> 0
A196: III-2 - ACOPLES | B196: Acople Automático Scharfenberg | C196: ÉMBOLO DE SOPORTE ELÁSTICO DE ACOPLE SCHARFENBERG | D196: 24 | E196: =VLOOKUP(C196,'3.6 Planilla Cotizacion CyF'!$E$16:$G$574,3,FALSE) -> 0 | F196: =E196*D196 -> 0
A197: IV-NEUMÁTICA | B197: Acople Automático Scharfenberg | C197: HORQUILLA DE SEGURIDAD DE ACOPLAMIENTO NEUMÁTICO DE ACOPLE SCHARFENBERG. | D197: 24 | E197: =VLOOKUP(C197,'3.6 Planilla Cotizacion CyF'!$E$16:$G$574,3,FALSE) -> 0 | F197: =E197*D197 -> 0
A198: IV-NEUMÁTICA | B198: Acople Automático Scharfenberg | C198: CAJA DE VALVULA DE ACOPLAMIENTO NEUMÁTICO DE ACOPLE SCHARFENBERG | D198: 24 | E198: =VLOOKUP(C198,'3.6 Planilla Cotizacion CyF'!$E$16:$G$574,3,FALSE) -> 0 | F198: =E198*D198 -> 0
... A288: III-2 - ACOPLES | B288: Acople Automático Scharfenberg | C288: Tapon protector para ventilacion - acoplador scharfenberg | D288: 24 | E288: =VLOOKUP(C288,'3.6 Planilla Cotizacion CyF'!$E$16:$G$574,3,FALSE) -> 0 | F288: =E288*D288 -> 0
C289: BALASTO ELECTRONICO DE 1X15W SALA DE MAQUINAS FURGON 220V CA. COCHE PUZHEN | D289: 10 | E289: =VLOOKUP(C289,'3.6 Planilla Cotizacion CyF'!$E$16:$G$574,3,FALSE) -> 0 | F289: =E289*D289 -> 0
A290: I-1 INST. INTERIORES | B290: Cerraduras | C290: CERRADURA STANDAR PARA TAPA DE INSPECCION MAQUINA DE PUERTAS,TAPAS INT TABLEROS,F.EMERG | D290: 12 | E290: =VLOOKUP(C290,'3.6 Planilla Cotizacion CyF'!$E$16:$G$574,3,FALSE) -> 0 | F290: =E290*D290 -> 0
A291: I-1 INST. INTERIORES | B291: Materiales Generales | C291: TUERCA HEXAGONAL M10 - 1,5MM. COMERCIAL SEGÚN DIN 985 | D291: 1200 | E291: =VLOOKUP(C291,'3.6 Planilla Cotizacion CyF'!$E$16:$G$574,3,FALSE) -> 0 | F291: =E291*D291 -> 0
A292: I-1 INST. INTERIORES | B292: Porta equipajes | C292: TUBO PARA PORTAEQUIPAJE X 1540MM Ï 17. COCHE CSR PUZHEN. | D292: 20 | E292: =VLOOKUP(C292,'3.6 Planilla Cotizacion CyF'!$E$16:$G$574,3,FALSE) -> 0 | F292: =E292*D292 -> 0
A293: I-1 INST. INTERIORES | B293: Pasarela | C293: BURLETE, FUELLES DE PASO. COCHE PUZHEN | D293: 30 | E293: =VLOOKUP(C293,'3.6 Planilla Cotizacion CyF'!$E$16:$G$574,3,FALSE) -> 0 | F293: =E293*D293 -> 0
A294: I-1 INST. INTERIORES | B294: Puertas | C294: BURLETE, PUERTA DE SALA DE MAQUINA FURGON. | D294: 30 | E294: =VLOOKUP(C294,'3.6 Planilla Cotizacion CyF'!$E$16:$G$574,3,FALSE) -> 0 | F294: =E294*D294 -> 0
A295: III-2 - ACOPLES | B295: Acople Automático Scharfenberg | C295: Racor orientable - acoplador Scharfenberg | D295: 35 | E295: =VLOOKUP(C295,'3.6 Planilla Cotizacion CyF'!$E$16:$G$574,3,FALSE) -> 0 | F295: =E295*D295 -> 0
A296: I-1 INST. INTERIORES | B296: Cerraduras | C296: CERRADURA RETRACTIL TAMBOR CORTO TAPA PRINCIPAL DE TABLEROS ELECTRICOS/ FRENO EMERG SALON | D296: 12 | E296: =VLOOKUP(C296,'3.6 Planilla Cotizacion CyF'!$E$16:$G$574,3,FALSE) -> 0 | F296: =E296*D296 -> 0
A297: III-2 - ACOPLES | B297: Acople Automático Scharfenberg | C297: PASADOR ELÁSTICO DE SOPORTE ELÁSTICO DE ACOPLE SCHARFENBERG | D297: 24 | E297: =VLOOKUP(C297,'3.6 Planilla Cotizacion CyF'!$E$16:$G$574,3,FALSE) -> 0 | F297: =E297*D297 -> 0
A298: III-2 - ACOPLES | B298: Acople Automático Scharfenberg | C298: RESORTE DE VÁLVULA DE ACOPLAMIENTO NEUMÁTICO DE ACOPLE SCHARFENBERG | D298: 24 | E298: =VLOOKUP(C298,'3.6 Planilla Cotizacion CyF'!$E$16:$G$574,3,FALSE) -> 0 | F298: =E298*D298 -> 0
A299: IV-NEUMÁTICA | B299: Acople Automático Scharfenberg | C299: RESORTE DE SEGURIDAD DE ACOPLAMIENTO NEUMÁTICO DE ACOPLE SCHARFENBERG | D299: 24 | E299: =VLOOKUP(C299,'3.6 Planilla Cotizacion CyF'!$E$16:$G$574,3,FALSE) -> 0 | F299: =E299*D299 -> 0
A300: IV-NEUMÁTICA | B300: Acople Automático Scharfenberg | C300: TUBO DE GOMA DE ACOPLAMIENTO NEUMÁTICO DE ACOPLE SCHARFENBERG | D300: 24 | E300: =VLOOKUP(C300,'3.6 Planilla Cotizacion CyF'!$E$16:$G$574,3,FALSE) -> 0 | F300: =E300*D300 -> 0
A301: III-2 - ACOPLES | B301: Acople Automático Scharfenberg | C301: Tornillo de seguridad de dispositivo de centrado de acople automatico Scharfenberg | D301: 96 | E301: =VLOOKUP(C301,'3.6 Planilla Cotizacion CyF'!$E$16:$G$574,3,FALSE) -> 0 | F301: =E301*D301 -> 0
... A322: II-16 - GABINETES ELÉCTRICOS | B322: Electricidad | C322: CONTACTOR DE 110VCC 2 NA + 2 NC ( 3RH2122-2KF40 )- COCHE CSR PUZHEN | D322: 3 | E322: =VLOOKUP(C322,'3.6 Planilla Cotizacion CyF'!$E$16:$G$574,3,FALSE) -> 0 | F322: =E322*D322 -> 0
C323: BALASTO ELECTRONICO DE 110V DC 1X15W COCHE PUZHEN | D323: 10 | E323: =VLOOKUP(C323,'3.6 Planilla Cotizacion CyF'!$E$16:$G$574,3,FALSE) -> 0 | F323: =E323*D323 -> 0
A324: I-1 INST. INTERIORES | B324: Puertas | C324: CONJUNTO TAPA DE SISTEMA DE APERTURA DE PUERTAS DE EMERGENCIAS. CSR PUZHEN | D324: 12 | E324: =VLOOKUP(C324,'3.6 Planilla Cotizacion CyF'!$E$16:$G$574,3,FALSE) -> 0 | F324: =E324*D324 -> 0
A325: III-7 - BOGIES | B325: Bogies | C325: RESORTE DE TRACCION. FRENO DE ESTACIONAMIENTO. COCHE CSR PUZHEN. | D325: 12 | E325: =VLOOKUP(C325,'3.6 Planilla Cotizacion CyF'!$E$16:$G$574,3,FALSE) -> 0 | F325: =E325*D325 -> 0
A326: III-2 - ACOPLES | B326: Acople Automático Scharfenberg | C326: ESPIGA DE CENTRADO DE CAJA ELECTRICA SCHARFENBERG LOC CSR SDD7 | D326: 24 | E326: =VLOOKUP(C326,'3.6 Planilla Cotizacion CyF'!$E$16:$G$574,3,FALSE) -> 0 | F326: =E326*D326 -> 0
A327: III-2 - ACOPLES | B327: Acople Automático Scharfenberg | C327: Embolo. Mecanismo de mando de la botonera. Acople automatico. Loc CSR SDD7. | D327: 5 | E327: =VLOOKUP(C327,'3.6 Planilla Cotizacion CyF'!$E$16:$G$574,3,FALSE) -> 0 | F327: =E327*D327 -> 0
A328: I-1 INST. INTERIORES | B328: Porta bicicletas | C328: Abrazadera inferior gancho porta bicicleta de coches de origen chino | D328: 70 | E328: =VLOOKUP(C328,'3.6 Planilla Cotizacion CyF'!$E$16:$G$574,3,FALSE) -> 0 | F328: =E328*D328 -> 0
A329: IV-NEUMÁTICA | B329: Acople Automático Scharfenberg | C329: Junta de acoplamiento neumático. Acoplador Voith. Loc CSR SDD7. Goma trasera de acople TF, en entrada de aire. | D329: 24 | E329: =VLOOKUP(C329,'3.6 Planilla Cotizacion CyF'!$E$16:$G$574,3,FALSE) -> 0 | F329: =E329*D329 -> 0
A330: IV-NEUMÁTICA | B330: Acople Automático Scharfenberg | C330: RAMAL T DE ACERO FORJADO SERIE 2000 6,4 MM (1/4") ROSCA HEMBRA | D330: 24 | E330: =VLOOKUP(C330,'3.6 Planilla Cotizacion CyF'!$E$16:$G$574,3,FALSE) -> 0 | F330: =E330*D330 -> 0
A331: II-1 - PUERTA CORREDIZA | B331: Electricidad | C331: LUCES TESTIGOS DE PUERTAS ABIERTAS NARANJAS | D331: 5 | E331: =VLOOKUP(C331,'3.6 Planilla Cotizacion CyF'!$E$16:$G$574,3,FALSE) -> 0 | F331: =E331*D331 -> 0
A332: II-1 - PUERTA CORREDIZA | B332: Electricidad | C332: LUCES TESTIGOS DE PUERTAS ABIERTAS ROJAS | D332: 5 | E332: =VLOOKUP(C332,'3.6 Planilla Cotizacion CyF'!$E$16:$G$574,3,FALSE) -> 0 | F332: =E332*D332 -> 0
A333: II-ELECTRICIDAD | B333: Electricidad | C333: TUBO FLUORESCENTE LUZ DIA/FRIA 36 W 220 V | D333: 13 | E333: =VLOOKUP(C333,'3.6 Planilla Cotizacion CyF'!$E$16:$G$574,3,FALSE) -> 0 | F333: =E333*D333 -> 0
A334: III-2 - ACOPLES | B334: Acople Automático Scharfenberg | C334: ÉMBOLO DE CILINDRO DE DESENGANCHE DE AC. SCHARFENBERG | D334: 5 | E334: =VLOOKUP(C334,'3.6 Planilla Cotizacion CyF'!$E$16:$G$574,3,FALSE) -> 0 | F334: =E334*D334 -> 0
A335: III-7 - BOGIES | B335: Bogies | C335: PROTECTOR DE SENSOR DE TEMPERATURA PUNTA DE EJE. COCHE CSR PUZHEN. | D335: 96 | E335: =VLOOKUP(C335,'3.6 Planilla Cotizacion CyF'!$E$16:$G$574,3,FALSE) -> 0 | F335: =E335*D335 -> 0
... A441: I-1 INST. INTERIORES | B441: Ventanas | C441: MARCO SUPERIOR. VENTANA MOVIL 1200MM (MODIFICADA) REVESTIMINETO INT. COCHE CSR PUZHEN. | D441: 50 | E441: =VLOOKUP(C441,'3.6 Planilla Cotizacion CyF'!$E$16:$G$574,3,FALSE) -> 0 | F441: =E441*D441 -> 0
A446: REPUESTOS PARA STOCK COCHES CSR - TABLA 3.3.2
A447: Item | B447: Grupo | C447: Descripcion | D447: Stock de Seguridad | E447: P. Unitario | F447: P. Total
A448: III-2 - ACOPLES | B448: Acople Semipermanente | C448: conjunto de acoplador semipermanente - coche puzhen | D448: 6 | E448: =VLOOKUP(C448,'3.6 Planilla Cotizacion CyF'!$E$16:$G$574,3,FALSE) -> 0 | F448: =E448*D448 -> 0
A449: III-7 - BOGIES | B449: Bogies | C449: Eslinga de seguridad. Boguies Coches CSR Puzhen. | D449: 224 | E449: =VLOOKUP(C449,'3.6 Planilla Cotizacion CyF'!$E$16:$G$574,3,FALSE) -> 0 | F449: =E449*D449 -> 0
A450: III-7 - BOGIES | B450: Bogies | C450: ELEMENTO FRENANTE COMPLETO DE COCHE PUZHEN | D450: 20 | E450: =VLOOKUP(C450,'3.6 Planilla Cotizacion CyF'!$E$16:$G$574,3,FALSE) -> 0 | F450: =E450*D450 -> 0
A451: II-1 - PUERTA CORREDIZA | B451: Electricidad | C451: Conjunto sensor de traba de puerta - coche Puzhen | D451: 168 | E451: =VLOOKUP(C451,'3.6 Planilla Cotizacion CyF'!$E$16:$G$574,3,FALSE) -> 0 | F451: =E451*D451 -> 0
A452: I-1 INST. INTERIORES | B452: Asientos | C452: Respaldo derecho. Asiento doble. Coche Puzhen | D452: 98 | E452: =VLOOKUP(C452,'3.6 Planilla Cotizacion CyF'!$E$16:$G$574,3,FALSE) -> 0 | F452: =E452*D452 -> 0
A453: I-1 INST. INTERIORES | B453: Asientos | C453: Respaldo izquierdo. Asiento doble. Coche Puzhen | D453: 98 | E453: =VLOOKUP(C453,'3.6 Planilla Cotizacion CyF'!$E$16:$G$574,3,FALSE) -> 0 | F453: =E453*D453 -> 0
A454: III-7 - BOGIES | B454: Bogies | C454: CAJA DE PUNTA DE EJE. COCHE CSR PUZHEN | D454: 20 | E454: =VLOOKUP(C454,'3.6 Planilla Cotizacion CyF'!$E$16:$G$574,3,FALSE) -> 0 | F454: =E454*D454 -> 0
A455: I-1 INST. INTERIORES | B455: Asientos | C455: Plastico cobertor apoyabrazo coche CSR Puzhen | D455: 2184 | E455: =VLOOKUP(C455,'3.6 Planilla Cotizacion CyF'!$E$16:$G$574,3,FALSE) -> 0 | F455: =E455*D455 -> 0
A456: I-1 INST. INTERIORES | B456: Asientos | C456: Brazo del Apoyabraso coche CSR Puzhen | D456: 98 | E456: =VLOOKUP(C456,'3.6 Planilla Cotizacion CyF'!$E$16:$G$574,3,FALSE) -> 0 | F456: =E456*D456 -> 0
A457: I-2 FUELLES INTERCONEXIÓN | B457: Pasarela | C457: FUELLE DE INTERCOMUNICACIËN ENTRE COCHES CSR PUZHEN | D457: 7 | E457: =VLOOKUP(C457,'3.6 Planilla Cotizacion CyF'!$E$16:$G$574,3,FALSE) -> 0 | F457: =E457*D457 -> 0
A458: III-7 - BOGIES | B458: Bogies | C458: DISCO DE FRENO DE COCHE REMOLCADO CSR PUZHEN | D458: 20 | E458: =VLOOKUP(C458,'3.6 Planilla Cotizacion CyF'!$E$16:$G$574,3,FALSE) -> 0 | F458: =E458*D458 -> 0
A459: III-7 - BOGIES | B459: Bogies | C459: Amortiguador hidraulico de suspension primaria | D459: 20 | E459: =VLOOKUP(C459,'3.6 Planilla Cotizacion CyF'!$E$16:$G$574,3,FALSE) -> 0 | F459: =E459*D459 -> 0
... A464: III-7 - BOGIES | B464: Bogies | C464: Tapa de Punta de eje (Puesta a tierra). Coche CSR Puzhen. | D464: 20 | E464: =VLOOKUP(C464,'3.6 Planilla Cotizacion CyF'!$E$16:$G$574,3,FALSE) -> 0 | F464: =E464*D464 -> 0
A465: III-LEVANTE | C465: Mecanismo anti acaballamiento de coches CSR PUZHEN | D465: 10 | E465: =VLOOKUP(C465,'3.6 Planilla Cotizacion CyF'!$E$16:$G$574,3,FALSE) -> 0 | F465: =E465*D465 -> 0
A466: III-7 - BOGIES | B466: Bogies | C466: Tapa de goma. Suspension primaria . Bogui. Coches CSR Puzhen. | D466: 224 | E466: =VLOOKUP(C466,'3.6 Planilla Cotizacion CyF'!$E$16:$G$574,3,FALSE) -> 0 | F466: =E466*D466 -> 0
B467: Electrónica | C467: UNIDAD ELECTRONICA WSP (ANTIPATINAMIENTO)-COCHE PUZHEN | D467: 3 | E467: =VLOOKUP(C467,'3.6 Planilla Cotizacion CyF'!$E$16:$G$574,3,FALSE) -> 0 | F467: =E467*D467 -> 0
A468: I-1 INST. INTERIORES | B468: Ventanas | C468: PAÑO MOVIL VENTANA SALON 1200MM (MODIFICADO) REVESTIMIENTO INT. COCHES CSR PUZHEN. | D468: 50 | E468: =VLOOKUP(C468,'3.6 Planilla Cotizacion CyF'!$E$16:$G$574,3,FALSE) -> 0 | F468: =E468*D468 -> 0
A469: I-1 INST. INTERIORES | B469: Asientos | C469: Apoya cabeza asiento doble. Coche Puzhen | D469: 195 | E469: =VLOOKUP(C469,'3.6 Planilla Cotizacion CyF'!$E$16:$G$574,3,FALSE) -> 0 | F469: =E469*D469 -> 0
A470: IV-NEUMÁTICA | B470: Cilindro de Freno | C470: Cilindro de freno.- Coche CSR Puzhen. | D470: 20 | E470: =VLOOKUP(C470,'3.6 Planilla Cotizacion CyF'!$E$16:$G$574,3,FALSE) -> 0 | F470: =E470*D470 -> 0
A471: II-ELECTRICIDAD | B471: Ventiladores | C471: Motor de Ventilador | D471: 15 | E471: =VLOOKUP(C471,'3.6 Planilla Cotizacion CyF'!$E$16:$G$574,3,FALSE) -> 0 | F471: =E471*D471 -> 0
...

Sheet Subrenglon 3.4
B1: PORTADA | C1: PLANILLA DE COTIZACION
B3: SUBRENGLON | C3: DESCRIPCION | D3: P. TOTAL
B4: 3.4 | C4: TOTAL EVENTUALES PARA COCHES FURGON CSR PUZHEN - TABLA 3.4.1 | D4: =SUM(F12:F204) -> 0
C5: TOTAL EVENTUALES PARA COCHES CSR PUZHEN- TABLA 3.4.2 | D5: =SUM(F211:F370) -> 0
B6: TOTAL SUBRENGLON 3.4 | D6: =D4+D5 -> 0
A10: EVENTUALES PARA COCHES FURGON CSR PUZHEN - TABLA 3.4.1
A11: Item | B11: Grupo | C11: Descripcion | D11: Eventuales | E11: P. Unitario | F11: P. Total
A12: III-2 - ACOPLES | B12: Acople Automático Scharfenberg | C12: Acoplador automático Scharfenberg coche CSR PUZHEN | D12: 4 | E12: =VLOOKUP(C12,'3.6 Planilla Cotizacion CyF'!$E$16:$G$574,3,FALSE) -> 0 | F12: =E12*D12 -> 0
A13: III-7 - BOGIES | B13: Bogies | C13: ELEMENTO FRENANTE COMPLETO DE COCHE PUZHEN | D13: 60 | E13: =VLOOKUP(C13,'3.6 Planilla Cotizacion CyF'!$E$16:$G$574,3,FALSE) -> 0 | F13: =E13*D13 -> 0
A14: IV-NEUMÁTICA | B14: Acople Automático Scharfenberg | C14: CAJA ELÉCTRICA DEL ACOPLADOR SCHARFENBERG MARCA SCHABU CÓDIGO 08.009.059-Z1 MODELO ID N° 230.0221601 | D14: 10 | E14: =VLOOKUP(C14,'3.6 Planilla Cotizacion CyF'!$E$16:$G$574,3,FALSE) -> 0 | F14: =E14*D14 -> 0
A15: III-7 - BOGIES | B15: Bogies | C15: CAJA DE PUNTA DE EJE. COCHE CSR PUZHEN | D15: 60 | E15: =VLOOKUP(C15,'3.6 Planilla Cotizacion CyF'!$E$16:$G$574,3,FALSE) -> 0 | F15: =E15*D15 -> 0
A16: III-7 - BOGIES | B16: Bogies | C16: DISCO DE FRENO DE COCHE REMOLCADO CSR PUZHEN | D16: 60 | E16: =VLOOKUP(C16,'3.6 Planilla Cotizacion CyF'!$E$16:$G$574,3,FALSE) -> 0 | F16: =E16*D16 -> 0
A17: III-7 - BOGIES | B17: Bogies | C17: Amortiguador hidraulico de suspension primaria | D17: 60 | E17: =VLOOKUP(C17,'3.6 Planilla Cotizacion CyF'!$E$16:$G$574,3,FALSE) -> 0 | F17: =E17*D17 -> 0
A18: I-2 FUELLES INTERCONEXIÓN | B18: Pasarela | C18: FUELLE DE INTERCOMUNICACIËN ENTRE COCHES CSR PUZHEN | D18: 53 | E18: =VLOOKUP(C18,'3.6 Planilla Cotizacion CyF'!$E$16:$G$574,3,FALSE) -> 0 | F18: =E18*D18 -> 0
A19: III-7 - BOGIES | B19: Bogies | C19: Tapa de Punta de eje (Puesta a tierra). Coche CSR Puzhen. | D19: 60 | E19: =VLOOKUP(C19,'3.6 Planilla Cotizacion CyF'!$E$16:$G$574,3,FALSE) -> 0 | F19: =E19*D19 -> 0
A20: III-LEVANTE | C20: Mecanismo anti acaballamiento de coches CSR PUZHEN | D20: 30 | E20: =VLOOKUP(C20,'3.6 Planilla Cotizacion CyF'!$E$16:$G$574,3,FALSE) -> 0 | F20: =E20*D20 -> 0
A21: I-1 INST. INTERIORES | B21: Ventanas | C21: PAÑO MOVIL VENTANA SALON 1200MM (MODIFICADO) REVESTIMIENTO INT. COCHES CSR PUZHEN. | D21: 150 | E21: =VLOOKUP(C21,'3.6 Planilla Cotizacion CyF'!$E$16:$G$574,3,FALSE) -> 0 | F21: =E21*D21 -> 0
A22: I-1 INST. INTERIORES | B22: Asientos | C22: Respaldo derecho. Asiento doble. Coche Puzhen | D22: 157 | E22: =VLOOKUP(C22,'3.6 Planilla Cotizacion CyF'!$E$16:$G$574,3,FALSE) -> 0 | F22: =E22*D22 -> 0
A23: I-1 INST. INTERIORES | B23: Asientos | C23: Respaldo izquierdo. Asiento doble. Coche Puzhen | D23: 158 | E23: =VLOOKUP(C23,'3.6 Planilla Cotizacion CyF'!$E$16:$G$574,3,FALSE) -> 0 | F23: =E23*D23 -> 0
A24: IV-NEUMÁTICA | B24: Cilindro de Freno | C24: Cilindro de freno.- Coche CSR Puzhen. | D24: 60 | E24: =VLOOKUP(C24,'3.6 Planilla Cotizacion CyF'!$E$16:$G$574,3,FALSE) -> 0 | F24: =E24*D24 -> 0
A25: III-7 - BOGIES | B25: Suspensión | C25: Conjunto Suspensión Neumática Balona de Aire FI520D p/ COCHE PUZHEN | D25: 30 | E25: =VLOOKUP(C25,'3.6 Planilla Cotizacion CyF'!$E$16:$G$574,3,FALSE) -> 0 | F25: =E25*D25 -> 0
A26: I-1 INST. INTERIORES | B26: Asientos | C26: Brazo del Apoyabraso coche CSR Puzhen | D26: 157 | E26: =VLOOKUP(C26,'3.6 Planilla Cotizacion CyF'!$E$16:$G$574,3,FALSE) -> 0 | F26: =E26*D26 -> 0
B27: Electrónica | C27: UNIDAD ELECTRONICA WSP (ANTIPATINAMIENTO)-COCHE PUZHEN | D27: 8 | E27: =VLOOKUP(C27,'3.6 Planilla Cotizacion CyF'!$E$16:$G$574,3,FALSE) -> 0 | F27: =E27*D27 -> 0
A28: III-7 - BOGIES | B28: Bogies | C28: RODAMIENTO DE PUNTA DE EJE | D28: 60 | E28: =VLOOKUP(C28,'3.6 Planilla Cotizacion CyF'!$E$16:$G$574,3,FALSE) -> 0 | F28: =E28*D28 -> 0
A29: III-7 - BOGIES | B29: Bogies | C29: RODAMIENTO PUNTA DE EJE | D29: 60 | E29: =VLOOKUP(C29,'3.6 Planilla Cotizacion CyF'!$E$16:$G$574,3,FALSE) -> 0 | F29: =E29*D29 -> 0
A30: I-1 INST. INTERIORES | B30: Asientos | C30: CojÝn derecho. Asiento doble. Coche Puzhen | D30: 157 | E30: =VLOOKUP(C30,'3.6 Planilla Cotizacion CyF'!$E$16:$G$574,3,FALSE) -> 0 | F30: =E30*D30 -> 0
A31: I-1 INST. INTERIORES | B31: Asientos | C31: Cojin izquierdo. Asiento doble. Coche Puzhen | D31: 157 | E31: =VLOOKUP(C31,'3.6 Planilla Cotizacion CyF'!$E$16:$G$574,3,FALSE) -> 0 | F31: =E31*D31 -> 0
A32: I-1 INST. INTERIORES | B32: Puertas | C32: Mecanismo completo de accionamiento de puertas laterales coche CSR puzhen | D32: 90 | E32: =VLOOKUP(C32,'3.6 Planilla Cotizacion CyF'!$E$16:$G$574,3,FALSE) -> 0 | F32: =E32*D32 -> 0
A33: II-ELECTRICIDAD | B33: Ventiladores | C33: Motor de Ventilador | D33: 37 | E33: =VLOOKUP(C33,'3.6 Planilla Cotizacion CyF'!$E$16:$G$574,3,FALSE) -> 0 | F33: =E33*D33 -> 0
A34: III-2 - ACOPLES | B34: Acople Automático Scharfenberg | C34: DISPOSITIVO DE CENTRADO. ACOPLADOR AUTOMATICO SCHARFENBERG VOITH | D34: 2 | E34: =VLOOKUP(C34,'3.6 Planilla Cotizacion CyF'!$E$16:$G$574,3,FALSE) -> 0 | F34: =E34*D34 -> 0
A35: I-1 INST. INTERIORES | B35: Asientos | C35: Apoya cabeza asiento doble. Coche Puzhen | D35: 315 | E35: =VLOOKUP(C35,'3.6 Planilla Cotizacion CyF'!$E$16:$G$574,3,FALSE) -> 0 | F35: =E35*D35 -> 0
A36: I-1 INST. INTERIORES | B36: Porta equipajes | C36: TUBO PARA PORTAEQUIPAJE X 4080MM Ï 17MM. COCHE CSR PUZHEN. | D36: 360 | E36: =VLOOKUP(C36,'3.6 Planilla Cotizacion CyF'!$E$16:$G$574,3,FALSE) -> 0 | F36: =E36*D36 -> 0
A37: II-ELECTRICIDAD | B37: Conectores externos | C37: CONECTOR DE COMUNICACION DE 50 PINES ENTRE COCHES PUZHEN - 110VCC | D37: 15 | E37: =VLOOKUP(C37,'3.6 Planilla Cotizacion CyF'!$E$16:$G$574,3,FALSE) -> 0 | F37: =E37*D37 -> 0
A38: I-1 INST. INTERIORES | B38: Asientos | C38: Soporte del Apoyabraso coche CSR Puzhen | D38: 158 | E38: =VLOOKUP(C38,'3.6 Planilla Cotizacion CyF'!$E$16:$G$574,3,FALSE) -> 0 | F38: =E38*D38 -> 0
A39: III-7 - BOGIES | B39: Bogies | C39: SOPORTE DE RESORTES. SUSPENSION PRIMARIA. COCHE CSR PUZHEN | D39: 60 | E39: =VLOOKUP(C39,'3.6 Planilla Cotizacion CyF'!$E$16:$G$574,3,FALSE) -> 0 | F39: =E39*D39 -> 0
... A87: IV-NEUMÁTICA | B87: Suspensión secundaria | C87: PLACA DE PRESIÓN SUSP. NEUM. BALONA FI520D P/ COCHE PUZHEN | D87: 30 | E87: =VLOOKUP(C87,'3.6 Planilla Cotizacion CyF'!$E$16:$G$574,3,FALSE) -> 0 | F87: =E87*D87 -> 0
C88: BALASTO ELECTRONICO DE 1X28W 220V CA. COCHE PUZHEN | D88: 30 | E88: =VLOOKUP(C88,'3.6 Planilla Cotizacion CyF'!$E$16:$G$574,3,FALSE) -> 0 | F88: =E88*D88 -> 0
A89: I-1 INST. INTERIORES | B89: Porta equipajes | C89: TUBO PARA PORTAEQUIPAJE X 3430MM Ï 17. COCHE CSR PUZHEN. | D89: 60 | E89: =VLOOKUP(C89,'3.6 Planilla Cotizacion CyF'!$E$16:$G$574,3,FALSE) -> 0 | F89: =E89*D89 -> 0
A90: IV-NEUMÁTICA | B90: Tuberías | C90: TUBO DE ACERO INOXIDABLE SIN COSTURA 8 X 1 MM AISI 304 | D90: 188 | E90: =VLOOKUP(C90,'3.6 Planilla Cotizacion CyF'!$E$16:$G$574,3,FALSE) -> 0 | F90: =E90*D90 -> 0
A91: IV-NEUMÁTICA | B91: Tuberías | C91: TUBO DE ACERO INOXIDABLE SIN COSTURA 10 X 1 MM AISI 304 | D91: 188 | E91: =VLOOKUP(C91,'3.6 Planilla Cotizacion CyF'!$E$16:$G$574,3,FALSE) -> 0 | F91: =E91*D91 -> 0
A92: IV-NEUMÁTICA | B92: Tuberías | C92: TUBO DE ACERO INOXIDABLE SIN COSTURA 15 X 1,5 MM AISI 304 | D92: 188 | E92: =VLOOKUP(C92,'3.6 Planilla Cotizacion CyF'!$E$16:$G$574,3,FALSE) -> 0 | F92: =E92*D92 -> 0
A93: IV-NEUMÁTICA | B93: Tuberías | C93: TUBO DE ACERO INOXIDABLE SIN COSTURA 18 X 1,5 MM AISI 304 | D93: 188 | E93: =VLOOKUP(C93,'3.6 Planilla Cotizacion CyF'!$E$16:$G$574,3,FALSE) -> 0 | F93: =E93*D93 -> 0
A94: III-2 - ACOPLES | B94: Acople Automático Scharfenberg | C94: TUERCA M36 PARA BULON DE SUJECION DE ACOPLADOR SCHARFENBERG. COCHE CSR PUZHEN. | D94: 60 | E94: =VLOOKUP(C94,'3.6 Planilla Cotizacion CyF'!$E$16:$G$574,3,FALSE) -> 0 | F94: =E94*D94 -> 0
A95: IV-NEUMÁTICA | B95: Suspensión secundaria | C95: Valvula niveladora de suspension neumatica - Mano derecha - Coche CSR Puzhen | D95: 8 | E95: =VLOOKUP(C95,'3.6 Planilla Cotizacion CyF'!$E$16:$G$574,3,FALSE) -> 0 | F95: =E95*D95 -> 0
A96: IV-NEUMÁTICA | B96: Suspensión secundaria | C96: Valvula niveladora de suspension neumatica - Mano izquierda - Coche CSR Puzhen | D96: 8 | E96: =VLOOKUP(C96,'3.6 Planilla Cotizacion CyF'!$E$16:$G$574,3,FALSE) -> 0 | F96: =E96*D96 -> 0
A97: II-ELECTRICIDAD | B97: Electricidad | C97: TUBO FLUORESCENTE LUZ BLANCA/CALIDA 15 W 110 VCA | D97: 203 | E97: =VLOOKUP(C97,'3.6 Planilla Cotizacion CyF'!$E$16:$G$574,3,FALSE) -> 0 | F97: =E97*D97 -> 0
A98: I-1 INST. INTERIORES | B98: Porta equipajes | C98: TUBO PARA PORTAEQUIPAJE X 3240MM Ï 25. COCHE CSR PUZHEN. | D98: 60 | E98: =VLOOKUP(C98,'3.6 Planilla Cotizacion CyF'!$E$16:$G$574,3,FALSE) -> 0 | F98: =E98*D98 -> 0
A99: I-1 INST. INTERIORES | B99: Bicicleteros | C99: Bicicletero inferior coche furgon | D99: 45 | E99: =VLOOKUP(C99,'3.6 Planilla Cotizacion CyF'!$E$16:$G$574,3,FALSE) -> 0 | F99: =E99*D99 -> 0
A100: I-1 INST. INTERIORES | B100: Porta equipajes | C100: TUBO PARA PORTAEQUIPAJE X 2760MM Ï 17. COCHE CSR PUZHEN. | D100: 60 | E100: =VLOOKUP(C100,'3.6 Planilla Cotizacion CyF'!$E$16:$G$574,3,FALSE) -> 0 | F100: =E100*D100 -> 0
... A132: I-1 INST. INTERIORES | B132: Traba silla de ruedas | C132: Dispositivo de Traba de Silla de Rueda de coche CSR PUZHEN | D132: 8 | E132: =VLOOKUP(C132,'3.6 Planilla Cotizacion CyF'!$E$16:$G$574,3,FALSE) -> 0 | F132: =E132*D132 -> 0
C133: BALASTO ELECTRONICO DE 1X15W SALA DE MAQUINAS FURGON 220V CA. COCHE PUZHEN | D133: 30 | E133: =VLOOKUP(C133,'3.6 Planilla Cotizacion CyF'!$E$16:$G$574,3,FALSE) -> 0 | F133: =E133*D133 -> 0
A134: I-1 INST. INTERIORES | B134: Porta equipajes | C134: TUBO PARA PORTAEQUIPAJE X 1540MM Ï 17. COCHE CSR PUZHEN. | D134: 60 | E134: =VLOOKUP(C134,'3.6 Planilla Cotizacion CyF'!$E$16:$G$574,3,FALSE) -> 0 | F134: =E134*D134 -> 0
A135: I-1 INST. INTERIORES | B135: Pasarela | C135: BURLETE, FUELLES DE PASO. COCHE PUZHEN | D135: 90 | E135: =VLOOKUP(C135,'3.6 Planilla Cotizacion CyF'!$E$16:$G$574,3,FALSE) -> 0 | F135: =E135*D135 -> 0
A136: I-1 INST. INTERIORES | B136: Puertas | C136: BURLETE, PUERTA DE SALA DE MAQUINA FURGON. | D136: 90 | E136: =VLOOKUP(C136,'3.6 Planilla Cotizacion CyF'!$E$16:$G$574,3,FALSE) -> 0 | F136: =E136*D136 -> 0
A137: III-2 - ACOPLES | B137: Acople Automático Scharfenberg | C137: Racor orientable - acoplador Scharfenberg | D137: 105 | E137: =VLOOKUP(C137,'3.6 Planilla Cotizacion CyF'!$E$16:$G$574,3,FALSE) -> 0 | F137: =E137*D137 -> 0
A138: III-2 - ACOPLES | B138: Acople Automático Scharfenberg | C138: Cuerpo del cilindro. Cilindro de desenganche. Acople automatico. Loc CSR SDD7. | D138: 15 | E138: =VLOOKUP(C138,'3.6 Planilla Cotizacion CyF'!$E$16:$G$574,3,FALSE) -> 0 | F138: =E138*D138 -> 0
A139: II-ELECTRICIDAD | B139: Electricidad | C139: LUZ DE COLA (LUZ DE POSICION) | D139: 15 | E139: =VLOOKUP(C139,'3.6 Planilla Cotizacion CyF'!$E$16:$G$574,3,FALSE) -> 0 | F139: =E139*D139 -> 0
A140: II-ELECTRICIDAD | B140: Luces externas | C140: LUZ DE POSICION LATERAL ROJA/BLANCA FURGON | D140: 15 | E140: =VLOOKUP(C140,'3.6 Planilla Cotizacion CyF'!$E$16:$G$574,3,FALSE) -> 0 | F140: =E140*D140 -> 0
A141: I-1 INST. INTERIORES | B141: Porta equipajes | C141: TAPON TERMINAL PARA TUBO PORTAEQUIPAJE Ï 17MM | D141: 720 | E141: =VLOOKUP(C141,'3.6 Planilla Cotizacion CyF'!$E$16:$G$574,3,FALSE) -> 0 | F141: =E141*D141 -> 0
A142: II-ELECTRICIDAD | B142: Electricidad | C142: BALASTO ELECTRONICO DE 110V DC 1X35W DE SALON DE PASAJEROS COCHE PUZHEN | D142: 38 | E142: =VLOOKUP(C142,'3.6 Planilla Cotizacion CyF'!$E$16:$G$574,3,FALSE) -> 0 | F142: =E142*D142 -> 0
A143: IV-NEUMÁTICA | B143: Cilindro de Freno | C143: RESORTE DE AUTORREGULACIÓN - CILINDRO DE FRENO - COCHE PUZHEN | D143: 60 | E143: =VLOOKUP(C143,'3.6 Planilla Cotizacion CyF'!$E$16:$G$574,3,FALSE) -> 0 | F143: =E143*D143 -> 0
A144: II-16 - GABINETES ELÉCTRICOS | B144: Electricidad | C144: Interruptor termomagnetico de 100A para Corriente alterna /4 polos- coche Puzhen | D144: 15 | E144: =VLOOKUP(C144,'3.6 Planilla Cotizacion CyF'!$E$16:$G$574,3,FALSE) -> 0 | F144: =E144*D144 -> 0
A145: I-1 INST. INTERIORES | B145: Puertas | C145: BALANCIN DE CERRADURA DE PUERTA. PUERTA SALON A FURGON. COCHE PUZHEN. | D145: 90 | E145: =VLOOKUP(C145,'3.6 Planilla Cotizacion CyF'!$E$16:$G$574,3,FALSE) -> 0 | F145: =E145*D145 -> 0
... A148: II-1 - PUERTA CORREDIZA | B148: Electricidad | C148: PULSADOR COMPLETO NEGRO 30MM | D148: 45 | E148: =VLOOKUP(C148,'3.6 Planilla Cotizacion CyF'!$E$16:$G$574,3,FALSE) -> 0 | F148: =E148*D148 -> 0
C149: BALASTO ELECTRONICO DE 110V DC 1X15W COCHE PUZHEN | D149: 30 | E149: =VLOOKUP(C149,'3.6 Planilla Cotizacion CyF'!$E$16:$G$574,3,FALSE) -> 0 | F149: =E149*D149 -> 0
A150: III-2 - ACOPLES | B150: Acople Automático Scharfenberg | C150: Embolo. Mecanismo de mando de la botonera. Acople automatico. Loc CSR SDD7. | D150: 15 | E150: =VLOOKUP(C150,'3.6 Planilla Cotizacion CyF'!$E$16:$G$574,3,FALSE) -> 0 | F150: =E150*D150 -> 0
A151: I-1 INST. INTERIORES | B151: Porta bicicletas | C151: Abrazadera inferior gancho porta bicicleta de coches de origen chino | D151: 210 | E151: =VLOOKUP(C151,'3.6 Planilla Cotizacion CyF'!$E$16:$G$574,3,FALSE) -> 0 | F151: =E151*D151 -> 0
A152: II-1 - PUERTA CORREDIZA | B152: Electricidad | C152: LUCES TESTIGOS DE PUERTAS ABIERTAS NARANJAS | D152: 15 | E152: =VLOOKUP(C152,'3.6 Planilla Cotizacion CyF'!$E$16:$G$574,3,FALSE) -> 0 | F152: =E152*D152 -> 0
A153: II-1 - PUERTA CORREDIZA | B153: Electricidad | C153: LUCES TESTIGOS DE PUERTAS ABIERTAS ROJAS | D153: 15 | E153: =VLOOKUP(C153,'3.6 Planilla Cotizacion CyF'!$E$16:$G$574,3,FALSE) -> 0 | F153: =E153*D153 -> 0
A154: II-16 - GABINETES ELÉCTRICOS | B154: Electricidad | C154: CONTACTOR DE 110VCC 2 NA + 2 NC ( 3RH2122-2KF40 )- COCHE CSR PUZHEN | D154: 8 | E154: =VLOOKUP(C154,'3.6 Planilla Cotizacion CyF'!$E$16:$G$574,3,FALSE) -> 0 | F154: =E154*D154 -> 0
A155: III-2 - ACOPLES | B155: Acople Automático Scharfenberg | C155: ÉMBOLO DE CILINDRO DE DESENGANCHE DE AC. SCHARFENBERG | D155: 15 | E155: =VLOOKUP(C155,'3.6 Planilla Cotizacion CyF'!$E$16:$G$574,3,FALSE) -> 0 | F155: =E155*D155 -> 0
A156: II-ELECTRICIDAD | B156: Electricidad | C156: TUBO FLUORESCENTE LUZ DIA/FRIA 36 W 220 V | D156: 38 | E156: =VLOOKUP(C156,'3.6 Planilla Cotizacion CyF'!$E$16:$G$574,3,FALSE) -> 0 | F156: =E156*D156 -> 0
A157: IV-NEUMÁTICA | B157: Acople Automático Scharfenberg | C157: Racor en TE Tubería Desenganche de Acople Scharfenberg | D157: 15 | E157: =VLOOKUP(C157,'3.6 Planilla Cotizacion CyF'!$E$16:$G$574,3,FALSE) -> 0 | F157: =E157*D157 -> 0
A158: II-16 - GABINETES ELÉCTRICOS | B158: Electricidad | C158: Interruptor diferencial de 25A/4 polos - coches Puzhen | D158: 15 | E158: =VLOOKUP(C158,'3.6 Planilla Cotizacion CyF'!$E$16:$G$574,3,FALSE) -> 0 | F158: =E158*D158 -> 0
A159: III-2 - ACOPLES | B159: Acople Automático Scharfenberg | C159: TAPA DE PROTECCION COMPLETA | D159: 15 | E159: =VLOOKUP(C159,'3.6 Planilla Cotizacion CyF'!$E$16:$G$574,3,FALSE) -> 0 | F159: =E159*D159 -> 0
A160: II-ELECTRICIDAD | B160: Electricidad | C160: TUBO FLUORESCENTE LUZ DIA/FRIA 28 W MEDIDA 1150 MM | D160: 30 | E160: =VLOOKUP(C160,'3.6 Planilla Cotizacion CyF'!$E$16:$G$574,3,FALSE) -> 0 | F160: =E160*D160 -> 0
A161: I-1 INST. INTERIORES | B161: Ventanas | C161: BURLETE INTERIOR DE VENTANA FIJA Y MOVIL. COCHE PUZHEN. | D161: 180 | E161: =VLOOKUP(C161,'3.6 Planilla Cotizacion CyF'!$E$16:$G$574,3,FALSE) -> 0 | F161: =E161*D161 -> 0
... A204: I-1 INST. INTERIORES | B204: Ventanas | C204: MARCO SUPERIOR. VENTANA MOVIL 1200MM (MODIFICADA) REVESTIMINETO INT. COCHE CSR PUZHEN. | D204: 150 | E204: =VLOOKUP(C204,'3.6 Planilla Cotizacion CyF'!$E$16:$G$574,3,FALSE) -> 0 | F204: =E204*D204 -> 0
A209: EVENTUALES PARA COCHES CSR PUZHEN- TABLA 3.4.2
A210: Item | B210: Grupo | C210: Descripcion | D210: Eventuales | E210: P. Unitario | F210: P. Total
A211: I-1 INST. INTERIORES | B211: Ventanas | C211: Ventana lateral movil completa de 1200mm coche CSR Puzhen | D211: 150 | E211: =VLOOKUP(C211,'3.6 Planilla Cotizacion CyF'!$E$16:$G$574,3,FALSE) -> 0 | F211: =E211*D211 -> 0
A212: I-1 INST. INTERIORES | B212: Ventanas | C212: MARCO SUPERIOR. VENTANA MOVIL 1200MM (MODIFICADA) REVESTIMINETO INT. COCHE CSR PUZHEN. | D212: 150 | E212: =VLOOKUP(C212,'3.6 Planilla Cotizacion CyF'!$E$16:$G$574,3,FALSE) -> 0 | F212: =E212*D212 -> 0
A213: III-2 - ACOPLES | B213: Acople Semipermanente | C213: conjunto de acoplador semipermanente - coche puzhen | D213: 6 | E213: =VLOOKUP(C213,'3.6 Planilla Cotizacion CyF'!$E$16:$G$574,3,FALSE) -> 0 | F213: =E213*D213 -> 0
A214: III-7 - BOGIES | B214: Bogies | C214: ELEMENTO FRENANTE COMPLETO DE COCHE PUZHEN | D214: 60 | E214: =VLOOKUP(C214,'3.6 Planilla Cotizacion CyF'!$E$16:$G$574,3,FALSE) -> 0 | F214: =E214*D214 -> 0
A215: I-1 INST. INTERIORES | B215: Asientos | C215: Respaldo derecho. Asiento doble. Coche Puzhen | D215: 293 | E215: =VLOOKUP(C215,'3.6 Planilla Cotizacion CyF'!$E$16:$G$574,3,FALSE) -> 0 | F215: =E215*D215 -> 0
A216: I-1 INST. INTERIORES | B216: Asientos | C216: Respaldo izquierdo. Asiento doble. Coche Puzhen | D216: 293 | E216: =VLOOKUP(C216,'3.6 Planilla Cotizacion CyF'!$E$16:$G$574,3,FALSE) -> 0 | F216: =E216*D216 -> 0
A217: III-7 - BOGIES | B217: Bogies | C217: CAJA DE PUNTA DE EJE. COCHE CSR PUZHEN | D217: 60 | E217: =VLOOKUP(C217,'3.6 Planilla Cotizacion CyF'!$E$16:$G$574,3,FALSE) -> 0 | F217: =E217*D217 -> 0
A218: I-1 INST. INTERIORES | B218: Asientos | C218: Brazo del Apoyabraso coche CSR Puzhen | D218: 293 | E218: =VLOOKUP(C218,'3.6 Planilla Cotizacion CyF'!$E$16:$G$574,3,FALSE) -> 0 | F218: =E218*D218 -> 0
A219: III-7 - BOGIES | B219: Bogies | C219: DISCO DE FRENO DE COCHE REMOLCADO CSR PUZHEN | D219: 60 | E219: =VLOOKUP(C219,'3.6 Planilla Cotizacion CyF'!$E$16:$G$574,3,FALSE) -> 0 | F219: =E219*D219 -> 0
A220: III-7 - BOGIES | B220: Bogies | C220: Amortiguador hidraulico de suspension primaria | D220: 60 | E220: =VLOOKUP(C220,'3.6 Planilla Cotizacion CyF'!$E$16:$G$574,3,FALSE) -> 0 | F220: =E220*D220 -> 0
A221: I-2 FUELLES INTERCONEXIÓN | B221: Pasarela | C221: FUELLE DE INTERCOMUNICACIËN ENTRE COCHES CSR PUZHEN | D221: 53 | E221: =VLOOKUP(C221,'3.6 Planilla Cotizacion CyF'!$E$16:$G$574,3,FALSE) -> 0 | F221: =E221*D221 -> 0
A222: I-1 INST. INTERIORES | B222: Asientos | C222: CojÝn derecho. Asiento doble. Coche Puzhen | D222: 293 | E222: =VLOOKUP(C222,'3.6 Planilla Cotizacion CyF'!$E$16:$G$574,3,FALSE) -> 0 | F222: =E222*D222 -> 0
... A224: III-7 - BOGIES | B224: Bogies | C224: Tapa de Punta de eje (Puesta a tierra). Coche CSR Puzhen. | D224: 60 | E224: =VLOOKUP(C224,'3.6 Planilla Cotizacion CyF'!$E$16:$G$574,3,FALSE) -> 0 | F224: =E224*D224 -> 0
A225: III-LEVANTE | C225: Mecanismo anti acaballamiento de coches CSR PUZHEN | D225: 30 | E225: =VLOOKUP(C225,'3.6 Planilla Cotizacion CyF'!$E$16:$G$574,3,FALSE) -> 0 | F225: =E225*D225 -> 0
A226: I-1 INST. INTERIORES | B226: Ventanas | C226: PAÑO MOVIL VENTANA SALON 1200MM (MODIFICADO) REVESTIMIENTO INT. COCHES CSR PUZHEN. | D226: 150 | E226: =VLOOKUP(C226,'3.6 Planilla Cotizacion CyF'!$E$16:$G$574,3,FALSE) -> 0 | F226: =E226*D226 -> 0
A227: I-1 INST. INTERIORES | B227: Asientos | C227: Apoya cabeza asiento doble. Coche Puzhen | D227: 585 | E227: =VLOOKUP(C227,'3.6 Planilla Cotizacion CyF'!$E$16:$G$574,3,FALSE) -> 0 | F227: =E227*D227 -> 0
A228: IV-NEUMÁTICA | B228: Cilindro de Freno | C228: Cilindro de freno.- Coche CSR Puzhen. | D228: 60 | E228: =VLOOKUP(C228,'3.6 Planilla Cotizacion CyF'!$E$16:$G$574,3,FALSE) -> 0 | F228: =E228*D228 -> 0
A229: II-ELECTRICIDAD | B229: Ventiladores | C229: Motor de Ventilador | D229: 45 | E229: =VLOOKUP(C229,'3.6 Planilla Cotizacion CyF'!$E$16:$G$574,3,FALSE) -> 0 | F229: =E229*D229 -> 0
A230: III-7 - BOGIES | B230: Suspensión | C230: Conjunto Suspensión Neumática Balona de Aire FI520D p/ COCHE PUZHEN | D230: 30 | E230: =VLOOKUP(C230,'3.6 Planilla Cotizacion CyF'!$E$16:$G$574,3,FALSE) -> 0 | F230: =E230*D230 -> 0
B231: Electrónica | C231: UNIDAD ELECTRONICA WSP (ANTIPATINAMIENTO)-COCHE PUZHEN | D231: 8 | E231: =VLOOKUP(C231,'3.6 Planilla Cotizacion CyF'!$E$16:$G$574,3,FALSE) -> 0 | F231: =E231*D231 -> 0
...

Sheet 3.6 Planilla Cotizacion CyF
A3: 2017- Año de las Energías Renovables
A5: PLANILLA DE COTIZACION - RESUMEN MANTENIMIENTO PREVENTIVO MEDIANO DE COCHES Y FURGONESDE LA LINEA SAN MARTIN
A7: ITEM | B7: SUBR. | C7: CODIGO | E7: DESCRIPCION | F7: CANTIDAD | G7: P. UNITARIO | H7: P. TOTAL
A8: 1 | B8: 3.1 | C8: SER10002040N | D8: MANTENIMIENTO Y CAPACITACION DE 80 COCHES CSR PUZHEN | E8: MANO DE OBRA PARA MANTENIMIENTO PREVENTIVO MEDIANO DE FURGON CSR PUZHEN Y CAPACITACION TECNICA A 20 OPERARIOS PARA LA REPARACION DE FURGONES CSR PUZHEN | F8: 24 | H8: =(G8+G9)*F8 -> 0
E9: TOTAL REPUESTOS MANDATARIOS TABLA 3.1.1 | F9: 24 | G9: ='Subrenglon 3.1 y 3.2'!E5 -> 0
A10: 2 | B10: 3.1 | C10: SER10002040N | E10: MANO DE OBRA PARA MANTENIMIENTO PREVENTIVO MEDIANO DE COCHES CSR PUZHEN Y CAPACITACION TECNICA A 20 OPERARIOS PARA LA REPARACION DE COCHES CSR PUZHEN | F10: 56 | H10: =(G10+G11)*F10 -> 0
E11: TOTAL REPUESTOS MANDATARIOS TABLA 3.1.2 | F11: 56 | G11: ='Subrenglon 3.1 y 3.2'!E7 -> 0
A12: 3 | B12: 3.2 | C12: SER10002040N | D12: ASISTENCIA Y SUPERVISION TECNICA DE 80 COHES CSR PUZHEN | E12: ASISTENCIA Y SUPERVISION TECNICA A 20 OPERARIOS PARA EL MANTENIMIENTO PREVENTIVO MEDIANO DE FURGON CSR PUZHEN | F12: 24 | H12: =(G12+G13)*F12 -> 0
E13: TOTAL REPUESTOS MANDATARIOS TABLA 3.1.1 | F13: 24 | G13: =G9 -> 0
A14: 4 | B14: 3.2 | C14: SER10002040N | E14: ASISTENCIA Y SUPERVISION TECNICA A 20 OPERARIOS PARA EL MANTENIMIENTO PREVENTIVO MEDIANO DE COCHES CSR PUZHEN | F14: 56 | H14: =(G14+G15)*F14 -> 0
E15: TOTAL REPUESTOS MANDATARIOS TABLA 3.1.2 | F15: 56 | G15: =G11 -> 0
A16: 5 | B16: 3.3 / 3.4 | C16: NUM03299001490N | D16: STOCK / EVENTUALES | E16: TUERCA HEXAGONAL M10 - 1,5MM. COMERCIAL SEGÚN DIN 985 | F16: 4000 | H16: =G16*F16 -> 0
A17: 6 | B17: 3.3 / 3.4 | C17: NUM03299001500N | D17: STOCK / EVENTUALES | E17: TUBO FLUORESCENTE LUZ DIA/FRIA 36 W 220 V | F17: 102 | H17: =G17*F17 -> 0
A18: 7 | B18: 3.3 / 3.4 | C18: NUM29030300000N | D18: STOCK / EVENTUALES | E18: Ventana lateral movil completa de 1200mm coche CSR Puzhen | F18: 400 | H18: =G18*F18 -> 0
A19: 8 | B19: 3.3 / 3.4 | C19: NUM29030301220N | D19: STOCK / EVENTUALES | E19: MARCO SUPERIOR. VENTANA MOVIL 1200MM (MODIFICADA) REVESTIMINETO INT. COCHE CSR PUZHEN. | F19: 400 | H19: =G19*F19 -> 0
A20: 9 | B20: 3.3 / 3.4 | C20: NUM99050010100N | D20: STOCK / EVENTUALES | E20: GUARNICION DE CAUCHO PARA PASAJE DE AIRE PARA ACOPLAMIENTO AUTOMATICO SCHARFENBERG PARA COCHES CSR | F20: 12 | H20: =G20*F20 -> 0
A21: 10 | B21: 3.3 / 3.4 | C21: NUM96500000110N | D21: STOCK / EVENTUALES | E21: CAJA ELÉCTRICA DEL ACOPLADOR SCHARFENBERG MARCA SCHABU CÓDIGO 08.009.059-Z1 MODELO ID N° 230.0221601 | F21: 15 | H21: =G21*F21 -> 0
A22: 11 | B22: 3.3 / 3.4 | C22: NUM95032000020N | D22: STOCK / EVENTUALES | E22: ARANDELA DE BLOQUEO DE SEGURIDAD DIN 9250, TAMAÑO 20 MM | F22: 52 | H22: =G22*F22 -> 0
A23: 12 | B23: 3.3 / 3.4 | C23: NUM95032000010N | D23: STOCK / EVENTUALES | E23: BULÓN ROSCA M20 X 160 MM - PASO 2.5 MM.- | F23: 52 | H23: =G23*F23 -> 0
A24: 13 | B24: 3.3 / 3.4 | C24: NUM91650390000N | D24: STOCK / EVENTUALES | E24: ARANDELA GROWER D6 CINC DORA IRAM 5106 | F24: 4200 | H24: =G24*F24 -> 0
A25: 14 | B25: 3.3 / 3.4 | C25: NUM90003630000N | D25: STOCK / EVENTUALES | E25: PASTILLA DE FRENO PARA COCHES REMOLCADOS | F25: 192 | H25: =G25*F25 -> 0
A26: 15 | B26: 3.3 / 3.4 | C26: NUM89253211230N | D26: STOCK / EVENTUALES | E26: TORNILLO PRISIONERO - ALLEN - M8 X 1.25 X 16 MM - ACERO.- | F26: 4200 | H26: =G26*F26 -> 0
A27: 16 | B27: 3.3 / 3.4 | C27: NUM89253112090N | D27: STOCK / EVENTUALES | E27: TORNILLO CABEZA TANQUE - ALLEN - M8 X 1.5 X 30 MM - ACERO.- | F27: 4200 | H27: =G27*F27 -> 0
... A574: 563 | B574: 3.3 / 3.4 | C574: NUM80970510800N | D574: STOCK / EVENTUALES | E574: TUBO DE ACERO INOXIDABLE SIN COSTURA 8 X 1 MM AISI 304 | F574: 502 | H574: =G574*F574 -> 0
