Workbook
Name ba: #REF!
Name MONEDA: Hoja3!$A$1:$A$6
Name MONEDAS: Hoja3!$A$1:$A$6
Name PESOS: 'PORTADA '!$B$10:$G$10

Sheet PORTADA 
D3: 2017- Año de las Energías Renovables
A5: PLANILLA DE COTIZACION - RESUMEN MANTENIMIENTO PREVENTIVO MEDIANO DE LOCOMOTORAS Y COCHES DE LA LINEA SAN MARTIN
A7: OFERENTE
A8: CUIT
A9: OFERTA SIN IVA | B9: =+G20+G24+G33 -> 0
A10: TIPO DE MONEDA | B10: USD (DOLARES ESTADOUNIDENSES)
A11: ALICUOTA IVA
A13: RENGLON | B13: SUBRENGLON | C13: DESCRIPCION | E13: CANTIDAD | F13: UNITARIO | G13: TOTAL
A14: I LOCOMOTORAS | B14: 1.1 | C14: TOTAL SUBRENGLON 1.1 | D14: MANO DE OBRA PARA MANTENIMIENTO PREVENTIVO MEDIANO DE LOCOMOTORAS SDD7 + CAPACITACION TECNICA A 20 OPERARIOS + TABLA 1.1 | E14: =+'[1]Subrenglon 1.1 y 1.2'!D4 -> 11 | F14: ='Subrenglon 1.1 y 1.2'!E4+'Subrenglon 1.1 y 1.2'!E5 -> 0 | G14: =+F14*E14 -> 0
A15: 0 | B15: 1.2 | C15: TOTAL SUBRENGLON 1.2 | D15: ASISTENCIA Y SUPERVISION TECNICA A 20 OPERARIOS PARA EL MANTENIMIENTO PREVENTIVO MEDIANO DE LOCOMOTORA SDD7 + TABLA 1.1 | E15: =+'[1]Subrenglon 1.1 y 1.2'!D5 -> 11 | F15: ='Subrenglon 1.1 y 1.2'!E9+'Subrenglon 1.1 y 1.2'!E10 -> 0 | G15: =+F15*E15 -> 0
A16: 0 | B16: 1.3 | C16: TOTAL SUBRENGLON 1.3 | D16: ASISTENCIA Y SUPERVISION TECNICA A 20 OPERARIOS PARA LA REPARACION DE LAS LOCOMOTORAS SDD7 B961 + TABLA 1.3.1 | E16: 1 | F16: ='Subrenglon 1.3'!F4 -> 0 | G16: =+F16*E16 -> 0
D17: ASISTENCIA Y SUPERVISION TECNICA A 20 OPERARIOS PARA LA REPARACION DE LAS LOCOMOTORAS SDD7 B962 + TABLA 1.3.2 | E17: 1 | F17: ='Subrenglon 1.3'!F6 -> 0 | G17: =+F17*E17 -> 0
A18: 0 | B18: 1.4 | C18: TOTAL SUBRENGLON 1.4 | D18: REPUESTOS DE LOCOMOTORAS PARA STOCK - TABLA 1.4.1 Y 1.4.2 | E18: 1 | F18: ='Subrenglon 1.4'!E6 -> 0 | G18: =+F18*E18 -> 0
A19: 0 | B19: 1.5 | C19: TOTAL SUBRENGLON 1.5 | D19: EVENTUALES PARA LOCOMOTORAS - TABLA 1.5 | E19: 1 | F19: ='Subrenglon 1.5'!E5 -> 0 | G19: =+F19*E19 -> 0
A20: TOTAL RENGLON I LOCOMOTORAS | G20: =SUM(G14:G19) -> 0
A22: RENGLON | B22: SUBRENGLON | C22: DESCRIPCION | E22: CANTIDAD | F22: UNITARIO | G22: TOTAL
A23: II HERRAMENTAL | B23: 2.1 | C23: TOTAL SUBRENGOL 2.1 | D23: BANCO DE PRUEBA PARA VALVULAS 26 L. | E23: 1 | F23: ='2.1 Planilla Cotizacion Banco'!D4 -> 0 | G23: ='2.1 Planilla Cotizacion Banco'!D5 -> 0
A24: TOTAL RENGLON II HERRAMENTAL | G24: =+G23 -> 0
A26: RENGLON | B26: SUBRENGLON | C26: DESCRIPCION | E26: CANTIDAD | F26: UNITARIO | G26: TOTAL
A27: III COCHES | B27: 3.1 | C27: TOTAL SUBRENGLON 3.1 | D27: MANO DE OBRA PARA MANTENIMIENTO PREVENTIVO MEDIANO DE FURGON CSR PUZHEN + CAPACITACION TECNICA A 20 OPERARIOS + TABLA 3.1.1 Y 3.1.2 | E27: 24 | F27: ='Subrenglon 3.1 y 3.2'!E4+'Subrenglon 3.1 y 3.2'!E5 -> 0 | G27: =F27*E27 -> 0
D28: MANO DE OBRA PARA MANTENIMIENTO PREVENTIVO MEDIANO DE COCHES CSR PUZHEN + CAPACITACION TECNICA A 20 OPERARIOS + TABLA 3.1.1 Y 3.1.2 | E28: 56 | F28: ='Subrenglon 3.1 y 3.2'!E6+'Subrenglon 3.1 y 3.2'!E7 -> 0 | G28: =F28*E28 -> 0
A29: 0 | B29: 3.2 | C29: TOTAL SUBRENGLON 3.2 | D29: ASISTENCIA Y SUPERVISION TECNICA A 20 OPERARIOS PARA EL MANTENIMIENTO PREVENTIVO MEDIANO DE FURGON CSR PUZHEN + TABLA 3.1.1 Y 3.1.2 | E29: 24 | F29: ='Subrenglon 3.1 y 3.2'!E11+'Subrenglon 3.1 y 3.2'!E12 -> 0 | G29: =F29*E29 -> 0
D30: ASISTENCIA Y SUPERVISION TECNICA A 20 OPERARIOS PARA EL MANTENIMIENTO PREVENTIVO MEDIANO DE COCHES CSR PUZHEN + TABLA 3.1.1 Y 3.1.2 | E30: 56 | F30: ='Subrenglon 3.1 y 3.2'!E13+'Subrenglon 3.1 y 3.2'!E14 -> 0 | G30: =F30*E30 -> 0
A31: 0 | B31: 3.3 | C31: TOTAL SUBRENGLON 3.3 | D31: REPUESTOS DE COCHES Y FURGONES SCR PARA STOCK TABLA - 3.3.1, 3.3.2 Y 3.3.3 | E31: 1 | F31: ='Subrenglon 3.3'!D7 -> 0 | G31: =F31*E31 -> 0
A32: 0 | B32: 3.4 | C32: TOTAL SUBRENGLON 3.4 | D32: EVENTUALES PARA COCHES Y FURGONES SCR - TABLA 3.4.1 Y 3.4.2 | E32: 1 | F32: ='Subrenglon 3.4'!D6 -> 0 | G32: =F32*E32 -> 0
A33: TOTAL RENGLON III COCHES | G33: =SUM(G27:G32) -> 0

Sheet Hoja3
A1: $ (PESOS)
A2: USD (DOLARES ESTADOUNIDENSES)
A3: € (EUROS)
A4: ¥ (YUANES)
A5: £ (LIBRAS ESTERLINAS)
A6: OTROS

Sheet Subrenglon 1.1 y 1.2
B1: PORTADA | C1: PLANILLA DE COTIZACION
B3: SUBRENGLON | C3: DESCRIPCION | D3: CANTIDAD | E3: P. UNITARIO | F3: P. TOTAL
B4: 1.1 | C4: MANO DE OBRA PARA MANTENIMIENTO PREVENTIVO MEDIANO DE LOCOMOTORAS SDD7 Y CAPACITACION TECNICA A 20 OPERARIOS PARA EL MANTENIMIENTO PREVENTIVO MEDIANO DE LOCOMOTORAS SDD7 | D4: 11 | E4: ='1.7 Planilla Cotizacion LOCs'!G8 -> 0 | F4: =+(E4+E5)*D4 -> 0
C5: TOTAL REPUESTOS MANDATARIOS LOCOMOTORAS - TABLA 1.1 | D5: 11 | E5: =SUM(H16:H609) -> 0
B6: TOTAL SUBRENGLON 1.1 | E6: =+E5+E4 -> 0 | F6: =+F4 -> 0
B8: SUBRENGLON | C8: DESCRIPCION | D8: CANTIDAD | E8: P. UNITARIO | F8: P. TOTAL
B9: 1.2 | C9: ASISTENCIA Y SUPERVISION TECNICA A 20 OPERARIOS PARA EL MANTENIMIENTO PREVENTIVO MEDIANO DE LOCOMOTORAS SDD7 | D9: 11 | E9: ='1.7 Planilla Cotizacion LOCs'!G10 -> 0 | F9: =+(E9+E10)*D9 -> 0
C10: TOTAL REPUESTOS MANDATARIOS LOCOMOTORAS - TABLA 1.1 | D10: 11 | E10: =SUM(H16:H609) -> 0
B11: TOTAL SUBRENGLON 1.2 | E11: =+E10+E9 -> 0 | F11: =+F9 -> 0
A14: REPUESTOS MANDATARIOS TABLA 1.1
A15: Tarea | B15: Grupo | C15: Descripción | D15: Código CSR/ RF | E15: Otra RF | F15: Cantidad | G15: P. Unitario | H15: P. Total
A16: 3.1.1 | B16: Baterías | C16: Terminales de conexión de batería | F16: 4 | G16: =VLOOKUP(C16,'1.7 Planilla Cotizacion LOCs'!E$16:G$1040,3,FALSE) -> 0 | H16: =+F16*G16 -> 0
A17: 3.1.2 | B17: Tanque de combustible | C17: Manga de salida de tanque de combustible | D17: 606030200004 | E17: DLJG-DH-92 | F17: 1 | G17: =VLOOKUP(C17,'1.7 Planilla Cotizacion LOCs'!E$16:G$1040,3,FALSE) -> 0 | H17: =+F17*G17 -> 0
A18: 3.1.2 | B18: Tanque de combustible | C18: Manga de retorno de tanque de combustible | D18: 606030200005 | F18: 1 | G18: =VLOOKUP(C18,'1.7 Planilla Cotizacion LOCs'!E$16:G$1040,3,FALSE) -> 0 | H18: =+F18*G18 -> 0
A19: 3.1.2 | B19: Tanque de combustible | C19: Conjunto de entrada combustible. Brida y Caño de succion. | D19: 606030201010 | F19: 1 | G19: =VLOOKUP(C19,'1.7 Planilla Cotizacion LOCs'!E$16:G$1040,3,FALSE) -> 0 | H19: =+F19*G19 -> 0
A20: 3.1.2 | B20: Tanque de combustible | C20: Conjunto de retorno de combustible. Brida y caño de retorno | D20: 606030201012 | F20: 1 | G20: =VLOOKUP(C20,'1.7 Planilla Cotizacion LOCs'!E$16:G$1040,3,FALSE) -> 0 | H20: =+F20*G20 -> 0
A21: 3.1.2 | B21: Tanque de combustible | C21: CONJUNTO DE INDICADOR DE NIVEL DE COMBUSTIBLE INFERIOR. LOC SDD7 | D21: 606030201015 | F21: 2 | G21: =VLOOKUP(C21,'1.7 Planilla Cotizacion LOCs'!E$16:G$1040,3,FALSE) -> 0 | H21: =+F21*G21 -> 0
A22: 3.1.2 | B22: Tanque de combustible | C22: Conjunto de valvula de drenaje de tanque | D22: 606030201024 | F22: 1 | G22: =VLOOKUP(C22,'1.7 Planilla Cotizacion LOCs'!E$16:G$1040,3,FALSE) -> 0 | H22: =+F22*G22 -> 0
A23: 3.1.2 | B23: Tanque de combustible | C23: Junta tapa de tanque de combustible - Loc. SDD7 | D23: CONSUMIBLE | F23: 2 | G23: =VLOOKUP(C23,'1.7 Planilla Cotizacion LOCs'!E$16:G$1040,3,FALSE) -> 0 | H23: =+F23*G23 -> 0
A24: 3.1.2 | B24: Tanque de combustible | C24: Indicador de nivel de combustible, con elemento flotante | F24: 2 | G24: =VLOOKUP(C24,'1.7 Planilla Cotizacion LOCs'!E$16:G$1040,3,FALSE) -> 0 | H24: =+F24*G24 -> 0
A25: 3.1.2 | B25: Tanque de combustible | C25: Conjunto tapa de tanque de combustible - Loc. SDD7 | F25: 2 | G25: =VLOOKUP(C25,'1.7 Planilla Cotizacion LOCs'!E$16:G$1040,3,FALSE) -> 0 | H25: =+F25*G25 -> 0
A26: 3.1.2 | B26: Tanque de combustible | C26: TRABA DE TAPA DE TANQUE DE COMBUSTIBLE- LOC SDD 7 | F26: 2 | G26: =VLOOKUP(C26,'1.7 Planilla Cotizacion LOCs'!E$16:G$1040,3,FALSE) -> 0 | H26: =+F26*G26 -> 0
A27: 3.1.2 | B27: Tanque de combustible | C27: Tapas de inspección de tanque | F27: 2 | G27: =VLOOKUP(C27,'1.7 Planilla Cotizacion LOCs'!E$16:G$1040,3,FALSE) -> 0 | H27: =+F27*G27 -> 0
A28: 3.1.2 | B28: Tanque de combustible | C28: Protector de indicador de nivel | F28: 2 | G28: =VLOOKUP(C28,'1.7 Planilla Cotizacion LOCs'!E$16:G$1040,3,FALSE) -> 0 | H28: =+F28*G28 -> 0
A29: 3.1.3 | B29: Depósito de Aire Principal | C29: Cubierta de proteccion de valvula de drenaje | D29: 606050103002 | F29: 2 | G29: =VLOOKUP(C29,'1.7 Planilla Cotizacion LOCs'!E$16:G$1040,3,FALSE) -> 0 | H29: =+F29*G29 -> 0
A30: 3.1.3 | B30: Depósito de Aire Principal | C30: Válvulas de drenaje de agua. (grifo) | D30: 606050103004 | E30: SOBLRCB-10-40 | F30: 2 | G30: =VLOOKUP(C30,'1.7 Planilla Cotizacion LOCs'!E$16:G$1040,3,FALSE) -> 0 | H30: =+F30*G30 -> 0
A31: 3.1.3 | B31: Depósito de Aire Principal | C31: Codo de entrada y salida de aire. | D31: 606050103008 | F31: 4 | G31: =VLOOKUP(C31,'1.7 Planilla Cotizacion LOCs'!E$16:G$1040,3,FALSE) -> 0 | H31: =+F31*G31 -> 0
A32: 3.10 | B32: Contactores y relés | C32: Apaga arco de contactor de arranque | E32: S1001/06-PB-44-80V-B | F32: 1 | G32: =VLOOKUP(C32,'1.7 Planilla Cotizacion LOCs'!E$16:G$1040,3,FALSE) -> 0 | H32: =+F32*G32 -> 0
A33: 3.10 | B33: Contactores y relés | C33: Apaga arco de contactor Ppal. | E33: S1115/10-P-33-110V-B | F33: 6 | G33: =VLOOKUP(C33,'1.7 Planilla Cotizacion LOCs'!E$16:G$1040,3,FALSE) -> 0 | H33: =+F33*G33 -> 0
A34: 3.10 | B34: Contactores y relés | C34: Dedo de contacto fijo y movil de contactores ppal - Loc. SDD 7 | F34: 6 | G34: =VLOOKUP(C34,'1.7 Planilla Cotizacion LOCs'!E$16:G$1040,3,FALSE) -> 0 | H34: =+F34*G34 -> 0
A35: 3.2.1 | B35: Bogies - Suspensión | C35: ELASTICO DE GOMA PARA SUSPENSION PRIMARIA BOGIE. LOC CSR SDD7. | D35: 606040200001 | F35: 24 | G35: =VLOOKUP(C35,'1.7 Planilla Cotizacion LOCs'!E$16:G$1040,3,FALSE) -> 0 | H35: =+F35*G35 -> 0
A36: 3.2.1 | B36: Bogies - Suspensión | C36: Arandela de ajuste para suspension primaria. (placa suplememto) | D36: 606040200006 | F36: 24 | G36: =VLOOKUP(C36,'1.7 Planilla Cotizacion LOCs'!E$16:G$1040,3,FALSE) -> 0 | H36: =+F36*G36 -> 0
A37: 3.2.1 | B37: Bogies - Suspensión | C37: RESORTE DE GOMA. APOYO ENTRE BOGIE Y CARROCERIA Loc CSR SDD7 | D37: 606040400000 | F37: 8 | G37: =VLOOKUP(C37,'1.7 Planilla Cotizacion LOCs'!E$16:G$1040,3,FALSE) -> 0 | H37: =+F37*G37 -> 0
A38: 3.2.1 | B38: Bogies - Suspensión | C38: Arandela de ajuste de resorte de goma apoyo lateral. (placa de suplemento) | D38: 606040400002 | F38: 8 | G38: =VLOOKUP(C38,'1.7 Planilla Cotizacion LOCs'!E$16:G$1040,3,FALSE) -> 0 | H38: =+F38*G38 -> 0
A39: 3.2.2 | B39: Bogies - Disp. tracción | C39: Placa de seguridad. Arandela de centro de bogue. | D39: 606040500005 | F39: 2 | G39: =VLOOKUP(C39,'1.7 Planilla Cotizacion LOCs'!E$16:G$1040,3,FALSE) -> 0 | H39: =+F39*G39 -> 0
A40: 3.2.2 | B40: Bogies - Disp. tracción | C40: Anillo guardapolvo | D40: 606040500010 | F40: 16 | G40: =VLOOKUP(C40,'1.7 Planilla Cotizacion LOCs'!E$16:G$1040,3,FALSE) -> 0 | H40: =+F40*G40 -> 0
A41: 3.2.2 | B41: Bogies - Disp. tracción | C41: PASADOR DE ALETAS DE ACERO 7.7 X 110 MM | D41: 606040500016 | F41: 2 | G41: =VLOOKUP(C41,'1.7 Planilla Cotizacion LOCs'!E$16:G$1040,3,FALSE) -> 0 | H41: =+F41*G41 -> 0
A42: 3.2.2 | B42: Bogies - Disp. tracción | C42: PASADOR DE ALETAS TIPO D CINCADO 4.7 X 50 MM | D42: 606040500017 | F42: 8 | G42: =VLOOKUP(C42,'1.7 Planilla Cotizacion LOCs'!E$16:G$1040,3,FALSE) -> 0 | H42: =+F42*G42 -> 0
A43: 3.2.2 | B43: Bogies - Disp. tracción | C43: Alemite de lubricacion M10x1 | D43: 606040500019 | F43: 8 | G43: =VLOOKUP(C43,'1.7 Planilla Cotizacion LOCs'!E$16:G$1040,3,FALSE) -> 0 | H43: =+F43*G43 -> 0
A44: 3.2.3 | B44: Bogies - Par montado - Punta de eje | C44: Alambre L280 para bulones de barras traccion | D44: 606040200010 | F44: 20 | G44: =VLOOKUP(C44,'1.7 Planilla Cotizacion LOCs'!E$16:G$1040,3,FALSE) -> 0 | H44: =+F44*G44 -> 0
...

Sheet Subrenglon 1.3
B1: PORTADA | C1: PLANILLA DE COTIZACION
B3: SUBRENGLON | C3: DESCRIPCION | D3: CANTIDAD | E3: P. UNITARIO | F3: P. TOTAL
B4: 1.3 | C4: ASISTENCIA Y SUPERVISION TECNICA A 20 OPERARIOS PARA LA REPARACION DE LA LOCOMOTORA SDD7 961 | D4: 1 | E4: ='1.7 Planilla Cotizacion LOCs'!G12 -> 0 | F4: =+(E4+E5)*D4 -> 0
C5: REPUESTOS MANDATARIOS TABLA 1.3.1 | D5: 1 | E5: =SUM(H13:H569) -> 0
C6: ASISTENCIA Y SUPERVISION TECNICA A 20 OPERARIOS PARA LA REPARACION DE LA LOCOMOTORA SDD7 962 | D6: 1 | E6: ='1.7 Planilla Cotizacion LOCs'!G14 -> 0 | F6: =+(E6+E7)*D6 -> 0
C7: REPUESTOS MANDATARIOS TABLA 1.3.2 | D7: 1 | E7: =SUM(H574:H1082) -> 0
B8: TOTAL SUBRENGLON 1.3 | F8: =F4+F6 -> 0
A11: REPUESTOS MANDATARIOS TABLA 1.3.1 - LOC 961
A12: Item | B12: Grupo | C12: Descripción | D12: Código CSR/ RF | E12: Otra RF | F12: Cantidad | G12: P. Unitario | H12: P. Total
A13: 3.1.1 | B13: Baterías | C13: Cuchilla de baterias | D13: 606070701008 | E13: N209 | F13: 1 | G13: =VLOOKUP(C13,'1.7 Planilla Cotizacion LOCs'!$E$16:$G$1040,3,FALSE) -> 0 | H13: =+F13*G13 -> 0
A14: 3.1.1 | B14: Baterías | C14: ELECTROLITO PARA BATERIAS NIQUEL CADMIO. COCHE CSR PUZHEN. | D14: CONSUMIBLE | F14: 80 | G14: =VLOOKUP(C14,'1.7 Planilla Cotizacion LOCs'!$E$16:$G$1040,3,FALSE) -> 0 | H14: =+F14*G14 -> 0
A15: 3.1.2 | B15: Tanque de combustible | C15: Manga de salida de tanque de combustible | D15: 606030200004 | E15: DLJG-DH-92 | F15: 6 | G15: =VLOOKUP(C15,'1.7 Planilla Cotizacion LOCs'!$E$16:$G$1040,3,FALSE) -> 0 | H15: =+F15*G15 -> 0
A16: 3.1.2 | B16: Tanque de combustible | C16: Conjunto de valvula de drenaje de tanque | D16: 606030201024 | F16: 1 | G16: =VLOOKUP(C16,'1.7 Planilla Cotizacion LOCs'!$E$16:$G$1040,3,FALSE) -> 0 | H16: =+F16*G16 -> 0
A17: 3.1.2 | B17: Tanque de combustible | C17: CONJUNTO DE INDICADOR DE NIVEL DE COMBUSTIBLE INFERIOR. LOC SDD7 | D17: 606030201015 | F17: 2 | G17: =VLOOKUP(C17,'1.7 Planilla Cotizacion LOCs'!$E$16:$G$1040,3,FALSE) -> 0 | H17: =+F17*G17 -> 0
A18: 3.1.2 | B18: Tanque de combustible | C18: Indicador de nivel de combustible, con elemento flotante | F18: 2 | G18: =VLOOKUP(C18,'1.7 Planilla Cotizacion LOCs'!$E$16:$G$1040,3,FALSE) -> 0 | H18: =+F18*G18 -> 0
A19: 3.1.2 | B19: Tanque de combustible | C19: Conjunto de entrada combustible. Brida y Caño de succion. | D19: 606030201010 | F19: 1 | G19: =VLOOKUP(C19,'1.7 Planilla Cotizacion LOCs'!$E$16:$G$1040,3,FALSE) -> 0 | H19: =+F19*G19 -> 0
A20: 3.1.2 | B20: Tanque de combustible | C20: Conjunto de retorno de combustible. Brida y caño de retorno | D20: 606030201012 | F20: 1 | G20: =VLOOKUP(C20,'1.7 Planilla Cotizacion LOCs'!$E$16:$G$1040,3,FALSE) -> 0 | H20: =+F20*G20 -> 0
A21: 3.1.2 | B21: Tanque de combustible | C21: Tapas de inspección de tanque | F21: 2 | G21: =VLOOKUP(C21,'1.7 Planilla Cotizacion LOCs'!$E$16:$G$1040,3,FALSE) -> 0 | H21: =+F21*G21 -> 0
A22: 3.1.2 | B22: Tanque de combustible | C22: Conjunto tapa de tanque de combustible - Loc. SDD7 | F22: 2 | G22: =VLOOKUP(C22,'1.7 Planilla Cotizacion LOCs'!$E$16:$G$1040,3,FALSE) -> 0 | H22: =+F22*G22 -> 0
A23: 3.1.2 | B23: Tanque de combustible | C23: Manga de retorno de tanque de combustible | D23: 606030200005 | F23: 1 | G23: =VLOOKUP(C23,'1.7 Planilla Cotizacion LOCs'!$E$16:$G$1040,3,FALSE) -> 0 | H23: =+F23*G23 -> 0
A24: 3.1.2 | B24: Tanque de combustible | C24: Protector de indicador de nivel | F24: 2 | G24: =VLOOKUP(C24,'1.7 Planilla Cotizacion LOCs'!$E$16:$G$1040,3,FALSE) -> 0 | H24: =+F24*G24 -> 0
A25: 3.1.2 | B25: Tanque de combustible | C25: TRABA DE TAPA DE TANQUE DE COMBUSTIBLE- LOC SDD 7 | F25: 2 | G25: =VLOOKUP(C25,'1.7 Planilla Cotizacion LOCs'!$E$16:$G$1040,3,FALSE) -> 0 | H25: =+F25*G25 -> 0
A26: 3.1.2 | B26: Tanque de combustible | C26: Junta tapa de tanque de combustible - Loc. SDD7 | D26: CONSUMIBLE | F26: 2 | G26: =VLOOKUP(C26,'1.7 Planilla Cotizacion LOCs'!$E$16:$G$1040,3,FALSE) -> 0 | H26: =+F26*G26 -> 0
A27: 3.1.3 | B27: Depósito de Aire Principal | C27: Codo de entrada y salida de aire. | D27: 606050103008 | F27: 4 | G27: =VLOOKUP(C27,'1.7 Planilla Cotizacion LOCs'!$E$16:$G$1040,3,FALSE) -> 0 | H27: =+F27*G27 -> 0
A28: 3.1.3 | B28: Depósito de Aire Principal | C28: Válvulas de drenaje de agua. (grifo) | D28: 606050103004 | E28: SOBLRCB-10-40 | F28: 2 | G28: =VLOOKUP(C28,'1.7 Planilla Cotizacion LOCs'!$E$16:$G$1040,3,FALSE) -> 0 | H28: =+F28*G28 -> 0
A29: 3.1.3 | B29: Depósito de Aire Principal | C29: Cubierta de proteccion de valvula de drenaje | D29: 606050103002 | F29: 2 | G29: =VLOOKUP(C29,'1.7 Planilla Cotizacion LOCs'!$E$16:$G$1040,3,FALSE) -> 0 | H29: =+F29*G29 -> 0
A30: 3.10 | B30: Contactores y relés | C30: Apaga arco de contactor Ppal. | E30: S1115/10-P-33-110V-B | F30: 6 | G30: =VLOOKUP(C30,'1.7 Planilla Cotizacion LOCs'!$E$16:$G$1040,3,FALSE) -> 0 | H30: =+F30*G30 -> 0
A31: 3.10 | B31: Contactores y relés | C31: Dedo de contacto fijo y movil de contactores ppal - Loc. SDD 7 | F31: 6 | G31: =VLOOKUP(C31,'1.7 Planilla Cotizacion LOCs'!$E$16:$G$1040,3,FALSE) -> 0 | H31: =+F31*G31 -> 0
A32: 3.10 | B32: Contactores y relés | C32: Conmutador de direccion | D32: 606070702006 | E32: T830A-B | F32: 1 | G32: =VLOOKUP(C32,'1.7 Planilla Cotizacion LOCs'!$E$16:$G$1040,3,FALSE) -> 0 | H32: =+F32*G32 -> 0
A33: 3.10 | B33: Contactores y relés | C33: Conmutador de estado de operación | D33: 606070702007 | E33: T829A-B | F33: 1 | G33: =VLOOKUP(C33,'1.7 Planilla Cotizacion LOCs'!$E$16:$G$1040,3,FALSE) -> 0 | H33: =+F33*G33 -> 0
A34: 3.10 | B34: Contactores y relés | C34: Apaga arco de contactor de arranque | E34: S1001/06-PB-44-80V-B | F34: 1 | G34: =VLOOKUP(C34,'1.7 Planilla Cotizacion LOCs'!$E$16:$G$1040,3,FALSE) -> 0 | H34: =+F34*G34 -> 0
A35: 3.10 | B35: Contactores y relés | C35: RELAY DE parada 1KD2 | D35: 606070701013 | E35: S145A-110V-B | F35: 5 | G35: =VLOOKUP(C35,'1.7 Planilla Cotizacion LOCs'!$E$16:$G$1040,3,FALSE) -> 0 | H35: =+F35*G35 -> 0
A36: 3.10 | B36: Contactores y relés | C36: CONTACTOR GENERADOR AUXILIAR 5KM1 | E36: S140A-2-110V-B | F36: 1 | G36: =VLOOKUP(C36,'1.7 Planilla Cotizacion LOCs'!$E$16:$G$1040,3,FALSE) -> 0 | H36: =+F36*G36 -> 0
A37: 3.10 | B37: Contactores y relés | C37: CONTACTOR GENERADOR PRINCIPAL 5KM2 | E37: S140A-2-110V-B | F37: 1 | G37: =VLOOKUP(C37,'1.7 Planilla Cotizacion LOCs'!$E$16:$G$1040,3,FALSE) -> 0 | H37: =+F37*G37 -> 0
A38: 3.10 | B38: Contactores y relés | C38: CONTACTOR DE EXITACION DE EXITATRIZ 7KM1 | E38: S140A-2-110V-B | F38: 1 | G38: =VLOOKUP(C38,'1.7 Planilla Cotizacion LOCs'!$E$16:$G$1040,3,FALSE) -> 0 | H38: =+F38*G38 -> 0
A39: 3.10 | B39: Contactores y relés | C39: CONTACTOR DE EXITACION DE EXITATRIZ 7KM2 | E39: S140A-2-110V-B | F39: 1 | G39: =VLOOKUP(C39,'1.7 Planilla Cotizacion LOCs'!$E$16:$G$1040,3,FALSE) -> 0 | H39: =+F39*G39 -> 0
A40: 3.10 | B40: Contactores y relés | C40: RELAY DE CONTROL 1KD1 | D40: 606070701013 | E40: S145A-110V-B | F40: 2 | G40: =VLOOKUP(C40,'1.7 Planilla Cotizacion LOCs'!$E$16:$G$1040,3,FALSE) -> 0 | H40: =+F40*G40 -> 0
A41: 3.10 | B41: Contactores y relés | C41: RELAY DE PUESTA A TIERRA DE LOC. CSR SDD7 - MOD.: T659C - KE | D41: 606070702012 | E41: T659C | F41: 1 | G41: =VLOOKUP(C41,'1.7 Planilla Cotizacion LOCs'!$E$16:$G$1040,3,FALSE) -> 0 | H41: =+F41*G41 -> 0
A42: 3.10 | B42: Contactores y relés | C42: RELAY DE SOBRE CORRIENTE DE LOC. CSR SDD7 - - MOD.: N429C - KC | D42: 606070702013 | E42: N429C | F42: 1 | G42: =VLOOKUP(C42,'1.7 Planilla Cotizacion LOCs'!$E$16:$G$1040,3,FALSE) -> 0 | H42: =+F42*G42 -> 0
A43: 3.10 | B43: Contactores y relés | C43: RELAY DE SEPARADOR DE TIERRA 1KD5 | D43: 606070701013 | E43: S145A-110V-B | F43: 1 | G43: =VLOOKUP(C43,'1.7 Planilla Cotizacion LOCs'!$E$16:$G$1040,3,FALSE) -> 0 | H43: =+F43*G43 -> 0
...

Sheet Subrenglon 1.4
B1: PORTADA | C1: PLANILLA DE COTIZACION
B3: SUBRENGLON | C3: DESCRIPCION | D3: CANTIDAD | E3: P. TOTAL
B4: 1.4 | C4: TOTAL REPUESTOS DE LOCOMOTORAS PARA STOCK - TABLA 1.4.1 | D4: 1 | E4: =SUM(H12:H994) -> 0
C5: TOTAL REPUESTOS DE LOCOMOTORAS PARA STOCK - TABLA 1.4.2 | D5: 1 | E5: =SUM(H1001:H1818) -> 0
B6: TOTAL SUBRENGLON 1.4 | E6: =+E5+E4 -> 0
A10: REPUESTOS DE LOCOMOTORAS PARA STOCK - TABLA 1.4.1
A11: Item | B11: Grupo | C11: Descripción | D11: Código CSR/ RF | E11: Otra RF | F11: Cantidad | G11: P. Unitario | H11: P. Total
A12: 3.1.1 | B12: Baterías | C12: Bateria GNC210 78 93,6V Loc CSR SDD7 | D12: 606070300000 | E12: GNC210 | F12: 94 | G12: =VLOOKUP(C12,'1.7 Planilla Cotizacion LOCs'!$E$16:$G$1040,3,FALSE) -> 0 | H12: =+F12*G12 -> 0
A13: 3.1.1 | B13: Baterías | C13: Chapa de conexión larga entre baterias. | D13: 606070300002 | F13: 38 | G13: =VLOOKUP(C13,'1.7 Planilla Cotizacion LOCs'!$E$16:$G$1040,3,FALSE) -> 0 | H13: =+F13*G13 -> 0
A14: 3.1.1 | B14: Baterías | C14: Chapa de conexión corta entre baterias. | D14: 606070300003 | F14: 45 | G14: =VLOOKUP(C14,'1.7 Planilla Cotizacion LOCs'!$E$16:$G$1040,3,FALSE) -> 0 | H14: =+F14*G14 -> 0
A15: 3.1.1 | B15: Baterías | C15: Cuchilla de baterias | D15: 606070701008 | E15: N209 | F15: 2 | G15: =VLOOKUP(C15,'1.7 Planilla Cotizacion LOCs'!$E$16:$G$1040,3,FALSE) -> 0 | H15: =+F15*G15 -> 0
A16: 3.1.1 | B16: Baterías | C16: ELECTROLITO PARA BATERIAS NIQUEL CADMIO. COCHE CSR PUZHEN. | D16: CONSUMIBLE | F16: 96 | G16: =VLOOKUP(C16,'1.7 Planilla Cotizacion LOCs'!$E$16:$G$1040,3,FALSE) -> 0 | H16: =+F16*G16 -> 0
A17: 3.1.1 | B17: Baterías | C17: Terminales de conexión de batería | F17: 24 | G17: =VLOOKUP(C17,'1.7 Planilla Cotizacion LOCs'!$E$16:$G$1040,3,FALSE) -> 0 | H17: =+F17*G17 -> 0
A18: 3.1.1 | B18: Baterías | C18: Cables de conexión de baterías | F18: 3 | G18: =VLOOKUP(C18,'1.7 Planilla Cotizacion LOCs'!$E$16:$G$1040,3,FALSE) -> 0 | H18: =+F18*G18 -> 0
A19: 3.1.2 | B19: Tanque de combustible | C19: Manga de salida de tanque de combustible | D19: 606030200004 | E19: DLJG-DH-92 | F19: 6 | G19: =VLOOKUP(C19,'1.7 Planilla Cotizacion LOCs'!$E$16:$G$1040,3,FALSE) -> 0 | H19: =+F19*G19 -> 0
A20: 3.1.2 | B20: Tanque de combustible | C20: Manga de retorno de tanque de combustible | D20: 606030200005 | F20: 6 | G20: =VLOOKUP(C20,'1.7 Planilla Cotizacion LOCs'!$E$16:$G$1040,3,FALSE) -> 0 | H20: =+F20*G20 -> 0
A21: 3.1.2 | B21: Tanque de combustible | C21: Conjunto de entrada combustible. Brida y Caño de succion. | D21: 606030201010 | F21: 6 | G21: =VLOOKUP(C21,'1.7 Planilla Cotizacion LOCs'!$E$16:$G$1040,3,FALSE) -> 0 | H21: =+F21*G21 -> 0
A22: 3.1.2 | B22: Tanque de combustible | C22: Conjunto de retorno de combustible. Brida y caño de retorno | D22: 606030201012 | F22: 6 | G22: =VLOOKUP(C22,'1.7 Planilla Cotizacion LOCs'!$E$16:$G$1040,3,FALSE) -> 0 | H22: =+F22*G22 -> 0
A23: 3.1.2 | B23: Tanque de combustible | C23: CONJUNTO DE INDICADOR DE NIVEL DE COMBUSTIBLE INFERIOR. LOC SDD7 | D23: 606030201015 | F23: 12 | G23: =VLOOKUP(C23,'1.7 Planilla Cotizacion LOCs'!$E$16:$G$1040,3,FALSE) -> 0 | H23: =+F23*G23 -> 0
A24: 3.1.2 | B24: Tanque de combustible | C24: Conjunto de valvula de drenaje de tanque | D24: 606030201024 | F24: 6 | G24: =VLOOKUP(C24,'1.7 Planilla Cotizacion LOCs'!$E$16:$G$1040,3,FALSE) -> 0 | H24: =+F24*G24 -> 0
A25: 3.1.2 | B25: Tanque de combustible | C25: Junta tapa de tanque de combustible - Loc. SDD7 | D25: CONSUMIBLE | F25: 12 | G25: =VLOOKUP(C25,'1.7 Planilla Cotizacion LOCs'!$E$16:$G$1040,3,FALSE) -> 0 | H25: =+F25*G25 -> 0
A26: 3.1.2 | B26: Tanque de combustible | C26: Indicador de nivel de combustible, con elemento flotante | F26: 12 | G26: =VLOOKUP(C26,'1.7 Planilla Cotizacion LOCs'!$E$16:$G$1040,3,FALSE) -> 0 | H26: =+F26*G26 -> 0
A27: 3.1.2 | B27: Tanque de combustible | C27: Conjunto tapa de tanque de combustible - Loc. SDD7 | F27: 12 | G27: =VLOOKUP(C27,'1.7 Planilla Cotizacion LOCs'!$E$16:$G$1040,3,FALSE) -> 0 | H27: =+F27*G27 -> 0
A28: 3.1.2 | B28: Tanque de combustible | C28: TRABA DE TAPA DE TANQUE DE COMBUSTIBLE- LOC SDD 7 | F28: 12 | G28: =VLOOKUP(C28,'1.7 Planilla Cotizacion LOCs'!$E$16:$G$1040,3,FALSE) -> 0 | H28: =+F28*G28 -> 0
A29: 3.1.2 | B29: Tanque de combustible | C29: Tapas de inspección de tanque | F29: 12 | G29: =VLOOKUP(C29,'1.7 Planilla Cotizacion LOCs'!$E$16:$G$1040,3,FALSE) -> 0 | H29: =+F29*G29 -> 0
A30: 3.1.2 | B30: Tanque de combustible | C30: Protector de indicador de nivel | F30: 12 | G30: =VLOOKUP(C30,'1.7 Planilla Cotizacion LOCs'!$E$16:$G$1040,3,FALSE) -> 0 | H30: =+F30*G30 -> 0
A31: 3.1.3 | B31: Depósito de Aire Principal | C31: Cubierta de proteccion de valvula de drenaje | D31: 606050103002 | F31: 12 | G31: =VLOOKUP(C31,'1.7 Planilla Cotizacion LOCs'!$E$16:$G$1040,3,FALSE) -> 0 | H31: =+F31*G31 -> 0
A32: 3.1.3 | B32: Depósito de Aire Principal | C32: Válvulas de drenaje de agua. (grifo) | D32: 606050103004 | E32: SOBLRCB-10-40 | F32: 12 | G32: =VLOOKUP(C32,'1.7 Planilla Cotizacion LOCs'!$E$16:$G$1040,3,FALSE) -> 0 | H32: =+F32*G32 -> 0
A33: 3.1.3 | B33: Depósito de Aire Principal | C33: Codo de entrada y salida de aire. | D33: 606050103008 | F33: 24 | G33: =VLOOKUP(C33,'1.7 Planilla Cotizacion LOCs'!$E$16:$G$1040,3,FALSE) -> 0 | H33: =+F33*G33 -> 0
A34: 3.10 | B34: Contactores y relés | C34: CONTACTOR PRINCIPAL LOC. CHINA CSR SDD7 1KM1-6 | D34: 606070701001 | E34: S1115/10-P-33-110V-B | F34: 8 | G34: =VLOOKUP(C34,'1.7 Planilla Cotizacion LOCs'!$E$16:$G$1040,3,FALSE) -> 0 | H34: =+F34*G34 -> 0
A35: 3.10 | B35: Contactores y relés | C35: CONTACTOR DE ARRANQUE DE LOC. CSR SDD7 6KM | D35: 606070701010 | E35: S1001/06-PB-44-80V-B | F35: 2 | G35: =VLOOKUP(C35,'1.7 Planilla Cotizacion LOCs'!$E$16:$G$1040,3,FALSE) -> 0 | H35: =+F35*G35 -> 0
A36: 3.10 | B36: Contactores y relés | C36: RELAY DE CONTROL 1KD1 | D36: 606070701013 | E36: S145A-110V-B | F36: 2 | G36: =VLOOKUP(C36,'1.7 Planilla Cotizacion LOCs'!$E$16:$G$1040,3,FALSE) -> 0 | H36: =+F36*G36 -> 0
A37: 3.10 | B37: Contactores y relés | C37: RELAY DE parada 1KD2 | D37: 606070701013 | E37: S145A-110V-B | F37: 2 | G37: =VLOOKUP(C37,'1.7 Planilla Cotizacion LOCs'!$E$16:$G$1040,3,FALSE) -> 0 | H37: =+F37*G37 -> 0
A38: 3.10 | B38: Contactores y relés | C38: RELAY DE SEPARADOR DE TIERRA 1KD5 | D38: 606070701013 | E38: S145A-110V-B | F38: 2 | G38: =VLOOKUP(C38,'1.7 Planilla Cotizacion LOCs'!$E$16:$G$1040,3,FALSE) -> 0 | H38: =+F38*G38 -> 0
A39: 3.10 | B39: Contactores y relés | C39: RELAY DE PUESTA A TIERRA DE LOC. CSR SDD7 - MOD.: T659C - KE | D39: 606070702012 | E39: T659C | F39: 2 | G39: =VLOOKUP(C39,'1.7 Planilla Cotizacion LOCs'!$E$16:$G$1040,3,FALSE) -> 0 | H39: =+F39*G39 -> 0
A40: 3.10 | B40: Contactores y relés | C40: RELAY DE SOBRE CORRIENTE DE LOC. CSR SDD7 - - MOD.: N429C - KC | D40: 606070702013 | E40: N429C | F40: 2 | G40: =VLOOKUP(C40,'1.7 Planilla Cotizacion LOCs'!$E$16:$G$1040,3,FALSE) -> 0 | H40: =+F40*G40 -> 0
A41: 3.10 | B41: Contactores y relés | C41: Apaga arco de contactor de arranque | E41: S1001/06-PB-44-80V-B | F41: 6 | G41: =VLOOKUP(C41,'1.7 Planilla Cotizacion LOCs'!$E$16:$G$1040,3,FALSE) -> 0 | H41: =+F41*G41 -> 0
A42: 3.10 | B42: Contactores y relés | C42: Apaga arco de contactor Ppal. | E42: S1115/10-P-33-110V-B | F42: 36 | G42: =VLOOKUP(C42,'1.7 Planilla Cotizacion LOCs'!$E$16:$G$1040,3,FALSE) -> 0 | H42: =+F42*G42 -> 0
A43: 3.10 | B43: Contactores y relés | C43: CONTACTOR GENERADOR AUXILIAR 5KM1 | E43: S140A-2-110V-B | F43: 2 | G43: =VLOOKUP(C43,'1.7 Planilla Cotizacion LOCs'!$E$16:$G$1040,3,FALSE) -> 0 | H43: =+F43*G43 -> 0
A44: 3.10 | B44: Contactores y relés | C44: CONTACTOR GENERADOR PRINCIPAL 5KM2 | E44: S140A-2-110V-B | F44: 2 | G44: =VLOOKUP(C44,'1.7 Planilla Cotizacion LOCs'!$E$16:$G$1040,3,FALSE) -> 0 | H44: =+F44*G44 -> 0
...

Sheet Subrenglon 1.5
B1: PORTADA | C1: PLANILLA DE COTIZACION
B3: SUBRENGLON | C3: DESCRIPCION | D3: CANTIDAD | E3: P. TOTAL
B4: 1.5 | C4: TOTAL EVENTUALES PARA LOCOMOTORAS - TABLA 1.5 | D4: 1 | E4: =SUM(H11:H401) -> 0
B5: TOTAL SUBRENGLON 1.5 | E5: =+H402 -> 0
A9: EVENTUALES PARA LOCOMOTORAS - TABLA 1.5
A10: Item | B10: Grupo | C10: Descripción | D10: Código CSR/ RF | E10: Otra RF | F10: Cantidad | G10: P. Unitario | H10: P. Total
A11: 3.1.1 | B11: Baterías | C11: Bateria GNC210 78 93,6V Loc CSR SDD7 | D11: 606070300000 | E11: GNC210 | F11: 223 | G11: =VLOOKUP(C11,'1.7 Planilla Cotizacion LOCs'!$E$16:$G$1040,3,FALSE) -> 0 | H11: =+F11*G11 -> 0
A12: 3.1.1 | B12: Baterías | C12: Cuchilla de baterias | D12: 606070701008 | E12: N209 | F12: 7 | G12: =VLOOKUP(C12,'1.7 Planilla Cotizacion LOCs'!$E$16:$G$1040,3,FALSE) -> 0 | H12: =+F12*G12 -> 0
A13: 3.1.1 | B13: Baterías | C13: Chapa de conexión corta entre baterias. | D13: 606070300003 | F13: 259 | G13: =VLOOKUP(C13,'1.7 Planilla Cotizacion LOCs'!$E$16:$G$1040,3,FALSE) -> 0 | H13: =+F13*G13 -> 0
A14: 3.1.1 | B14: Baterías | C14: Chapa de conexión larga entre baterias. | D14: 606070300002 | F14: 217 | G14: =VLOOKUP(C14,'1.7 Planilla Cotizacion LOCs'!$E$16:$G$1040,3,FALSE) -> 0 | H14: =+F14*G14 -> 0
A15: 3.1.1 | B15: Baterías | C15: Cables de conexión de baterías | F15: 14 | G15: =VLOOKUP(C15,'1.7 Planilla Cotizacion LOCs'!$E$16:$G$1040,3,FALSE) -> 0 | H15: =+F15*G15 -> 0
A16: 3.1.1 | B16: Baterías | C16: ELECTROLITO PARA BATERIAS NIQUEL CADMIO. COCHE CSR PUZHEN. | D16: CONSUMIBLE | F16: 560 | G16: =VLOOKUP(C16,'1.7 Planilla Cotizacion LOCs'!$E$16:$G$1040,3,FALSE) -> 0 | H16: =+F16*G16 -> 0
A17: 3.10 | B17: Contactores y relés | C17: CONTACTOR PRINCIPAL LOC. CHINA CSR SDD7 1KM1-6 | D17: 606070701001 | E17: S1115/10-P-33-110V-B | F17: 42 | G17: =VLOOKUP(C17,'1.7 Planilla Cotizacion LOCs'!$E$16:$G$1040,3,FALSE) -> 0 | H17: =+F17*G17 -> 0
A18: 3.10 | B18: Contactores y relés | C18: CONTACTOR DE ARRANQUE DE LOC. CSR SDD7 6KM | D18: 606070701010 | E18: S1001/06-PB-44-80V-B | F18: 7 | G18: =VLOOKUP(C18,'1.7 Planilla Cotizacion LOCs'!$E$16:$G$1040,3,FALSE) -> 0 | H18: =+F18*G18 -> 0
A19: 3.10 | B19: Contactores y relés | C19: CONTACTOR GENERADOR AUXILIAR 5KM1 | E19: S140A-2-110V-B | F19: 7 | G19: =VLOOKUP(C19,'1.7 Planilla Cotizacion LOCs'!$E$16:$G$1040,3,FALSE) -> 0 | H19: =+F19*G19 -> 0
A20: 3.10 | B20: Contactores y relés | C20: CONTACTOR GENERADOR PRINCIPAL 5KM2 | E20: S140A-2-110V-B | F20: 7 | G20: =VLOOKUP(C20,'1.7 Planilla Cotizacion LOCs'!$E$16:$G$1040,3,FALSE) -> 0 | H20: =+F20*G20 -> 0
A21: 3.10 | B21: Contactores y relés | C21: CONTACTOR DE EXITACION DE EXITATRIZ 7KM1 | E21: S140A-2-110V-B | F21: 7 | G21: =VLOOKUP(C21,'1.7 Planilla Cotizacion LOCs'!$E$16:$G$1040,3,FALSE) -> 0 | H21: =+F21*G21 -> 0
A22: 3.10 | B22: Contactores y relés | C22: CONTACTOR DE EXITACION DE EXITATRIZ 7KM2 | E22: S140A-2-110V-B | F22: 7 | G22: =VLOOKUP(C22,'1.7 Planilla Cotizacion LOCs'!$E$16:$G$1040,3,FALSE) -> 0 | H22: =+F22*G22 -> 0
A23: 3.10 | B23: Contactores y relés | C23: RELAY DE PUESTA A TIERRA DE LOC. CSR SDD7 - MOD.: T659C - KE | D23: 606070702012 | E23: T659C | F23: 7 | G23: =VLOOKUP(C23,'1.7 Planilla Cotizacion LOCs'!$E$16:$G$1040,3,FALSE) -> 0 | H23: =+F23*G23 -> 0
A24: 3.10 | B24: Contactores y relés | C24: RELAY DE SOBRE CORRIENTE DE LOC. CSR SDD7 - - MOD.: N429C - KC | D24: 606070702013 | E24: N429C | F24: 7 | G24: =VLOOKUP(C24,'1.7 Planilla Cotizacion LOCs'!$E$16:$G$1040,3,FALSE) -> 0 | H24: =+F24*G24 -> 0
A25: 3.10 | B25: Contactores y relés | C25: RELAY DE CONTROL 1KD1 | D25: 606070701013 | E25: S145A-110V-B | F25: 7 | G25: =VLOOKUP(C25,'1.7 Planilla Cotizacion LOCs'!$E$16:$G$1040,3,FALSE) -> 0 | H25: =+F25*G25 -> 0
A26: 3.10 | B26: Contactores y relés | C26: RELAY DE parada 1KD2 | D26: 606070701013 | E26: S145A-110V-B | F26: 7 | G26: =VLOOKUP(C26,'1.7 Planilla Cotizacion LOCs'!$E$16:$G$1040,3,FALSE) -> 0 | H26: =+F26*G26 -> 0
A27: 3.10 | B27: Contactores y relés | C27: RELAY DE SEPARADOR DE TIERRA 1KD5 | D27: 606070701013 | E27: S145A-110V-B | F27: 7 | G27: =VLOOKUP(C27,'1.7 Planilla Cotizacion LOCs'!$E$16:$G$1040,3,FALSE) -> 0 | H27: =+F27*G27 -> 0
A28: 3.10 | B28: Otros | C28: Vidrio para camara de video. Loc SDD7 | F28: 14 | G28: =VLOOKUP(C28,'1.7 Planilla Cotizacion LOCs'!$E$16:$G$1040,3,FALSE) -> 0 | H28: =+F28*G28 -> 0
A29: 3.2.1 | B29: Bogies - Suspensión | C29: Resorte exterior de suspensión primaria. Boguie locomotora CSR SDD7 | D29: 606040200008 | F29: 84 | G29: =VLOOKUP(C29,'1.7 Planilla Cotizacion LOCs'!$E$16:$G$1040,3,FALSE) -> 0 | H29: =+F29*G29 -> 0
A30: 3.2.1 | B30: Bogies - Suspensión | C30: Resorte interior de suspension primaria. Locomotora CSR SDD7 | D30: 606040200009 | F30: 84 | G30: =VLOOKUP(C30,'1.7 Planilla Cotizacion LOCs'!$E$16:$G$1040,3,FALSE) -> 0 | H30: =+F30*G30 -> 0
A31: 3.2.1 | B31: Bogies - Suspensión | C31: Base del resorte. | D31: 606040200002 | F31: 168 | G31: =VLOOKUP(C31,'1.7 Planilla Cotizacion LOCs'!$E$16:$G$1040,3,FALSE) -> 0 | H31: =+F31*G31 -> 0
A32: 3.2.1 | B32: Bogies - Suspensión | C32: Tapa de resorte. | D32: 606040200003 | F32: 168 | G32: =VLOOKUP(C32,'1.7 Planilla Cotizacion LOCs'!$E$16:$G$1040,3,FALSE) -> 0 | H32: =+F32*G32 -> 0
A33: 3.2.1 | B33: Bogies - Suspensión | C33: RESORTE DE GOMA. APOYO ENTRE BOGIE Y CARROCERIA Loc CSR SDD7 | D33: 606040400001 | F33: 56 | G33: =VLOOKUP(C33,'1.7 Planilla Cotizacion LOCs'!$E$16:$G$1040,3,FALSE) -> 0 | H33: =+F33*G33 -> 0
A34: 3.2.13 | B34: Tubo de eje | C34: Perno M30x2x150 Bulon especial Expandible de sujecion de tubo de eje | D34: 606040600003 | F34: 336 | G34: =VLOOKUP(C34,'1.7 Planilla Cotizacion LOCs'!$E$16:$G$1040,3,FALSE) -> 0 | H34: =+F34*G34 -> 0
A35: 3.2.13 | B35: Tubo de eje | C35: Tornillo del lado que no tiene engranaje. | D35: 606040600023 | F35: 56 | G35: =VLOOKUP(C35,'1.7 Planilla Cotizacion LOCs'!$E$16:$G$1040,3,FALSE) -> 0 | H35: =+F35*G35 -> 0
A36: 3.2.2 | B36: Bogies - Disp. tracción | C36: Dispositivo de traccion. Centro de bogue. Conjunto. | D36: 606040500000 | F36: 7 | G36: =VLOOKUP(C36,'1.7 Planilla Cotizacion LOCs'!$E$16:$G$1040,3,FALSE) -> 0 | H36: =+F36*G36 -> 0
A37: 3.2.3 | B37: Bogies - Par montado - Punta de eje | C37: Mandril corto. Barras de tracción superior/inferior de punta de eje. Loc CSR SDD7. RF 0606040201006 (CSR) | D37: 606040201006 | F37: 336 | G37: =VLOOKUP(C37,'1.7 Planilla Cotizacion LOCs'!$E$16:$G$1040,3,FALSE) -> 0 | H37: =+F37*G37 -> 0
A38: 3.2.3 | B38: Bogies - Par montado - Punta de eje | C38: RODAMIENTO DE PUNTA DE EJE PARA LOCOMOTORA CSR SDD7 CODIGO CSR 606040200038 | D38: 606040200038 | F38: 84 | G38: =VLOOKUP(C38,'1.7 Planilla Cotizacion LOCs'!$E$16:$G$1040,3,FALSE) -> 0 | H38: =+F38*G38 -> 0
A39: 3.2.3 | B39: Bogies - Par montado - Punta de eje | C39: RODAMIENTO DE PUNTA DE EJE PARA LOCOMOTORA CSR SDD7 CODIGO CSR 606040200039 | D39: 606040200039 | F39: 84 | G39: =VLOOKUP(C39,'1.7 Planilla Cotizacion LOCs'!$E$16:$G$1040,3,FALSE) -> 0 | H39: =+F39*G39 -> 0
A40: 3.2.3 | B40: Bogies - Par montado - Punta de eje | C40: Tapa de extremo. Barras de tracción superior/inferior de punta de eje. Loc CSR SDD7. RF 0606040201002 (CSR) | D40: 606040201002 | F40: 672 | G40: =VLOOKUP(C40,'1.7 Planilla Cotizacion LOCs'!$E$16:$G$1040,3,FALSE) -> 0 | H40: =+F40*G40 -> 0
... A50: 3.2.4 | B50: Bogies - Lubricador de pestaña | C50: Dispositivo de lubricación de pestaña izquierdo | D50: 606040900006 | F50: 28 | G50: =VLOOKUP(C50,'1.7 Planilla Cotizacion LOCs'!$E$16:$G$1040,3,FALSE) -> 0 | H50: =+F50*G50 -> 0
A51: 3.2.5 | B51: Bogies - Disp. Alarma Temperatura | C51: Cableado de sensores | F51: 84 | G51: =VLOOKUP(C51,'1.7 Planilla Cotizacion LOCs'!$E$16:$G$1040,3,FALSE) -> 0 | H51: =+F51*G51 -> 0
A52: 3.2.5 | B52: Bogies - Disp. Alarma Temperatura | C52: Tomacorrientes | F52: 42 | G52: =VLOOKUP(C52,'1.7 Planilla Cotizacion LOCs'!$E$16:$G$1040,3,FALSE) -> 0 | H52: =+F52*G52 -> 0
A53: 3.2.6 | B53: Bogies - Caja de engranajes | C53: Caja cubre engranajes de MT | D53: 606040604000 | F53: 35 | G53: =VLOOKUP(C53,'1.7 Planilla Cotizacion LOCs'!$E$16:$G$1040,3,FALSE) -> 0 | H53: =+F53*G53 -> 0
...

Sheet 1.7 Planilla Cotizacion LOCs
A3: 2017- Año de las Energías Renovables
A5: PLANILLA DE COTIZACION - RESUMEN MANTENIMIENTO PREVENTIVO MEDIANO DE LOCOMOTORAS DE LA LINEA SAN MARTIN
A7: ITEM | B7: SUBR. | C7: CODIGO | D7: DESCRIPCION | E7: DESCRIPCION AMPLIADA | F7: CANTIDAD | G7: P. UNITARIO | H7: P. TOTAL
A8: 1 | B8: 1.1 | C8: SER10002020N | D8: MANTENIMIENTO PREVENTIVO DE LOCOMOTORAS | E8: MANO DE OBRA PARA MANTENIMIENTO PREVENTIVO MEDIANO DE LOCOMOTORAS SDD7 Y CAPACITACION TECNICA A 20 OPERARIOS PARA EL MANTENIMIENTO PREVENTIVO MEDIANO DE LOCOMOTORAS SDD7 | F8: 11 | H8: =(G8+G9)*F8 -> 0
E9: TOTAL REPUESTOS MANDATARIOS LOCOMOTORAS - TABLA 1.1 | F9: 11 | G9: =SUM('Subrenglon 1.1 y 1.2'!H16:H609) -> 0
A10: 2 | B10: 1.2 | C10: SER10002020N | D10: MANTENIMIENTO PREVENTIVO DE LOCOMOTORAS | E10: ASISTENCIA Y SUPERVISION TECNICA A 20 OPERARIOS PARA EL MANTENIMIENTO PREVENTIVO MEDIANO DE LOCOMOTORAS SDD7 | F10: 11 | H10: =(G10+G11)*F10 -> 0
E11: TOTAL REPUESTOS MANDATARIOS LOCOMOTORAS - TABLA 1.1 | F11: 11 | G11: =SUM('Subrenglon 1.1 y 1.2'!H16:H609) -> 0
A12: 3 | B12: 1.3 | C12: SER10002020N | D12: REPARACION DE LOCOMOTORAS | E12: ASISTENCIA Y SUPERVISION TECNICA A 20 OPERARIOS PARA LA REPARACION DE LA LOCOMOTORA SDD7 961 | F12: 1 | H12: =(G12+G13)*F12 -> 0
E13: REPUESTOS MANDATARIOS TABLA 1.3.1 | F13: 1 | G13: =SUM('Subrenglon 1.3'!H13:H569) -> 0
A14: 4 | B14: 1.3 | C14: SER10002020N | D14: REPARACION DE LOCOMOTORAS | E14: ASISTENCIA Y SUPERVISION TECNICA A 20 OPERARIOS PARA LA REPARACION DE LA LOCOMOTORA SDD7 962 | F14: 1 | H14: =(G14+G15)*F14 -> 0
E15: REPUESTOS MANDATARIOS TABLA 1.3.2 | F15: 1 | G15: =SUM('Subrenglon 1.3'!H574:H1082) -> 0
A16: 5 | B16: 1.4 / 1.5 | C16: NUM03299000010N | D16: STOCK / EVENTUALES | E16: Barra de elevación | F16: 25 | H16: =+G16*F16 -> 0
A17: 6 | B17: 1.4 / 1.5 | C17: NUM96600000000N | D17: STOCK / EVENTUALES | E17: CONTACTOR GENERADOR AUXILIAR 5KM1 | F17: 10 | H17: =+F17*G17 -> 0
A18: 7 | B18: 1.4 / 1.5 | C18: NUM96600000000N | D18: STOCK / EVENTUALES | E18: CONTACTOR GENERADOR PRINCIPAL 5KM2 | F18: 10 | H18: =+F18*G18 -> 0
A19: 8 | B19: 1.4 / 1.5 | C19: NUM96600000000N | D19: STOCK / EVENTUALES | E19: CONTACTOR DE EXITACION DE EXITATRIZ 7KM1 | F19: 10 | H19: =+F19*G19 -> 0
A20: 9 | B20: 1.4 / 1.5 | C20: NUM96600000000N | D20: STOCK / EVENTUALES | E20: CONTACTOR DE EXITACION DE EXITATRIZ 7KM2 | F20: 10 | H20: =+F20*G20 -> 0
A21: 10 | B21: 1.4 / 1.5 | C21: NUM89110414320N | D21: STOCK / EVENTUALES | E21: Arandela Plana DIA.56xDIA.31x2 | F21: 65 | H21: =+F21*G21 -> 0
A22: 11 | B22: 1.4 / 1.5 | C22: NUM89110414320N | D22: STOCK / EVENTUALES | E22: Arandela Plana M30 - DIN 125 | F22: 156 | H22: =+F22*G22 -> 0
A23: 12 | B23: 1.4 / 1.5 | C23: NUM03220930100N | D23: STOCK / EVENTUALES | E23: Cerradura gabinete neumatico | F23: 18 | H23: =+F23*G23 -> 0
A24: 13 | B24: 1.4 / 1.5 | C24: NUM03290115110N | D24: STOCK / EVENTUALES | E24: Alemite de lubricacion M10x1 | F24: 52 | H24: =+F24*G24 -> 0
A25: 14 | B25: 1.4 / 1.5 | C25: NUM03290115110N | D25: STOCK / EVENTUALES | E25: ALEMITE M10 X 1 RECTA PARA EJE SOPLADOR. LOC CSR SDD7. | F25: 48 | H25: =+F25*G25 -> 0
A26: 15 | B26: 1.4 / 1.5 | C26: NUM03280230200N | D26: STOCK / EVENTUALES | E26: SENSOR DE TENSION MODELO CV3-1500 | F26: 7 | H26: =+F26*G26 -> 0
A27: 16 | B27: 1.4 / 1.5 | C27: NUM03280226000N | D27: STOCK / EVENTUALES | E27: Conmutador de estado de operación | F27: 71 | H27: =+F27*G27 -> 0
A28: 17 | B28: 1.4 / 1.5 | C28: NUM03280225000N | D28: STOCK / EVENTUALES | E28: Conmutador de direccion | F28: 8 | H28: =+F28*G28 -> 0
... A60: 49 | B60: 1.4 / 1.5 | C60: NUM03231201200N | D60: STOCK / EVENTUALES | E60: RODAMIENTO RÍGIDO DE RODILLOS 6215/P5 PARA CAJA PUENTE TRASERA | F60: 51 | H60: =+F60*G60 -> 0
A61: 50 | B61: 1.4 / 1.5 | C61: NUM03231201200N | D61: STOCK / EVENTUALES | E61: RODAMIENTO RIGIDO DE BOLAS 6215/p5 DE CONJUNTO DE EJE No 1 PARA CAJA PUENTE POSTERIOR. LOC SDD7 | F61: 39 | H61: =F61*G61 -> 0
A62: 51 | B62: 1.4 / 1.5 | C62: NUM03221021800N | D62: STOCK / EVENTUALES | E62: Cilindro de desenganche (conjunto) de Acople Scharfenberg | F62: 18 | H62: =+F62*G62 -> 0
A63: 52 | B63: 1.4 / 1.5 | C63: NUM03221012100N | D63: STOCK / EVENTUALES | E63: CAJA ELÉCTRICA DEL ACOPLADOR SCHARFENBERG MARCA SCHABU CÓDIGO 08.009.059-Z1 MODELO ID N° 230.0221601 | F63: 19 | H63: =+F63*G63 -> 0
A64: 53 | B64: 1.4 / 1.5 | C64: NUM03220930100N | D64: STOCK / EVENTUALES | E64: Traba de puerta gabiente neumatico | F64: 18 | H64: =+F64*G64 -> 0
A65: 54 | B65: 1.4 / 1.5 | C65: NUM03220560100N | D65: STOCK / EVENTUALES | E65: VENTILADOR DE TECHO DE CABINA TIPO LGF-40 | F65: 35 | H65: =+F65*G65 -> 0
A66: 55 | B66: 1.4 / 1.5 | C66: NUM03210170340N | D66: STOCK / EVENTUALES | E66: BOQUILLA DE INYECCION PARA ARENERO. LOC SDD7. boquilla de caño. | F66: 52 | H66: =+F66*G66 -> 0
A67: 56 | B67: 1.4 / 1.5 | C67: NUM03299001440N | D67: STOCK / EVENTUALES | E67: Filtro de aire pasillo (metalico tubular) | F67: 35 | H67: =+F67*G67 -> 0
A68: 57 | B68: 1.4 / 1.5 | C68: NUM03280225900N | D68: STOCK / EVENTUALES | E68: CQJZ-A Válvula magnética de aplicacion de freno de emergencia | F68: 1 | H68: =+F68*G68 -> 0
A69: 58 | B69: 1.4 / 1.5 | C69: NUM03231201700N | D69: STOCK / EVENTUALES | E69: Conjunto indicador de aceite caja de velocidad. | F69: 28 | H69: =+F69*G69 -> 0
A70: 59 | B70: 1.4 / 1.5 | C70: NUM03231201700N | D70: STOCK / EVENTUALES | E70: Conjunto indicador de nivel de aceite delantero | F70: 13 | H70: =+F70*G70 -> 0
A71: 60 | B71: 1.4 / 1.5 | C71: NUM03299001440N | D71: STOCK / EVENTUALES | E71: Filtros de carrocería | F71: 44 | H71: =+F71*G71 -> 0
A72: 61 | B72: 1.4 / 1.5 | C72: NUM03250302470N | D72: STOCK / EVENTUALES | E72: Junta de Cobre de Válvula de Admisión y Escape | F72: 38 | H72: =+F72*G72 -> 0
A73: 62 | B73: 1.4 / 1.5 | C73: NUM03250302470N | D73: STOCK / EVENTUALES | E73: Junta | F73: 13 | H73: =+F73*G73 -> 0
... A367: 356 | B367: 1.4 / 1.5 | C367: NUM03250821500N | D367: STOCK / EVENTUALES | E367: VALVULA WABCO H5 | F367: 2 | H367: =+F367*G367 -> 0
A368: 357 | C368: NUM03250890640N | D368: STOCK / EVENTUALES | E368: RESORTE INTERNO. Valvula rele de aire H5. Loc CSR SDD7. | F368: 12 | H368: =+F368*G368 -> 0
...

Sheet 2.1 Planilla Cotizacion Banco
B1: PORTADA
A3: RENGLON | B3: SUBRENGLON | C3: DESCRIPCION | D3: TOTAL
A4: II HERRAMENTAL | B4: 2.1 | C4: BANCO DE PRUEBAS PARA VALVULAS 26 L.
A5: TOTAL RENGLON II HERRAMENTAL | D5: =D4 -> 0

Sheet Subrenglon 3.1 y 3.2
B1: PORTADA | C1: PLANILLA DE COTIZACION
A3: SUBRENGLON | B3: CONCEPTO | C3: DESCRIPCION | D3: CANTIDAD | E3: P. UNITARIO | F3: P. TOTAL
A4: 3.1 | B4: MANTENIMIENTO Y CAPACITACION DE 80 COCHES CSR PUZHEN | C4: MANO DE OBRA PARA MANTENIMIENTO PREVENTIVO MEDIANO DE FURGON CSR PUZHEN Y CAPACITACION TECNICA A 20 OPERARIOS PARA LA REPARACION DE FURGONES CSR PUZHEN | D4: 24 | E4: ='3.6 Planilla Cotizacion CyF'!G8 -> 0 | F4: =+(E4+E5)*D4 -> 0
C5: TOTAL REPUESTOS MANDATARIOS TABLA 3.1.1 | D5: 24 | E5: =SUM(F21:F246) -> 0
C6: MANO DE OBRA PARA MANTENIMIENTO PREVENTIVO MEDIANO DE COCHES CSR PUZHEN Y CAPACITACION TECNICA A 20 OPERARIOS PARA LA REPARACION DE COCHES CSR PUZHEN | D6: 56 | E6: ='3.6 Planilla Cotizacion CyF'!G10 -> 0 | F6: =+(E6+E7)*D6 -> 0
C7: TOTAL REPUESTOS MANDATARIOS TABLA 3.1.2 | D7: 56 | E7: =SUM(F252:F337) -> 0
A8: TOTAL SUBRENGLON 3.1 | F8: =SUM(F4:F7) -> 0
A10: SUBRENGLON | B10: CONCEPTO | C10: DESCRIPCION | D10: CANTIDAD | E10: P. UNITARIO | F10: P. TOTAL
A11: 3.2 | B11: ASISTENCIA Y SUPERVISION TECNICA DE 80 COCHES CSR PUZHEN | C11: ASISTENCIA Y SUPERVISION TECNICA A 20 OPERARIOS PARA EL MANTENIMIENTO PREVENTIVO MEDIANO DE FURGON CSR PUZHEN | D11: 24 | E11: ='3.6 Planilla Cotizacion CyF'!G12 -> 0 | F11: =(E11+E12)*D11 -> 0
C12: TOTAL REPUESTOS MANDATARIOS TABLA 3.1.1 | D12: 24 | E12: =SUM(F21:F246) -> 0
C13: ASISTENCIA Y SUPERVISION TECNICA A 20 OPERARIOS PARA EL MANTENIMIENTO PREVENTIVO MEDIANO DE COCHES CSR PUZHEN | D13: 56 | E13: ='3.6 Planilla Cotizacion CyF'!G14 -> 0 | F13: =(E13+E14)*D13 -> 0
C14: TOTAL REPUESTOS MANDATARIOS TABLA 3.1.2 | D14: 56 | E14: =SUM(F252:F337) -> 0
A15: TOTAL SUBRENGLON 3.2 | F15: =SUM(F11:F14) -> 0
A19: TOTAL REPUESTOS MANDATARIOS TABLA 3.1.1
A20: Item | B20: Grupo | C20: Descripcion | D20: Mandatorio | E20: P. Unitario | F20: P. Total
A21: I-1 INST. INTERIORES | B21: Cerraduras | C21: CERRADURA PUERTA MOTOGENERADOR | D21: 1 | E21: =VLOOKUP(C21,'3.6 Planilla Cotizacion CyF'!$E$16:$G$574,3,FALSE) -> 0 | F21: =E21*D21 -> 0
A22: I-1 INST. INTERIORES | B22: Cerraduras | C22: CERRADURA PARA CERROJO ANULACIÓN PUERTAS COCHE CSR PUZHEN | D22: 1 | E22: =VLOOKUP(C22,'3.6 Planilla Cotizacion CyF'!$E$16:$G$574,3,FALSE) -> 0 | F22: =E22*D22 -> 0
A23: I-1 INST. INTERIORES | B23: Cerraduras | C23: CERRADURA PARA BOTONERA DE COMANDO DE PUERTAS LATERALES (Guarda) | D23: 1 | E23: =VLOOKUP(C23,'3.6 Planilla Cotizacion CyF'!$E$16:$G$574,3,FALSE) -> 0 | F23: =E23*D23 -> 0
A24: I-1 INST. INTERIORES | B24: Cerraduras | C24: CERRADURA PARA TABLERO DE COMANDO DE MOTOGENERADOR Y TABLERO GENERAL | D24: 1 | E24: =VLOOKUP(C24,'3.6 Planilla Cotizacion CyF'!$E$16:$G$574,3,FALSE) -> 0 | F24: =E24*D24 -> 0
A25: I-1 INST. INTERIORES | B25: Cerraduras | C25: CERRADURA RETRACTIL TAMBOR LARGO PARA PUERTA DE GABINETE DE PLC/INTERCOM | D25: 1 | E25: =VLOOKUP(C25,'3.6 Planilla Cotizacion CyF'!$E$16:$G$574,3,FALSE) -> 0 | F25: =E25*D25 -> 0
A26: I-1 INST. INTERIORES | B26: Cerraduras | C26: CERRADURA STANDAR PARA TAPA DE INSPECCION MAQUINA DE PUERTAS,TAPAS INT TABLEROS,F.EMERG | D26: 12 | E26: =VLOOKUP(C26,'3.6 Planilla Cotizacion CyF'!$E$16:$G$574,3,FALSE) -> 0 | F26: =E26*D26 -> 0
A27: I-1 INST. INTERIORES | B27: Cerraduras | C27: CERRADURA PARA ACCESO EXTERNO DE PUERTAS (HEXAGONAL) | D27: 1 | E27: =VLOOKUP(C27,'3.6 Planilla Cotizacion CyF'!$E$16:$G$574,3,FALSE) -> 0 | F27: =E27*D27 -> 0
A28: I-1 INST. INTERIORES | B28: Cerraduras | C28: CERRADURA RETRACTIL TAMBOR CORTO TAPA PRINCIPAL DE TABLEROS ELECTRICOS/ FRENO EMERG SALON | D28: 1 | E28: =VLOOKUP(C28,'3.6 Planilla Cotizacion CyF'!$E$16:$G$574,3,FALSE) -> 0 | F28: =E28*D28 -> 0
A29: I-1 INST. INTERIORES | B29: Materiales Generales | C29: ARANDELA PLANA - DIAMETRO INT- 6 MM X DIAMETRO EXT- 16 MM X 2.5 MM ESPESOR - ACERO SAE 1010.- | D29: 100 | E29: =VLOOKUP(C29,'3.6 Planilla Cotizacion CyF'!$E$16:$G$574,3,FALSE) -> 0 | F29: =E29*D29 -> 0
A30: I-1 INST. INTERIORES | B30: Materiales Generales | C30: TORNILLO C/FRESADA M6X1X20 CINC AMAR | D30: 100 | E30: =VLOOKUP(C30,'3.6 Planilla Cotizacion CyF'!$E$16:$G$574,3,FALSE) -> 0 | F30: =E30*D30 -> 0
A31: I-1 INST. INTERIORES | B31: Materiales Generales | C31: TORNILLOS CABEZA FRESADA - ALLEN - M5 X 0.8 X 16 MM - ACERO INOXIDABLE.- | D31: 100 | E31: =VLOOKUP(C31,'3.6 Planilla Cotizacion CyF'!$E$16:$G$574,3,FALSE) -> 0 | F31: =E31*D31 -> 0
A32: I-1 INST. INTERIORES | B32: Materiales Generales | C32: TORNILLOS CABEZA FRESADA - ALLEN - M6 X 1 X 26 MM - ACERO INOXIDABLE.- | D32: 100 | E32: =VLOOKUP(C32,'3.6 Planilla Cotizacion CyF'!$E$16:$G$574,3,FALSE) -> 0 | F32: =E32*D32 -> 0
... A246: IV-NEUMÁTICA | B246: Suspensión secundaria | C246: PLACA DE PRESIÓN SUSP. NEUM. BALONA FI520D P/ COCHE PUZHEN | D246: 4 | E246: =VLOOKUP(C246,'3.6 Planilla Cotizacion CyF'!$E$16:$G$574,3,FALSE) -> 0 | F246: =E246*D246 -> 0
A250: REPUESTOS MANDATARIOS TABLA 3.1.2
A251: Item | B251: Grupo | C251: Descripcion | D251: Mandatorio | E251: P. Unitario | F251: P. Total
A252: I-1 INST. INTERIORES | B252: Cerraduras | C252: CERRADURA PUERTA MOTOGENERADOR | D252: 1 | E252: =VLOOKUP(C252,'3.6 Planilla Cotizacion CyF'!$E$16:$G$574,3,FALSE) -> 0 | F252: =E252*D252 -> 0
A253: I-1 INST. INTERIORES | B253: Cerraduras | C253: CERRADURA PARA CERROJO ANULACIÓN PUERTAS COCHE CSR PUZHEN | D253: 1 | E253: =VLOOKUP(C253,'3.6 Planilla Cotizacion CyF'!$E$16:$G$574,3,FALSE) -> 0 | F253: =E253*D253 -> 0
A254: I-1 INST. INTERIORES | B254: Cerraduras | C254: CERRADURA PARA BOTONERA DE COMANDO DE PUERTAS LATERALES (Guarda) | D254: 1 | E254: =VLOOKUP(C254,'3.6 Planilla Cotizacion CyF'!$E$16:$G$574,3,FALSE) -> 0 | F254: =E254*D254 -> 0
A255: I-1 INST. INTERIORES | B255: Cerraduras | C255: CERRADURA PARA TABLERO DE COMANDO DE MOTOGENERADOR Y TABLERO GENERAL | D255: 1 | E255: =VLOOKUP(C255,'3.6 Planilla Cotizacion CyF'!$E$16:$G$574,3,FALSE) -> 0 | F255: =E255*D255 -> 0
A256: I-1 INST. INTERIORES | B256: Cerraduras | C256: CERRADURA RETRACTIL TAMBOR LARGO PARA PUERTA DE GABINETE DE PLC/INTERCOM | D256: 1 | E256: =VLOOKUP(C256,'3.6 Planilla Cotizacion CyF'!$E$16:$G$574,3,FALSE) -> 0 | F256: =E256*D256 -> 0
A257: I-1 INST. INTERIORES | B257: Cerraduras | C257: CERRADURA STANDAR PARA TAPA DE INSPECCION MAQUINA DE PUERTAS,TAPAS INT TABLEROS,F.EMERG | D257: 12 | E257: =VLOOKUP(C257,'3.6 Planilla Cotizacion CyF'!$E$16:$G$574,3,FALSE) -> 0 | F257: =E257*D257 -> 0
A258: I-1 INST. INTERIORES | B258: Cerraduras | C258: CERRADURA PARA ACCESO EXTERNO DE PUERTAS (HEXAGONAL) | D258: 1 | E258: =VLOOKUP(C258,'3.6 Planilla Cotizacion CyF'!$E$16:$G$574,3,FALSE) -> 0 | F258: =E258*D258 -> 0
A259: I-1 INST. INTERIORES | B259: Cerraduras | C259: CERRADURA RETRACTIL TAMBOR CORTO TAPA PRINCIPAL DE TABLEROS ELECTRICOS/ FRENO EMERG SALON | D259: 1 | E259: =VLOOKUP(C259,'3.6 Planilla Cotizacion CyF'!$E$16:$G$574,3,FALSE) -> 0 | F259: =E259*D259 -> 0
A260: I-1 INST. INTERIORES | B260: Materiales Generales | C260: ARANDELA PLANA - DIAMETRO INT- 6 MM X DIAMETRO EXT- 16 MM X 2.5 MM ESPESOR - ACERO SAE 1010.- | D260: 100 | E260: =VLOOKUP(C260,'3.6 Planilla Cotizacion CyF'!$E$16:$G$574,3,FALSE) -> 0 | F260: =E260*D260 -> 0
A261: I-1 INST. INTERIORES | B261: Materiales Generales | C261: TORNILLO C/FRESADA M6X1X20 CINC AMAR | D261: 100 | E261: =VLOOKUP(C261,'3.6 Planilla Cotizacion CyF'!$E$16:$G$574,3,FALSE) -> 0 | F261: =E261*D261 -> 0
...

Sheet Subrenglon 3.3
B1: PORTADA | C1: PLANILLA DE COTIZACION
B3: SUBRENGLON | C3: DESCRIPCION | D3: P. TOTAL
B4: 3.3 | C4: TOTAL REPUESTOS PARA STOCK FURGON CSR - TABLA 3.3.1 | D4: =SUM(F13:F441) -> 0
C5: TOTAL REPUESTOS PARA STOCK COCHES CSR - TABLA 3.3.2 | D5: =SUM(F448:F700) -> 0
C6: TOTAL REPUESTOS PARA STOCK FORMACION 15 - TABLA 3.3.3 | D6: =SUM(F705:F840) -> 0
B7: TOTAL SUBRENGLON 3.3 | D7: =SUM(D4:D6) -> 0
A11: REPUESTOS PARA STOCK FURGON CSR - TABLA 3.3.1
A12: Item | B12: Grupo | C12: Descripcion | D12: Stock de Seguridad | E12: P. Unitario | F12: P. Total
A13: III-2 - ACOPLES | B13: Acople Automático Scharfenberg | C13: conjunto de acoplador semipermanente - coche puzhen | D13: 6 | E13: =VLOOKUP(C13,'3.6 Planilla Cotizacion CyF'!$E$16:$G$574,3,FALSE) -> 0 | F13: =E13*D13 -> 0
A14: III-2 - ACOPLES | B14: Acople Automático Scharfenberg | C14: Acoplador automático Scharfenberg coche CSR PUZHEN | D14: 2 | E14: =VLOOKUP(C14,'3.6 Planilla Cotizacion CyF'!$E$16:$G$574,3,FALSE) -> 0 | F14: =E14*D14 -> 0
A15: III-2 - ACOPLES | B15: Acople Automático Scharfenberg | C15: DISPOSITIVO DE CENTRADO. ACOPLADOR AUTOMATICO SCHARFENBERG VOITH | D15: 4 | E15: =VLOOKUP(C15,'3.6 Planilla Cotizacion CyF'!$E$16:$G$574,3,FALSE) -> 0 | F15: =E15*D15 -> 0
A16: III-7 - BOGIES | B16: Bogies | C16: ELEMENTO FRENANTE COMPLETO DE COCHE PUZHEN | D16: 20 | E16: =VLOOKUP(C16,'3.6 Planilla Cotizacion CyF'!$E$16:$G$574,3,FALSE) -> 0 | F16: =E16*D16 -> 0
A17: IV-NEUMÁTICA | B17: Acople Automático Scharfenberg | C17: CAJA ELÉCTRICA DEL ACOPLADOR SCHARFENBERG MARCA SCHABU CÓDIGO 08.009.059-Z1 MODELO ID N° 230.0221601 | D17: 5 | E17: =VLOOKUP(C17,'3.6 Planilla Cotizacion CyF'!$E$16:$G$574,3,FALSE) -> 0 | F17: =E17*D17 -> 0
A18: III-5 - MOTOR DIESEL | B18: Perkins | C18: BOMBA INYECTORA MOTOR PERKINS | D18: 12 | E18: =VLOOKUP(C18,'3.6 Planilla Cotizacion CyF'!$E$16:$G$574,3,FALSE) -> 0 | F18: =E18*D18 -> 0
A19: III-2 - ACOPLES | B19: Acople Automático Scharfenberg | C19: Soporte de dispositivo de centrado de acopador automatico Scharfenberg. | D19: 48 | E19: =VLOOKUP(C19,'3.6 Planilla Cotizacion CyF'!$E$16:$G$574,3,FALSE) -> 0 | F19: =E19*D19 -> 0
A20: III-2 - ACOPLES | B20: Acople Automático Scharfenberg | C20: Barra. Mecanismo de mando de la botonera. Acople automatico Scharfenberg. Loc CSR SDD7. | D20: 24 | E20: =VLOOKUP(C20,'3.6 Planilla Cotizacion CyF'!$E$16:$G$574,3,FALSE) -> 0 | F20: =E20*D20 -> 0
A21: III-7 - BOGIES | B21: Bogies | C21: CAJA DE PUNTA DE EJE. COCHE CSR PUZHEN | D21: 20 | E21: =VLOOKUP(C21,'3.6 Planilla Cotizacion CyF'!$E$16:$G$574,3,FALSE) -> 0 | F21: =E21*D21 -> 0
A22: III-7 - BOGIES | B22: Bogies | C22: Eslinga de seguridad. Boguies Coches CSR Puzhen. | D22: 96 | E22: =VLOOKUP(C22,'3.6 Planilla Cotizacion CyF'!$E$16:$G$574,3,FALSE) -> 0 | F22: =E22*D22 -> 0
A23: I-2 FUELLES INTERCONEXIÓN | B23: Pasarela | C23: FUELLE DE INTERCOMUNICACIËN ENTRE COCHES CSR PUZHEN | D23: 18 | E23: =VLOOKUP(C23,'3.6 Planilla Cotizacion CyF'!$E$16:$G$574,3,FALSE) -> 0 | F23: =E23*D23 -> 0
A24: III-7 - BOGIES | B24: Bogies | C24: DISCO DE FRENO DE COCHE REMOLCADO CSR PUZHEN | D24: 20 | E24: =VLOOKUP(C24,'3.6 Planilla Cotizacion CyF'!$E$16:$G$574,3,FALSE) -> 0 | F24: =E24*D24 -> 0
... A30: II-1 - PUERTA CORREDIZA | B30: Electricidad | C30: Conjunto sensor de traba de puerta - coche Puzhen | D30: 72 | E30: =VLOOKUP(C30,'3.6 Planilla Cotizacion CyF'!$E$16:$G$574,3,FALSE) -> 0 | F30: =E30*D30 -> 0
A31: III-LEVANTE | C31: Mecanismo anti acaballamiento de coches CSR PUZHEN | D31: 10 | E31: =VLOOKUP(C31,'3.6 Planilla Cotizacion CyF'!$E$16:$G$574,3,FALSE) -> 0 | F31: =E31*D31 -> 0
B32: Electrónica | C32: UNIDAD ELECTRONICA WSP (ANTIPATINAMIENTO)-COCHE PUZHEN | D32: 3 | E32: =VLOOKUP(C32,'3.6 Planilla Cotizacion CyF'!$E$16:$G$574,3,FALSE) -> 0 | F32: =E32*D32 -> 0
A33: I-1 INST. INTERIORES | B33: Ventanas | C33: PAÑO MOVIL VENTANA SALON 1200MM (MODIFICADO) REVESTIMIENTO INT. COCHES CSR PUZHEN. | D33: 50 | E33: =VLOOKUP(C33,'3.6 Planilla Cotizacion CyF'!$E$16:$G$574,3,FALSE) -> 0 | F33: =E33*D33 -> 0
A34: I-1 INST. INTERIORES | B34: Asientos | C34: Respaldo derecho. Asiento doble. Coche Puzhen | D34: 53 | E34: =VLOOKUP(C34,'3.6 Planilla Cotizacion CyF'!$E$16:$G$574,3,FALSE) -> 0 | F34: =E34*D34 -> 0
A35: I-1 INST. INTERIORES | B35: Asientos | C35: Respaldo izquierdo. Asiento doble. Coche Puzhen | D35: 53 | E35: =VLOOKUP(C35,'3.6 Planilla Cotizacion CyF'!$E$16:$G$574,3,FALSE) -> 0 | F35: =E35*D35 -> 0
A36: IV-NEUMÁTICA | B36: Cilindro de Freno | C36: Cilindro de freno.- Coche CSR Puzhen. | D36: 20 | E36: =VLOOKUP(C36,'3.6 Planilla Cotizacion CyF'!$E$16:$G$574,3,FALSE) -> 0 | F36: =E36*D36 -> 0
A37: III-7 - BOGIES | B37: Suspensión | C37: Conjunto Suspensión Neumática Balona de Aire FI520D p/ COCHE PUZHEN | D37: 10 | E37: =VLOOKUP(C37,'3.6 Planilla Cotizacion CyF'!$E$16:$G$574,3,FALSE) -> 0 | F37: =E37*D37 -> 0
A38: III-5 - MOTOR DIESEL | B38: Perkins | C38: Juego de juntas superior. Motor diesel de motogenerador. CSR Puzhen. | D38: 48 | E38: =VLOOKUP(C38,'3.6 Planilla Cotizacion CyF'!$E$16:$G$574,3,FALSE) -> 0 | F38: =E38*D38 -> 0
A39: I-1 INST. INTERIORES | B39: Asientos | C39: Brazo del Apoyabraso coche CSR Puzhen | D39: 53 | E39: =VLOOKUP(C39,'3.6 Planilla Cotizacion CyF'!$E$16:$G$574,3,FALSE) -> 0 | F39: =E39*D39 -> 0
A40: III-2 - ACOPLES | B40: Acople Automático Scharfenberg | C40: CONTACTO HEMBRA DORADO K08 DE ACOPLADOR | D40: 360 | E40: =VLOOKUP(C40,'3.6 Planilla Cotizacion CyF'!$E$16:$G$574,3,FALSE) -> 0 | F40: =E40*D40 -> 0
A41: III-7 - BOGIES | B41: Bogies | C41: RODAMIENTO DE PUNTA DE EJE | D41: 20 | E41: =VLOOKUP(C41,'3.6 Planilla Cotizacion CyF'!$E$16:$G$574,3,FALSE) -> 0 | F41: =E41*D41 -> 0
A42: III-7 - BOGIES | B42: Bogies | C42: RODAMIENTO PUNTA DE EJE | D42: 20 | E42: =VLOOKUP(C42,'3.6 Planilla Cotizacion CyF'!$E$16:$G$574,3,FALSE) -> 0 | F42: =E42*D42 -> 0
A43: III-2 - ACOPLES | B43: Acople Automático Scharfenberg | C43: Palanca. Mecanismo de mando de la botonera. Acople automatico Scharfenberg. Loc CSR SDD7. | D43: 24 | E43: =VLOOKUP(C43,'3.6 Planilla Cotizacion CyF'!$E$16:$G$574,3,FALSE) -> 0 | F43: =E43*D43 -> 0
A44: II-ELECTRICIDAD | B44: Ventiladores | C44: Motor de Ventilador | D44: 13 | E44: =VLOOKUP(C44,'3.6 Planilla Cotizacion CyF'!$E$16:$G$574,3,FALSE) -> 0 | F44: =E44*D44 -> 0
... A185: IV-NEUMÁTICA | B185: Suspensión secundaria | C185: PLACA DE PRESIÓN SUSP. NEUM. BALONA FI520D P/ COCHE PUZHEN | D185: 10 | E185: =VLOOKUP(C185,'3.6 Planilla Cotizacion CyF'!$E$16:$G$574,3,FALSE) -> 0 | F185: =E185*D185 -> 0
C186: BALASTO ELECTRONICO DE 1X28W 220V CA. COCHE PUZHEN | D186: 10 | E186: =VLOOKUP(C186,'3.6 Planilla Cotizacion CyF'!$E$16:$G$574,3,FALSE) -> 0 | F186: =E186*D186 -> 0
A187: IV-NEUMÁTICA | B187: Acople Automático Scharfenberg | C187: Rotulo avisador de Componente Neumático Ac. Sch. | D187: 24 | E187: =VLOOKUP(C187,'3.6 Planilla Cotizacion CyF'!$E$16:$G$574,3,FALSE) -> 0 | F187: =E187*D187 -> 0
A188: I-1 INST. INTERIORES | B188: Porta equipajes | C188: TUBO PARA PORTAEQUIPAJE X 3430MM Ï 17. COCHE CSR PUZHEN. | D188: 20 | E188: =VLOOKUP(C188,'3.6 Planilla Cotizacion CyF'!$E$16:$G$574,3,FALSE) -> 0 | F188: =E188*D188 -> 0
A189: III-2 - ACOPLES | B189: Acople Automático Scharfenberg | C189: Trinquete. Cabeza de enganche. Acople automatico Scharfenberg. Loc CSR SDD7. | D189: 24 | E189: =VLOOKUP(C189,'3.6 Planilla Cotizacion CyF'!$E$16:$G$574,3,FALSE) -> 0 | F189: =E189*D189 -> 0
...

Sheet Subrenglon 3.4
B1: PORTADA | C1: PLANILLA DE COTIZACION
B3: SUBRENGLON | C3: DESCRIPCION | D3: P. TOTAL
B4: 3.4 | C4: TOTAL EVENTUALES PARA COCHES FURGON CSR PUZHEN - TABLA 3.4.1 | D4: =SUM(F12:F204) -> 0
C5: TOTAL EVENTUALES PARA COCHES CSR PUZHEN- TABLA 3.4.2 | D5: =SUM(F211:F370) -> 0
B6: TOTAL SUBRENGLON 3.4 | D6: =D4+D5 -> 0
A10: EVENTUALES PARA COCHES FURGON CSR PUZHEN - TABLA 3.4.1
A11: Item | B11: Grupo | C11: Descripcion | D11: Eventuales | E11: P. Unitario | F11: P. Total
A12: III-2 - ACOPLES | B12: Acople Automático Scharfenberg | C12: Acoplador automático Scharfenberg coche CSR PUZHEN | D12: 4 | E12: =VLOOKUP(C12,'3.6 Planilla Cotizacion CyF'!$E$16:$G$574,3,FALSE) -> 0 | F12: =E12*D12 -> 0
A13: III-7 - BOGIES | B13: Bogies | C13: ELEMENTO FRENANTE COMPLETO DE COCHE PUZHEN | D13: 60 | E13: =VLOOKUP(C13,'3.6 Planilla Cotizacion CyF'!$E$16:$G$574,3,FALSE) -> 0 | F13: =E13*D13 -> 0
A14: IV-NEUMÁTICA | B14: Acople Automático Scharfenberg | C14: CAJA ELÉCTRICA DEL ACOPLADOR SCHARFENBERG MARCA SCHABU CÓDIGO 08.009.059-Z1 MODELO ID N° 230.0221601 | D14: 10 | E14: =VLOOKUP(C14,'3.6 Planilla Cotizacion CyF'!$E$16:$G$574,3,FALSE) -> 0 | F14: =E14*D14 -> 0
A15: III-7 - BOGIES | B15: Bogies | C15: CAJA DE PUNTA DE EJE. COCHE CSR PUZHEN | D15: 60 | E15: =VLOOKUP(C15,'3.6 Planilla Cotizacion CyF'!$E$16:$G$574,3,FALSE) -> 0 | F15: =E15*D15 -> 0
A16: III-7 - BOGIES | B16: Bogies | C16: DISCO DE FRENO DE COCHE REMOLCADO CSR PUZHEN | D16: 60 | E16: =VLOOKUP(C16,'3.6 Planilla Cotizacion CyF'!$E$16:$G$574,3,FALSE) -> 0 | F16: =E16*D16 -> 0
A17: III-7 - BOGIES | B17: Bogies | C17: Amortiguador hidraulico de suspension primaria | D17: 60 | E17: =VLOOKUP(C17,'3.6 Planilla Cotizacion CyF'!$E$16:$G$574,3,FALSE) -> 0 | F17: =E17*D17 -> 0
A18: I-2 FUELLES INTERCONEXIÓN | B18: Pasarela | C18: FUELLE DE INTERCOMUNICACIËN ENTRE COCHES CSR PUZHEN | D18: 53 | E18: =VLOOKUP(C18,'3.6 Planilla Cotizacion CyF'!$E$16:$G$574,3,FALSE) -> 0 | F18: =E18*D18 -> 0
A19: III-7 - BOGIES | B19: Bogies | C19: Tapa de Punta de eje (Puesta a tierra). Coche CSR Puzhen. | D19: 60 | E19: =VLOOKUP(C19,'3.6 Planilla Cotizacion CyF'!$E$16:$G$574,3,FALSE) -> 0 | F19: =E19*D19 -> 0
A20: III-LEVANTE | C20: Mecanismo anti acaballamiento de coches CSR PUZHEN | D20: 30 | E20: =VLOOKUP(C20,'3.6 Planilla Cotizacion CyF'!$E$16:$G$574,3,FALSE) -> 0 | F20: =E20*D20 -> 0
A21: I-1 INST. INTERIORES | B21: Ventanas | C21: PAÑO MOVIL VENTANA SALON 1200MM (MODIFICADO) REVESTIMIENTO INT. COCHES CSR PUZHEN. | D21: 150 | E21: =VLOOKUP(C21,'3.6 Planilla Cotizacion CyF'!$E$16:$G$574,3,FALSE) -> 0 | F21: =E21*D21 -> 0
A22: I-1 INST. INTERIORES | B22: Asientos | C22: Respaldo derecho. Asiento doble. Coche Puzhen | D22: 157 | E22: =VLOOKUP(C22,'3.6 Planilla Cotizacion CyF'!$E$16:$G$574,3,FALSE) -> 0 | F22: =E22*D22 -> 0
A23: I-1 INST. INTERIORES | B23: Asientos | C23: Respaldo izquierdo. Asiento doble. Coche Puzhen | D23: 158 | E23: =VLOOKUP(C23,'3.6 Planilla Cotizacion CyF'!$E$16:$G$574,3,FALSE) -> 0 | F23: =E23*D23 -> 0
A24: IV-NEUMÁTICA | B24: Cilindro de Freno | C24: Cilindro de freno.- Coche CSR Puzhen. | D24: 60 | E24: =VLOOKUP(C24,'3.6 Planilla Cotizacion CyF'!$E$16:$G$574,3,FALSE) -> 0 | F24: =E24*D24 -> 0
A25: III-7 - BOGIES | B25: Suspensión | C25: Conjunto Suspensión Neumática Balona de Aire FI520D p/ COCHE PUZHEN | D25: 30 | E25: =VLOOKUP(C25,'3.6 Planilla Cotizacion CyF'!$E$16:$G$574,3,FALSE) -> 0 | F25: =E25*D25 -> 0
A26: I-1 INST. INTERIORES | B26: Asientos | C26: Brazo del Apoyabraso coche CSR Puzhen | D26: 157 | E26: =VLOOKUP(C26,'3.6 Planilla Cotizacion CyF'!$E$16:$G$574,3,FALSE) -> 0 | F26: =E26*D26 -> 0
