Workbook

Sheet Planilla Cotización
B2: ANEXO A - PLANILLA DE COTIZACIÓN
B5: Procedimiento de Selección N°: | I5: DETALLE PROVEEDOR
I6: Razón Social
B7: Clase de Contratación: | I7: C.U.I.T.
I8: Tel.:
B9: Expediente: | I9: E-Mail:
I10: Moneda:
B12: Renglón | C12: Cantidad | D12: U/M | E12: Código SAP | F12: Descripción SAP | G12: Referencia de Fábrica | H12: Especificación Técnica | I12: Precio Unitario | J12: I.V.A. (%) | K12: Subtotal I.V.A. $ | L12: Subtotal (sin I.V.A.)
B14: 1 | C14: =VLOOKUP(B14,'Completar SOFSE'!$A$6:$H$180,2,FALSE) -> 8 | D14: =VLOOKUP(B14,'Completar SOFSE'!$A$6:$H$180,3,FALSE) -> C/U | E14: =VLOOKUP(B14,'Completar SOFSE'!$A$6:$H$180,4,FALSE) -> 10000000117 | F14: =VLOOKUP(B14,'Completar SOFSE'!$A$6:$H$180,6,FALSE) -> TRABAJOS Y REPUESTOS BÁSICOS PARA LA REPARACIÓN DEL BOGIE QSJZ8 DE LOCOMOTORA SDD7 | G14: =VLOOKUP(B14,'Completar SOFSE'!$A$6:$H$180,7,FALSE) -> -- | H14: =VLOOKUP(B14,'Completar SOFSE'!$A$6:$H$180,8,FALSE) -> ET 0046/21 - EMISIÓN 3 | K14: =+(C14*I14)*J14 -> 0 | L14: =+C14*I14 -> 0
B15: 2 | C15: =VLOOKUP(B15,'Completar SOFSE'!$A$6:$H$180,2,FALSE) -> 56 | D15: =VLOOKUP(B15,'Completar SOFSE'!$A$6:$H$180,3,FALSE) -> C/U | E15: =VLOOKUP(B15,'Completar SOFSE'!$A$6:$H$180,4,FALSE) -> 1000026946 | F15: =VLOOKUP(B15,'Completar SOFSE'!$A$6:$H$180,6,FALSE) -> PLACA SEG P/BULON LATERAL DE CARCAZA 0.3 | G15: =VLOOKUP(B15,'Completar SOFSE'!$A$6:$H$180,7,FALSE) -> 606040600024 | H15: =VLOOKUP(B15,'Completar SOFSE'!$A$6:$H$180,8,FALSE) -> 0.32.1.02.0LSMR001 | K15: =+(C15*I15)*J15 -> 0 | L15: =+C15*I15 -> 0
B16: 3 | C16: =VLOOKUP(B16,'Completar SOFSE'!$A$6:$H$180,2,FALSE) -> 56 | D16: =VLOOKUP(B16,'Completar SOFSE'!$A$6:$H$180,3,FALSE) -> C/U | E16: =VLOOKUP(B16,'Completar SOFSE'!$A$6:$H$180,4,FALSE) -> 1000005566 | F16: =VLOOKUP(B16,'Completar SOFSE'!$A$6:$H$180,6,FALSE) -> BULON FIJACION P/CAJA TRANS PLANO: 0.32. | G16: =VLOOKUP(B16,'Completar SOFSE'!$A$6:$H$180,7,FALSE) -> 606040600014 | H16: =VLOOKUP(B16,'Completar SOFSE'!$A$6:$H$180,8,FALSE) -> 0.32.1.02.1100 A | K16: =+(C16*I16)*J16 -> 0 | L16: =+C16*I16 -> 0
B17: 4 | C17: =VLOOKUP(B17,'Completar SOFSE'!$A$6:$H$180,2,FALSE) -> 48 | D17: =VLOOKUP(B17,'Completar SOFSE'!$A$6:$H$180,3,FALSE) -> C/U | E17: =VLOOKUP(B17,'Completar SOFSE'!$A$6:$H$180,4,FALSE) -> 1000005594 | F17: =VLOOKUP(B17,'Completar SOFSE'!$A$6:$H$180,6,FALSE) -> BLOQ P/CAJA D/PTA EJE 606040200013 ,PLAN | G17: =VLOOKUP(B17,'Completar SOFSE'!$A$6:$H$180,7,FALSE) -> 606040200013 | H17: =VLOOKUP(B17,'Completar SOFSE'!$A$6:$H$180,8,FALSE) -> 0.32.1.05.1LSMR003 REV. A | K17: =+(C17*I17)*J17 -> 0 | L17: =+C17*I17 -> 0
B18: 5 | C18: =VLOOKUP(B18,'Completar SOFSE'!$A$6:$H$180,2,FALSE) -> 384 | D18: =VLOOKUP(B18,'Completar SOFSE'!$A$6:$H$180,3,FALSE) -> C/U | E18: =VLOOKUP(B18,'Completar SOFSE'!$A$6:$H$180,4,FALSE) -> 1000005585 | F18: =VLOOKUP(B18,'Completar SOFSE'!$A$6:$H$180,6,FALSE) -> TAPA P/BARRA DE TRACCIÓN PUNTA DE EJE 06 | G18: =VLOOKUP(B18,'Completar SOFSE'!$A$6:$H$180,7,FALSE) -> 606040201002 | H18: =VLOOKUP(B18,'Completar SOFSE'!$A$6:$H$180,8,FALSE) -> 0.32.1.05.1LSMR002 | K18: =+(C18*I18)*J18 -> 0 | L18: =+C18*I18 -> 0
B19: 6 | C19: =VLOOKUP(B19,'Completar SOFSE'!$A$6:$H$180,2,FALSE) -> 96 | D19: =VLOOKUP(B19,'Completar SOFSE'!$A$6:$H$180,3,FALSE) -> C/U | E19: =VLOOKUP(B19,'Completar SOFSE'!$A$6:$H$180,4,FALSE) -> 1000005484 | F19: =VLOOKUP(B19,'Completar SOFSE'!$A$6:$H$180,6,FALSE) -> ELASTICO DE GOMA SPENCER P/SUSP PRIM 060 | G19: =VLOOKUP(B19,'Completar SOFSE'!$A$6:$H$180,7,FALSE) -> 606040200001 | H19: =VLOOKUP(B19,'Completar SOFSE'!$A$6:$H$180,8,FALSE) -> 0.32.1.01.2250 REV A | K19: =+(C19*I19)*J19 -> 0 | L19: =+C19*I19 -> 0
B20: 7 | C20: =VLOOKUP(B20,'Completar SOFSE'!$A$6:$H$180,2,FALSE) -> 48 | D20: =VLOOKUP(B20,'Completar SOFSE'!$A$6:$H$180,3,FALSE) -> C/U | E20: =VLOOKUP(B20,'Completar SOFSE'!$A$6:$H$180,4,FALSE) -> 1000005485 | F20: =VLOOKUP(B20,'Completar SOFSE'!$A$6:$H$180,6,FALSE) -> SUPLEM P/SUSP PRIM PLANO:0.32.1.01.2LSMR | G20: =VLOOKUP(B20,'Completar SOFSE'!$A$6:$H$180,7,FALSE) -> 606040200006 | H20: =VLOOKUP(B20,'Completar SOFSE'!$A$6:$H$180,8,FALSE) -> 0.32.1.01.2LSMR001 | K20: =+(C20*I20)*J20 -> 0 | L20: =+C20*I20 -> 0
B21: 8 | C21: =VLOOKUP(B21,'Completar SOFSE'!$A$6:$H$180,2,FALSE) -> 32 | D21: =VLOOKUP(B21,'Completar SOFSE'!$A$6:$H$180,3,FALSE) -> C/U | E21: =VLOOKUP(B21,'Completar SOFSE'!$A$6:$H$180,4,FALSE) -> 1000005535 | F21: =VLOOKUP(B21,'Completar SOFSE'!$A$6:$H$180,6,FALSE) -> VALV ARENA 0606040800009 P/LOCOMOTORA CS | G21: =VLOOKUP(B21,'Completar SOFSE'!$A$6:$H$180,7,FALSE) -> 606040800009 | H21: =VLOOKUP(B21,'Completar SOFSE'!$A$6:$H$180,8,FALSE) -> -- | K21: =+(C21*I21)*J21 -> 0 | L21: =+C21*I21 -> 0
B22: 9 | C22: =VLOOKUP(B22,'Completar SOFSE'!$A$6:$H$180,2,FALSE) -> 48 | D22: =VLOOKUP(B22,'Completar SOFSE'!$A$6:$H$180,3,FALSE) -> C/U | E22: =VLOOKUP(B22,'Completar SOFSE'!$A$6:$H$180,4,FALSE) -> 1000005472 | F22: =VLOOKUP(B22,'Completar SOFSE'!$A$6:$H$180,6,FALSE) -> ALMOHADILLA P/BARRA ELEVACION PLANO:0.32 | G22: =VLOOKUP(B22,'Completar SOFSE'!$A$6:$H$180,7,FALSE) -> 606040600012 | H22: =VLOOKUP(B22,'Completar SOFSE'!$A$6:$H$180,8,FALSE) -> 0.32.1.01.1022 | K22: =+(C22*I22)*J22 -> 0 | L22: =+C22*I22 -> 0
B23: 10 | C23: =VLOOKUP(B23,'Completar SOFSE'!$A$6:$H$180,2,FALSE) -> 8 | D23: =VLOOKUP(B23,'Completar SOFSE'!$A$6:$H$180,3,FALSE) -> C/U | E23: =VLOOKUP(B23,'Completar SOFSE'!$A$6:$H$180,4,FALSE) -> 10000000117 | F23: =VLOOKUP(B23,'Completar SOFSE'!$A$6:$H$180,6,FALSE) -> REPARACIÓN DE FISURA, MECANIZADA, RELLENADA Y TRATAMIENTO TÉRMICO. | G23: =VLOOKUP(B23,'Completar SOFSE'!$A$6:$H$180,7,FALSE) -> -- | H23: =VLOOKUP(B23,'Completar SOFSE'!$A$6:$H$180,8,FALSE) -> ET 0046/21 - EMISIÓN 3 APARTADO 14.2 | K23: =+(C23*I23)*J23 -> 0 | L23: =+C23*I23 -> 0
B24: 11 | C24: =VLOOKUP(B24,'Completar SOFSE'!$A$6:$H$180,2,FALSE) -> 8 | D24: =VLOOKUP(B24,'Completar SOFSE'!$A$6:$H$180,3,FALSE) -> C/U | E24: =VLOOKUP(B24,'Completar SOFSE'!$A$6:$H$180,4,FALSE) -> 10000000117 | F24: =VLOOKUP(B24,'Completar SOFSE'!$A$6:$H$180,6,FALSE) -> REPARACIÓN POR APORTE DE SOLDADURA, MECANIZADO, RECRECIDO, MECANIZADO FINAL Y TRATAMIENTO TÉRMICO. | G24: =VLOOKUP(B24,'Completar SOFSE'!$A$6:$H$180,7,FALSE) -> -- | H24: =VLOOKUP(B24,'Completar SOFSE'!$A$6:$H$180,8,FALSE) -> ET 0046/21 - EMISIÓN 3 APARTADO 14.2 | K24: =+(C24*I24)*J24 -> 0 | L24: =+C24*I24 -> 0
B25: Subtotal (sin I.V.A.) | K25: =SUM(K14:K24) -> 0 | L25: =SUM(L14:L24) -> 0
B26: I.V.A. | L26: =K25 -> 0
B27: Total (con I.V.A.) | L27: =+L25+L26 -> 0
F28: Total letras
B29: Condición de pago: Según pliego
B30: Plazo de entrega: Según pliego
B31: Lugar de entrega: Según pliego
B32: Mantenimiento de oferta: Según pliego

Sheet Completar SOFSE
A2: Items a cotizar:
A4: Item | B4: Cantidad | C4: U/M | D4: Código SAP | E4: Nomenclador | F4: Descripción | G4: Refencia de Fábrica | H4: Plano / ET
A6: 1 | B6: 8 | C6: C/U | D6: 10000000117 | F6: TRABAJOS Y REPUESTOS BÁSICOS PARA LA REPARACIÓN DEL BOGIE QSJZ8 DE LOCOMOTORA SDD7 | G6: -- | H6: ET 0046/21 - EMISIÓN 3
A7: =+A6+1 -> 2 | B7: 56 | C7: C/U | D7: 1000026946 | F7: PLACA SEG P/BULON LATERAL DE CARCAZA 0.3 | G7: 606040600024 | H7: 0.32.1.02.0LSMR001
A8: =+A7+1 -> 3 | B8: 56 | C8: C/U | D8: 1000005566 | F8: BULON FIJACION P/CAJA TRANS PLANO: 0.32. | G8: 606040600014 | H8: 0.32.1.02.1100 A
A9: =+A8+1 -> 4 | B9: 48 | C9: C/U | D9: 1000005594 | F9: BLOQ P/CAJA D/PTA EJE 606040200013 ,PLAN | G9: 606040200013 | H9: 0.32.1.05.1LSMR003 REV. A
A10: =+A9+1 -> 5 | B10: 384 | C10: C/U | D10: 1000005585 | F10: TAPA P/BARRA DE TRACCIÓN PUNTA DE EJE 06 | G10: 606040201002 | H10: 0.32.1.05.1LSMR002
A11: =+A10+1 -> 6 | B11: 96 | C11: C/U | D11: 1000005484 | F11: ELASTICO DE GOMA SPENCER P/SUSP PRIM 060 | G11: 606040200001 | H11: 0.32.1.01.2250 REV A
A12: =+A11+1 -> 7 | B12: 48 | C12: C/U | D12: 1000005485 | F12: SUPLEM P/SUSP PRIM PLANO:0.32.1.01.2LSMR | G12: 606040200006 | H12: 0.32.1.01.2LSMR001
A13: =+A12+1 -> 8 | B13: 32 | C13: C/U | D13: 1000005535 | F13: VALV ARENA 0606040800009 P/LOCOMOTORA CS | G13: 606040800009 | H13: --
A14: =+A13+1 -> 9 | B14: 48 | C14: C/U | D14: 1000005472 | F14: ALMOHADILLA P/BARRA ELEVACION PLANO:0.32 | G14: 606040600012 | H14: 0.32.1.01.1022
A15: =+A14+1 -> 10 | B15: 8 | C15: C/U | D15: 10000000117 | F15: REPARACIÓN DE FISURA, MECANIZADA, RELLENADA Y TRATAMIENTO TÉRMICO. | G15: -- | H15: ET 0046/21 - EMISIÓN 3 APARTADO 14.2
A16: =+A15+1 -> 11 | B16: 8 | C16: C/U | D16: 10000000117 | F16: REPARACIÓN POR APORTE DE SOLDADURA, MECANIZADO, RECRECIDO, MECANIZADO FINAL Y TRATAMIENTO TÉRMICO. | G16: -- | H16: ET 0046/21 - EMISIÓN 3 APARTADO 14.2
A17: =+A16+1 -> 12 | C17: C/U
A18: =+A17+1 -> 13 | C18: C/U
A19: =+A18+1 -> 14 | C19: C/U
A20: =+A19+1 -> 15 | C20: C/U
A21: =+A20+1 -> 16 | C21: C/U
A22: =+A21+1 -> 17 | C22: C/U
A23: =+A22+1 -> 18 | C23: C/U
A24: =+A23+1 -> 19 | C24: C/U
A25: =+A24+1 -> 20 | C25: C/U
A26: =+A25+1 -> 21 | C26: C/U
A27: =+A26+1 -> 22 | C27: C/U
A28: =+A27+1 -> 23 | C28: C/U
... A180: =+A179+1 -> 175 | C180: C/U
