Workbook

Sheet Planilla Nacional
B2: ANEXO A - PLANILLA COTIZACIÓN BIENES DE ORIGEN NACIONAL / NACIONALIZADOS
H5: DETALLE PROVEEDOR
B6: Clase de Contratación: | D6: Contratación Directa por Adjudicación Simple | H6: Razón Social
B7: Expediente: | D7: =+'Completar SOFSE'!B7 -> EX-2019-81618164-APN-SG#SOFSE
B8: Objeto: | D8: =+'Completar SOFSE'!B8 -> ADQUISICIÓN DE REPUESTOS PARA EL MANTENIMIENTO PREVENTIVO MEDIANO DE COCHES CSR PUZHEN DE LA LÍNEA SAN MARTÍN | H8: C.U.I.T.
H9: Tel.:
H10: E-Mail:
B11: Adjudicación : | D11: Global | H11: Moneda:
B13: Renglón | C13: Cantidad | D13: U/M | E13: Código | F13: Descripción | G13: Referencia de Fábrica | H13: Precio Unitario | I13: I.V.A. | J13: Subtotal I.V.A. $ | K13: Subtotal
B15: =+'Completar SOFSE'!A21 -> 1 | C15: =VLOOKUP(B15,'Completar SOFSE'!$A$19:$E$354,2,0) -> 960 | D15: =VLOOKUP(B15,'Completar SOFSE'!$A$19:$E$354,3,0) -> unidad | E15: =VLOOKUP(B15,'Completar SOFSE'!$A$19:$E$354,4,0) -> NUM29010120550N | F15: =VLOOKUP(B15,'Completar SOFSE'!$A$19:$E$354,5,0) -> Tapa de goma. Suspension primaria.Boguie | G15: =VLOOKUP(B15,'Completar SOFSE'!$A$19:$F$354,6,0) -> PL: 2.90.1.01.2055 | J15: =+(C15*H15)*I15 -> 0 | K15: =+C15*H15 -> 0
B16: =+B15+1 -> 2 | C16: =VLOOKUP(B16,'Completar SOFSE'!$A$19:$E$354,2,0) -> 160 | D16: =VLOOKUP(B16,'Completar SOFSE'!$A$19:$E$354,3,0) -> unidad | E16: =VLOOKUP(B16,'Completar SOFSE'!$A$19:$E$354,4,0) -> NUM29040102300N | F16: =VLOOKUP(B16,'Completar SOFSE'!$A$19:$E$354,5,0) -> Kit de reparacion de Valvula distribuidora KE3.22. Sistema neumatico y freno. Coches PUZHEN | G16: =VLOOKUP(B16,'Completar SOFSE'!$A$19:$F$354,6,0) -> RF: SP2962 | J16: =+(C16*H16)*I16 -> 0 | K16: =+C16*H16 -> 0
B17: =+B16+1 -> 3 | C17: =VLOOKUP(B17,'Completar SOFSE'!$A$19:$E$354,2,0) -> 160 | D17: =VLOOKUP(B17,'Completar SOFSE'!$A$19:$E$354,3,0) -> unidad | E17: =VLOOKUP(B17,'Completar SOFSE'!$A$19:$E$354,4,0) -> NUM29040102500N | F17: =VLOOKUP(B17,'Completar SOFSE'!$A$19:$E$354,5,0) -> Kit de reparacion de VALVULA RLV-11D200/12. FRENO KE3 Coche PUZHEN | G17: =VLOOKUP(B17,'Completar SOFSE'!$A$19:$F$354,6,0) -> RF: SP2964 | J17: =+(C17*H17)*I17 -> 0 | K17: =+C17*H17 -> 0
B18: =+B17+1 -> 4 | C18: =VLOOKUP(B18,'Completar SOFSE'!$A$19:$E$354,2,0) -> 1280 | D18: =VLOOKUP(B18,'Completar SOFSE'!$A$19:$E$354,3,0) -> unidad | E18: =VLOOKUP(B18,'Completar SOFSE'!$A$19:$E$354,4,0) -> NUM29040185350N | F18: =VLOOKUP(B18,'Completar SOFSE'!$A$19:$E$354,5,0) -> GUARDAPOLVO DE CILINDRO DE FRENO - COCHE PUZHEN | G18: =VLOOKUP(B18,'Completar SOFSE'!$A$19:$F$354,6,0) -> RF: PDZ 8-00-00-12 | J18: =+(C18*H18)*I18 -> 0 | K18: =+C18*H18 -> 0
B19: =+B18+1 -> 5 | C19: =VLOOKUP(B19,'Completar SOFSE'!$A$19:$E$354,2,0) -> 1280 | D19: =VLOOKUP(B19,'Completar SOFSE'!$A$19:$E$354,3,0) -> unidad | E19: =VLOOKUP(B19,'Completar SOFSE'!$A$19:$E$354,4,0) -> NUM29040185680N | F19: =VLOOKUP(B19,'Completar SOFSE'!$A$19:$E$354,5,0) -> Perno de pivot central del caliper. Coches CSR - Puzhen | G19: =VLOOKUP(B19,'Completar SOFSE'!$A$19:$F$354,6,0) -> PL: 2.90.4.01.8568 A | J19: =+(C19*H19)*I19 -> 0 | K19: =+C19*H19 -> 0
B20: =+B19+1 -> 6 | C20: =VLOOKUP(B20,'Completar SOFSE'!$A$19:$E$354,2,0) -> 10240 | D20: =VLOOKUP(B20,'Completar SOFSE'!$A$19:$E$354,3,0) -> unidad | E20: =VLOOKUP(B20,'Completar SOFSE'!$A$19:$E$354,4,0) -> NUM29040185690N | F20: =VLOOKUP(B20,'Completar SOFSE'!$A$19:$E$354,5,0) -> Buje de caliper tipo E. Coches CSR-Puzhen. | G20: =VLOOKUP(B20,'Completar SOFSE'!$A$19:$F$354,6,0) -> PL: 2.90.4.01.8561 | J20: =+(C20*H20)*I20 -> 0 | K20: =+C20*H20 -> 0
B21: =+B20+1 -> 7 | C21: =VLOOKUP(B21,'Completar SOFSE'!$A$19:$E$354,2,0) -> 2560 | D21: =VLOOKUP(B21,'Completar SOFSE'!$A$19:$E$354,3,0) -> unidad | E21: =VLOOKUP(B21,'Completar SOFSE'!$A$19:$E$354,4,0) -> NUM29040185720N | F21: =VLOOKUP(B21,'Completar SOFSE'!$A$19:$E$354,5,0) -> Perno de sujecion superior corto. Ensamble sujecion superior - caliper. Coches CSR - Puzhen | G21: =VLOOKUP(B21,'Completar SOFSE'!$A$19:$F$354,6,0) -> PL: 2.90.4.01.8572 | J21: =+(C21*H21)*I21 -> 0 | K21: =+C21*H21 -> 0
B22: =+'Completar SOFSE'!A28 -> 8 | C22: =VLOOKUP(B22,'Completar SOFSE'!$A$19:$E$354,2,0) -> 10240 | D22: =VLOOKUP(B22,'Completar SOFSE'!$A$19:$E$354,3,0) -> unidad | E22: =VLOOKUP(B22,'Completar SOFSE'!$A$19:$E$354,4,0) -> NUM29040185730N | F22: =VLOOKUP(B22,'Completar SOFSE'!$A$19:$E$354,5,0) -> Buje de caliper tipo A. Coche CSR Puzhen | G22: =VLOOKUP(B22,'Completar SOFSE'!$A$19:$F$354,6,0) -> PL: 2.90.4.01.8561 | J22: =+(C22*H22)*I22 -> 0 | K22: =+C22*H22 -> 0
B23: =+'Completar SOFSE'!A29 -> 9 | C23: =VLOOKUP(B23,'Completar SOFSE'!$A$19:$E$354,2,0) -> 5120 | D23: =VLOOKUP(B23,'Completar SOFSE'!$A$19:$E$354,3,0) -> unidad | E23: =VLOOKUP(B23,'Completar SOFSE'!$A$19:$E$354,4,0) -> NUM29040185740N | F23: =VLOOKUP(B23,'Completar SOFSE'!$A$19:$E$354,5,0) -> Buje de caliper tipo B. Coche CSR Puzhen | G23: =VLOOKUP(B23,'Completar SOFSE'!$A$19:$F$354,6,0) -> PL: 2.90.4.01.8561 | J23: =+(C23*H23)*I23 -> 0 | K23: =+C23*H23 -> 0
B24: =+'Completar SOFSE'!A30 -> 10 | C24: =VLOOKUP(B24,'Completar SOFSE'!$A$19:$E$354,2,0) -> 2560 | D24: =VLOOKUP(B24,'Completar SOFSE'!$A$19:$E$354,3,0) -> unidad | E24: =VLOOKUP(B24,'Completar SOFSE'!$A$19:$E$354,4,0) -> NUM29040185750N | F24: =VLOOKUP(B24,'Completar SOFSE'!$A$19:$E$354,5,0) -> Perno de sujecion superior largo. Ensamble sujecion superior - Caliper. Coches CSR - Puzhen | G24: =VLOOKUP(B24,'Completar SOFSE'!$A$19:$F$354,6,0) -> PL: 2.90.4.01.8575.A | J24: =+(C24*H24)*I24 -> 0 | K24: =+C24*H24 -> 0
B25: =+'Completar SOFSE'!A31 -> 11 | C25: =VLOOKUP(B25,'Completar SOFSE'!$A$19:$E$354,2,0) -> 2560 | D25: =VLOOKUP(B25,'Completar SOFSE'!$A$19:$E$354,3,0) -> unidad | E25: =VLOOKUP(B25,'Completar SOFSE'!$A$19:$E$354,4,0) -> NUM29040185820N | F25: =VLOOKUP(B25,'Completar SOFSE'!$A$19:$E$354,5,0) -> Perno de sujecion a cuerpo de piston. Articulacion izquierda. Caliper. Coches CSR-Puzhen | G25: =VLOOKUP(B25,'Completar SOFSE'!$A$19:$F$354,6,0) -> PL: 2.90.4.01.8582 | J25: =+(C25*H25)*I25 -> 0 | K25: =+C25*H25 -> 0
B26: =+'Completar SOFSE'!A32 -> 12 | C26: =VLOOKUP(B26,'Completar SOFSE'!$A$19:$E$354,2,0) -> 2560 | D26: =VLOOKUP(B26,'Completar SOFSE'!$A$19:$E$354,3,0) -> unidad | E26: =VLOOKUP(B26,'Completar SOFSE'!$A$19:$E$354,4,0) -> NUM29040185830N | F26: =VLOOKUP(B26,'Completar SOFSE'!$A$19:$E$354,5,0) -> Perno de articulacion central de brazos. Caliper. Coches CSR- Puzhen | G26: =VLOOKUP(B26,'Completar SOFSE'!$A$19:$F$354,6,0) -> PL: 2.90.4.01.8583 | J26: =+(C26*H26)*I26 -> 0 | K26: =+C26*H26 -> 0
B27: =+'Completar SOFSE'!A33 -> 13 | C27: =VLOOKUP(B27,'Completar SOFSE'!$A$19:$E$354,2,0) -> 2560 | D27: =VLOOKUP(B27,'Completar SOFSE'!$A$19:$E$354,3,0) -> unidad | E27: =VLOOKUP(B27,'Completar SOFSE'!$A$19:$E$354,4,0) -> NUM29040185840N | F27: =VLOOKUP(B27,'Completar SOFSE'!$A$19:$E$354,5,0) -> Perno de articulacion de portapastilla. Caliper. Coches CSR - Puzhen | G27: =VLOOKUP(B27,'Completar SOFSE'!$A$19:$F$354,6,0) -> PL: 2.90.4.01.8584 A | J27: =+(C27*H27)*I27 -> 0 | K27: =+C27*H27 -> 0
B28: =+'Completar SOFSE'!A34 -> 14 | C28: =VLOOKUP(B28,'Completar SOFSE'!$A$19:$E$354,2,0) -> 1280 | D28: =VLOOKUP(B28,'Completar SOFSE'!$A$19:$E$354,3,0) -> unidad | E28: =VLOOKUP(B28,'Completar SOFSE'!$A$19:$E$354,4,0) -> NUM29040185870N | F28: =VLOOKUP(B28,'Completar SOFSE'!$A$19:$E$354,5,0) -> Perno de extremo de cilindro. Articulacion derecha. Caliper. Coches CSR Puzhen | G28: =VLOOKUP(B28,'Completar SOFSE'!$A$19:$F$354,6,0) -> PL: 2.90.4.01.8587 A | J28: =+(C28*H28)*I28 -> 0 | K28: =+C28*H28 -> 0
B29: =+'Completar SOFSE'!A35 -> 15 | C29: =VLOOKUP(B29,'Completar SOFSE'!$A$19:$E$354,2,0) -> 5120 | D29: =VLOOKUP(B29,'Completar SOFSE'!$A$19:$E$354,3,0) -> unidad | E29: =VLOOKUP(B29,'Completar SOFSE'!$A$19:$E$354,4,0) -> NUM29040185880N | F29: =VLOOKUP(B29,'Completar SOFSE'!$A$19:$E$354,5,0) -> Buje de caliper tipo C. Coche CSR Puzhen | G29: =VLOOKUP(B29,'Completar SOFSE'!$A$19:$F$354,6,0) -> PL: 2.90.4.01.8561 | J29: =+(C29*H29)*I29 -> 0 | K29: =+C29*H29 -> 0
B30: =+'Completar SOFSE'!A36 -> 16 | C30: =VLOOKUP(B30,'Completar SOFSE'!$A$19:$E$354,2,0) -> 5120 | D30: =VLOOKUP(B30,'Completar SOFSE'!$A$19:$E$354,3,0) -> unidad | E30: =VLOOKUP(B30,'Completar SOFSE'!$A$19:$E$354,4,0) -> NUM29040185890N | F30: =VLOOKUP(B30,'Completar SOFSE'!$A$19:$E$354,5,0) -> Buje de caliper tipo D. Coche CSR Puzhen | G30: =VLOOKUP(B30,'Completar SOFSE'!$A$19:$F$354,6,0) -> PL: 2.90.4.01.8561 | J30: =+(C30*H30)*I30 -> 0 | K30: =+C30*H30 -> 0
B31: =+'Completar SOFSE'!A37 -> 17 | C31: =VLOOKUP(B31,'Completar SOFSE'!$A$19:$E$354,2,0) -> 2560 | D31: =VLOOKUP(B31,'Completar SOFSE'!$A$19:$E$354,3,0) -> unidad | E31: =VLOOKUP(B31,'Completar SOFSE'!$A$19:$E$354,4,0) -> NUM29040185930N | F31: =VLOOKUP(B31,'Completar SOFSE'!$A$19:$E$354,5,0) -> Buje de caliper tipo F. Coche CSR Puzhen | G31: =VLOOKUP(B31,'Completar SOFSE'!$A$19:$F$354,6,0) -> PL: 2.90.4.01.8561 | J31: =+(C31*H31)*I31 -> 0 | K31: =+C31*H31 -> 0
B32: =+'Completar SOFSE'!A38 -> 18 | C32: =VLOOKUP(B32,'Completar SOFSE'!$A$19:$E$354,2,0) -> 1280 | D32: =VLOOKUP(B32,'Completar SOFSE'!$A$19:$E$354,3,0) -> unidad | E32: =VLOOKUP(B32,'Completar SOFSE'!$A$19:$E$354,4,0) -> NUM29040185950N | F32: =VLOOKUP(B32,'Completar SOFSE'!$A$19:$E$354,5,0) -> Escape. Cilindor de freno. Sist. Neumatico y freno. | G32: =VLOOKUP(B32,'Completar SOFSE'!$A$19:$F$354,6,0) -> PL: 2.90.4.01.8595.A | J32: =+(C32*H32)*I32 -> 0 | K32: =+C32*H32 -> 0
B33: =+'Completar SOFSE'!A39 -> 19 | C33: =VLOOKUP(B33,'Completar SOFSE'!$A$19:$E$354,2,0) -> 160 | D33: =VLOOKUP(B33,'Completar SOFSE'!$A$19:$E$354,3,0) -> unidad | E33: =VLOOKUP(B33,'Completar SOFSE'!$A$19:$E$354,4,0) -> NUM29040190020N | F33: =VLOOKUP(B33,'Completar SOFSE'!$A$19:$E$354,5,0) -> Kit de reparacion. Valvula emergencia | G33: =VLOOKUP(B33,'Completar SOFSE'!$A$19:$F$354,6,0) -> RF: SP2759 | J33: =+(C33*H33)*I33 -> 0 | K33: =+C33*H33 -> 0
... B47: =+'Completar SOFSE'!A53 -> 33 | C47: =VLOOKUP(B47,'Completar SOFSE'!$A$19:$E$354,2,0) -> 3 | D47: =VLOOKUP(B47,'Completar SOFSE'!$A$19:$E$354,3,0) -> unidad | E47: =VLOOKUP(B47,'Completar SOFSE'!$A$19:$E$354,4,0) -> NUM96800000010N | F47: =VLOOKUP(B47,'Completar SOFSE'!$A$19:$E$354,5,0) -> (P.C.) - Modulo control de arranque suave grupo motogenerador | G47: =VLOOKUP(B47,'Completar SOFSE'!$A$19:$F$354,6,0) -> RF: DSE501K | J47: =+(C47*H47)*I47 -> 0 | K47: =+C47*H47 -> 0
B48: Subtotal | J48: =SUM(J15:J47) -> 0 | K48: =SUM(K15:K47) -> 0
B49: I.V.A. | K49: =J48 -> 0
B50: TOTAL | K50: =+K48+K49 -> 0
B51: Condición de pago: | D51: =+'Completar SOFSE'!B12 -> Según Artículo 26 del PCP
B52: Plazo de entrega: | D52: =+'Completar SOFSE'!B13 -> Según Artículo 7 del PCP
B53: Lugar de entrega: | D53: =+'Completar SOFSE'!B14 -> Según Artículo 8 del PCP
B54: Mantenimiento de oferta: | D54: =+'Completar SOFSE'!B15 -> Según Artículo 117 del R.C.C.

Sheet Completar SOFSE
A3: Datos del proveedor a completar
H5: Moneda | I5: Pesos Argentinos | K5: I.V.A. | L5: 0.105
A6: Clase de Contratación: | B6: CONTRATACIÓN DIRECTA POR ADJUDICACIÓN SIMPLE POR INSUMOS ESTRATÉGICOS | I6: Dólares Estadounidenses | L6: 0.21
A7: Expendiente: | B7: EX-2019-81618164-APN-SG#SOFSE | I7: Euros | L7: 0.27
A8: Objeto: | B8: ADQUISICIÓN DE REPUESTOS PARA EL MANTENIMIENTO PREVENTIVO MEDIANO DE COCHES CSR PUZHEN DE LA LÍNEA SAN MARTÍN | I8: Otra
A10: Según Pliego:
A11: Adjudicación: | B11: Por renglón
A12: Condición de pago: | B12: Según Artículo 26 del PCP
A13: Plazo de entrega: | B13: Según Artículo 7 del PCP
A14: Lugar de entrega: | B14: Según Artículo 8 del PCP
A15: Mantenimiento de oferta: | B15: Según Artículo 117 del R.C.C.
A17: Items a cotizar:
A19: Item | B19: Cantidad | C19: U/M | D19: Código NUM | E19: Descripción | F19: Refencia de Fábrica
A21: 1 | B21: 960 | C21: unidad | D21: NUM29010120550N | E21: Tapa de goma. Suspension primaria.Boguie | F21: PL: 2.90.1.01.2055
A22: =+A21+1 -> 2 | B22: 160 | C22: unidad | D22: NUM29040102300N | E22: Kit de reparacion de Valvula distribuidora KE3.22. Sistema neumatico y freno. Coches PUZHEN | F22: RF: SP2962
A23: =+A22+1 -> 3 | B23: 160 | C23: unidad | D23: NUM29040102500N | E23: Kit de reparacion de VALVULA RLV-11D200/12. FRENO KE3 Coche PUZHEN | F23: RF: SP2964
A24: =+A23+1 -> 4 | B24: 1280 | C24: unidad | D24: NUM29040185350N | E24: GUARDAPOLVO DE CILINDRO DE FRENO - COCHE PUZHEN | F24: RF: PDZ 8-00-00-12
A25: =+A24+1 -> 5 | B25: 1280 | C25: unidad | D25: NUM29040185680N | E25: Perno de pivot central del caliper. Coches CSR - Puzhen | F25: PL: 2.90.4.01.8568 A
A26: =+A25+1 -> 6 | B26: 10240 | C26: unidad | D26: NUM29040185690N | E26: Buje de caliper tipo E. Coches CSR-Puzhen. | F26: PL: 2.90.4.01.8561
A27: =+A26+1 -> 7 | B27: 2560 | C27: unidad | D27: NUM29040185720N | E27: Perno de sujecion superior corto. Ensamble sujecion superior - caliper. Coches CSR - Puzhen | F27: PL: 2.90.4.01.8572
A28: =+A27+1 -> 8 | B28: 10240 | C28: unidad | D28: NUM29040185730N | E28: Buje de caliper tipo A. Coche CSR Puzhen | F28: PL: 2.90.4.01.8561
A29: =+A28+1 -> 9 | B29: 5120 | C29: unidad | D29: NUM29040185740N | E29: Buje de caliper tipo B. Coche CSR Puzhen | F29: PL: 2.90.4.01.8561
A30: =+A29+1 -> 10 | B30: 2560 | C30: unidad | D30: NUM29040185750N | E30: Perno de sujecion superior largo. Ensamble sujecion superior - Caliper. Coches CSR - Puzhen | F30: PL: 2.90.4.01.8575.A
A31: =+A30+1 -> 11 | B31: 2560 | C31: unidad | D31: NUM29040185820N | E31: Perno de sujecion a cuerpo de piston. Articulacion izquierda. Caliper. Coches CSR-Puzhen | F31: PL: 2.90.4.01.8582
A32: =+A31+1 -> 12 | B32: 2560 | C32: unidad | D32: NUM29040185830N | E32: Perno de articulacion central de brazos. Caliper. Coches CSR- Puzhen | F32: PL: 2.90.4.01.8583
A33: =+A32+1 -> 13 | B33: 2560 | C33: unidad | D33: NUM29040185840N | E33: Perno de articulacion de portapastilla. Caliper. Coches CSR - Puzhen | F33: PL: 2.90.4.01.8584 A
... A53: =+A52+1 -> 33 | B53: 3 | C53: unidad | D53: NUM96800000010N | E53: (P.C.) - Modulo control de arranque suave grupo motogenerador | F53: RF: DSE501K
